BEGIN:VCALENDAR
VERSION:2.0
PRODID:icalendar-ruby
CALSCALE:GREGORIAN
BEGIN:VTIMEZONE
TZID:America/Chicago
BEGIN:DAYLIGHT
DTSTART:20260308T030000
TZOFFSETFROM:-0600
TZOFFSETTO:-0500
RRULE:FREQ=YEARLY;BYDAY=2SU;BYMONTH=3
TZNAME:CDT
END:DAYLIGHT
BEGIN:STANDARD
DTSTART:20261101T010000
TZOFFSETFROM:-0500
TZOFFSETTO:-0600
RRULE:FREQ=YEARLY;BYDAY=1SU;BYMONTH=11
TZNAME:CST
END:STANDARD
END:VTIMEZONE
BEGIN:VEVENT
DTSTAMP:20260421T235249Z
UID:5e9eb920-250e-4220-b62d-2a6ea75e6daa
DTSTART:20260421T150500
DTEND:20260421T160000
DESCRIPTION:
LOCATION:A108
SUMMARY:Robotics & Coding Club- (Pre-Registration Required)
END:VEVENT
BEGIN:VEVENT
DTSTAMP:20260421T235249Z
UID:06ea08b6-3876-424b-8c6c-7f58b15714e5
DTSTART:20260427T173000
DTEND:20260427T193000
DESCRIPTION:
LOCATION:Grapevine-Colleyville ISD\, 3051 Ira E Woods Ave\, Grapevine\, TX 
 76051\, USA
SUMMARY:Board of Trustees Regular Meeting 
END:VEVENT
BEGIN:VEVENT
DTSTAMP:20260421T235249Z
UID:7e5ddfd3-9a01-4b1f-9566-e63c8a600769
DTSTART:20260428T000000
DTEND:20260429T000000
DESCRIPTION:
LOCATION:Math Grades 3-5\, CES-Campus Activities
SUMMARY:Closed Campus for STAAR Testing (No Volunteers\, Guest Lunches or D
 rop-Offs)
END:VEVENT
BEGIN:VEVENT
DTSTAMP:20260421T235249Z
UID:14be06ea-bb30-4236-883e-52fc4d9f04c7
DTSTART:20260428T150500
DTEND:20260428T160000
DESCRIPTION:
LOCATION:A108
SUMMARY:Robotics & Coding Club- (Pre-Registration Required)
END:VEVENT
BEGIN:VEVENT
DTSTAMP:20260421T235249Z
UID:d2db075c-f2d2-421c-9ea7-15ec5ba1228a
DTSTART:20260518T173000
DTEND:20260518T193000
DESCRIPTION:
LOCATION:Grapevine-Colleyville ISD\, 3051 Ira E Woods Ave\, Grapevine\, TX 
 76051\, USA
SUMMARY:Board of Trustees Regular Meeting 
END:VEVENT
BEGIN:VEVENT
DTSTAMP:20260421T235249Z
UID:5e2623a0-47f1-4070-9801-8a3b53e5a63d
DTSTART;VALUE=DATE:20260521
DTEND;VALUE=DATE:20260522
DESCRIPTION:
LOCATION:
SUMMARY:Last Day of School
END:VEVENT
BEGIN:VEVENT
DTSTAMP:20260421T235249Z
UID:074d7b96-9e31-478a-87e3-0a6931c8fa68
DTSTART;VALUE=DATE:20260522
DTEND;VALUE=DATE:20260523
DESCRIPTION:
LOCATION:
SUMMARY:Teacher Work Day - No School
END:VEVENT
BEGIN:VEVENT
DTSTAMP:20260421T235249Z
UID:f5b044b0-73e3-444f-abd6-88856520f26d
DTSTART;VALUE=DATE:20260525
DTEND;VALUE=DATE:20260526
DESCRIPTION:
LOCATION:
SUMMARY:Holiday - No School
END:VEVENT
BEGIN:VEVENT
DTSTAMP:20260421T235249Z
UID:159476f0-6f64-48bc-9939-29a048849e91
DTSTART:20260615T173000
DTEND:20260615T193000
DESCRIPTION:
LOCATION:Grapevine-Colleyville ISD\, 3051 Ira E Woods Ave\, Grapevine\, TX 
 76051\, USA
SUMMARY:Board of Trustees Regular Meeting 
END:VEVENT
BEGIN:VEVENT
DTSTAMP:20260421T235249Z
UID:4a1de7af-217c-46ea-9249-b9fc45b777f9
DTSTART;VALUE=DATE:20260629
DTEND;VALUE=DATE:20260630
DESCRIPTION:
LOCATION:
SUMMARY:Holiday - No School
END:VEVENT
BEGIN:VEVENT
DTSTAMP:20260421T235249Z
UID:03f38a0a-f524-4b56-90fb-ad21b3fe8d32
DTSTART;VALUE=DATE:20260630
DTEND;VALUE=DATE:20260701
DESCRIPTION:
LOCATION:
SUMMARY:Holiday - No School
END:VEVENT
BEGIN:VEVENT
DTSTAMP:20260421T235249Z
UID:5c0693b3-54c3-4f2c-a075-82cf1b080f59
DTSTART:20270128T000000
DTEND:20270129T000000
DESCRIPTION:
LOCATION:
SUMMARY:Mr. Robert's Birthday!
END:VEVENT
BEGIN:VEVENT
DTSTAMP:20260421T235249Z
UID:6c3fec56-1f91-4f78-b2c9-14f3d4dc7238
DTSTART:20280128T000000
DTEND:20280129T000000
DESCRIPTION:
LOCATION:
SUMMARY:Mr. Robert's Birthday!
END:VEVENT
BEGIN:VEVENT
DTSTAMP:20260421T235249Z
UID:141d2696-aa3e-460a-be0d-045acd46d853
DTSTART:20290128T000000
DTEND:20290129T000000
DESCRIPTION:
LOCATION:
SUMMARY:Mr. Robert's Birthday!
END:VEVENT
BEGIN:VEVENT
DTSTAMP:20260421T235249Z
UID:c6bcf944-a03f-492a-b7c6-b53bc684d142
DTSTART:20300128T000000
DTEND:20300129T000000
DESCRIPTION:
LOCATION:
SUMMARY:Mr. Robert's Birthday!
END:VEVENT
BEGIN:VEVENT
DTSTAMP:20260421T235249Z
UID:12bc5b33-eca7-4c86-b976-0f6e649e4833
DTSTART:20310128T000000
DTEND:20310129T000000
DESCRIPTION:
LOCATION:
SUMMARY:Mr. Robert's Birthday!
END:VEVENT
BEGIN:VEVENT
DTSTAMP:20260421T235249Z
UID:4063f99c-ac9f-4446-b702-f908e4e3066e
DTSTART:20320128T000000
DTEND:20320129T000000
DESCRIPTION:
LOCATION:
SUMMARY:Mr. Robert's Birthday!
END:VEVENT
BEGIN:VEVENT
DTSTAMP:20260421T235249Z
UID:f7678c6f-e04e-420c-956a-848e53a202c4
DTSTART:20330128T000000
DTEND:20330129T000000
DESCRIPTION:
LOCATION:
SUMMARY:Mr. Robert's Birthday!
END:VEVENT
BEGIN:VEVENT
DTSTAMP:20260421T235249Z
UID:678f54b9-d78f-4a2b-9798-961bfd00cf99
DTSTART:20340128T000000
DTEND:20340129T000000
DESCRIPTION:
LOCATION:
SUMMARY:Mr. Robert's Birthday!
END:VEVENT
BEGIN:VEVENT
DTSTAMP:20260421T235249Z
UID:6acc4b07-8abc-450d-a751-465e5778f1e8
DTSTART:20350128T000000
DTEND:20350129T000000
DESCRIPTION:
LOCATION:
SUMMARY:Mr. Robert's Birthday!
END:VEVENT
BEGIN:VEVENT
DTSTAMP:20260421T235249Z
UID:e54a3329-7565-41c5-9dc9-917f758ff438
DTSTART:20360128T000000
DTEND:20360129T000000
DESCRIPTION:
LOCATION:
SUMMARY:Mr. Robert's Birthday!
END:VEVENT
BEGIN:VEVENT
DTSTAMP:20260421T235249Z
UID:156e177f-1278-4536-95b6-7daccc1c3bcb
DTSTART:20370128T000000
DTEND:20370129T000000
DESCRIPTION:
LOCATION:
SUMMARY:Mr. Robert's Birthday!
END:VEVENT
BEGIN:VEVENT
DTSTAMP:20260421T235249Z
UID:a216d7a6-fb54-448b-8443-698829c3c2f5
DTSTART:20380128T000000
DTEND:20380129T000000
DESCRIPTION:
LOCATION:
SUMMARY:Mr. Robert's Birthday!
END:VEVENT
BEGIN:VEVENT
DTSTAMP:20260421T235249Z
UID:feb520a0-9e72-47f5-8cde-8d921ce92a0d
DTSTART:20390128T000000
DTEND:20390129T000000
DESCRIPTION:
LOCATION:
SUMMARY:Mr. Robert's Birthday!
END:VEVENT
BEGIN:VEVENT
DTSTAMP:20260421T235249Z
UID:43dfddbe-a6c3-44fd-8f65-f501f7ba48b7
DTSTART:20400128T000000
DTEND:20400129T000000
DESCRIPTION:
LOCATION:
SUMMARY:Mr. Robert's Birthday!
END:VEVENT
BEGIN:VEVENT
DTSTAMP:20260421T235249Z
UID:1f6be04f-09ec-4332-9b3f-3fbab66130e0
DTSTART:20410128T000000
DTEND:20410129T000000
DESCRIPTION:
LOCATION:
SUMMARY:Mr. Robert's Birthday!
END:VEVENT
BEGIN:VEVENT
DTSTAMP:20260421T235249Z
UID:e0996fc8-a98a-489f-831e-efe29b4f3cf6
DTSTART:20420128T000000
DTEND:20420129T000000
DESCRIPTION:
LOCATION:
SUMMARY:Mr. Robert's Birthday!
END:VEVENT
BEGIN:VEVENT
DTSTAMP:20260421T235249Z
UID:2b4dc432-8d8b-4bc4-997a-48d1b3790ca2
DTSTART:20430128T000000
DTEND:20430129T000000
DESCRIPTION:
LOCATION:
SUMMARY:Mr. Robert's Birthday!
END:VEVENT
BEGIN:VEVENT
DTSTAMP:20260421T235249Z
UID:835d9577-dc19-46b4-bf77-f42e06d06aca
DTSTART:20440128T000000
DTEND:20440129T000000
DESCRIPTION:
LOCATION:
SUMMARY:Mr. Robert's Birthday!
END:VEVENT
BEGIN:VEVENT
DTSTAMP:20260421T235249Z
UID:944a3de3-8f13-4dfa-836f-59372881f7a8
DTSTART:20450128T000000
DTEND:20450129T000000
DESCRIPTION:
LOCATION:
SUMMARY:Mr. Robert's Birthday!
END:VEVENT
BEGIN:VEVENT
DTSTAMP:20260421T235249Z
UID:0cb7d924-6b2b-472c-b193-5191717d96dd
DTSTART:20460128T000000
DTEND:20460129T000000
DESCRIPTION:
LOCATION:
SUMMARY:Mr. Robert's Birthday!
END:VEVENT
BEGIN:VEVENT
DTSTAMP:20260421T235249Z
UID:e8ca3431-8bb0-4274-8039-03d7f3dfc309
DTSTART:20470128T000000
DTEND:20470129T000000
DESCRIPTION:
LOCATION:
SUMMARY:Mr. Robert's Birthday!
END:VEVENT
BEGIN:VEVENT
DTSTAMP:20260421T235249Z
UID:707487ea-6592-46de-8e00-19cbd913ae34
DTSTART:20480128T000000
DTEND:20480129T000000
DESCRIPTION:
LOCATION:
SUMMARY:Mr. Robert's Birthday!
END:VEVENT
BEGIN:VEVENT
DTSTAMP:20260421T235249Z
UID:5430b8a0-7da9-4cb5-b538-dacd5a8295bd
DTSTART:20490128T000000
DTEND:20490129T000000
DESCRIPTION:
LOCATION:
SUMMARY:Mr. Robert's Birthday!
END:VEVENT
BEGIN:VEVENT
DTSTAMP:20260421T235249Z
UID:637921e5-75a2-4b67-ab7b-56a95c42d9f1
DTSTART:20500128T000000
DTEND:20500129T000000
DESCRIPTION:
LOCATION:
SUMMARY:Mr. Robert's Birthday!
END:VEVENT
BEGIN:VEVENT
DTSTAMP:20260421T235249Z
UID:43ef7d66-d4c9-40c8-892c-e94a4543e0d8
DTSTART:20510128T000000
DTEND:20510129T000000
DESCRIPTION:
LOCATION:
SUMMARY:Mr. Robert's Birthday!
END:VEVENT
BEGIN:VEVENT
DTSTAMP:20260421T235249Z
UID:f84a04e7-51d6-4235-8cd4-939c59c12cf4
DTSTART:20520128T000000
DTEND:20520129T000000
DESCRIPTION:
LOCATION:
SUMMARY:Mr. Robert's Birthday!
END:VEVENT
BEGIN:VEVENT
DTSTAMP:20260421T235249Z
UID:a74d7e92-3660-43a5-b8f1-44aad15abefd
DTSTART:20530128T000000
DTEND:20530129T000000
DESCRIPTION:
LOCATION:
SUMMARY:Mr. Robert's Birthday!
END:VEVENT
BEGIN:VEVENT
DTSTAMP:20260421T235249Z
UID:d4b01254-a52d-4cfc-87d3-8136cb1e3b13
DTSTART:20540128T000000
DTEND:20540129T000000
DESCRIPTION:
LOCATION:
SUMMARY:Mr. Robert's Birthday!
END:VEVENT
BEGIN:VEVENT
DTSTAMP:20260421T235249Z
UID:1c0bcc17-a243-4875-bcd3-2d3884c80f09
DTSTART:20550128T000000
DTEND:20550129T000000
DESCRIPTION:
LOCATION:
SUMMARY:Mr. Robert's Birthday!
END:VEVENT
BEGIN:VEVENT
DTSTAMP:20260421T235249Z
UID:a190e2ea-b27c-4627-90b7-9730db6366a9
DTSTART:20560128T000000
DTEND:20560129T000000
DESCRIPTION:
LOCATION:
SUMMARY:Mr. Robert's Birthday!
END:VEVENT
BEGIN:VEVENT
DTSTAMP:20260421T235249Z
UID:8fed2ccf-56c3-4303-a107-1c324147cf14
DTSTART:20570128T000000
DTEND:20570129T000000
DESCRIPTION:
LOCATION:
SUMMARY:Mr. Robert's Birthday!
END:VEVENT
BEGIN:VEVENT
DTSTAMP:20260421T235249Z
UID:4ce2ce53-b3f5-47f9-8037-07c9f2a9c9d2
DTSTART:20580128T000000
DTEND:20580129T000000
DESCRIPTION:
LOCATION:
SUMMARY:Mr. Robert's Birthday!
END:VEVENT
BEGIN:VEVENT
DTSTAMP:20260421T235249Z
UID:eff06103-016a-4294-94e3-b752f6982600
DTSTART:20590128T000000
DTEND:20590129T000000
DESCRIPTION:
LOCATION:
SUMMARY:Mr. Robert's Birthday!
END:VEVENT
BEGIN:VEVENT
DTSTAMP:20260421T235249Z
UID:5ca959c8-0542-4a66-bdc0-e8db2c07a380
DTSTART:20600128T000000
DTEND:20600129T000000
DESCRIPTION:
LOCATION:
SUMMARY:Mr. Robert's Birthday!
END:VEVENT
BEGIN:VEVENT
DTSTAMP:20260421T235249Z
UID:91a914b3-5a4b-44f3-bc5c-73316144ecf4
DTSTART:20610128T000000
DTEND:20610129T000000
DESCRIPTION:
LOCATION:
SUMMARY:Mr. Robert's Birthday!
END:VEVENT
BEGIN:VEVENT
DTSTAMP:20260421T235249Z
UID:93087ff4-c652-4f9b-a5dc-517ba71d7c3d
DTSTART:20620128T000000
DTEND:20620129T000000
DESCRIPTION:
LOCATION:
SUMMARY:Mr. Robert's Birthday!
END:VEVENT
BEGIN:VEVENT
DTSTAMP:20260421T235249Z
UID:073d78a0-7805-41db-a790-9a41e4d4c050
DTSTART:20630128T000000
DTEND:20630129T000000
DESCRIPTION:
LOCATION:
SUMMARY:Mr. Robert's Birthday!
END:VEVENT
BEGIN:VEVENT
DTSTAMP:20260421T235249Z
UID:053313cd-3a85-44b4-af7b-c82d7add5417
DTSTART:20640128T000000
DTEND:20640129T000000
DESCRIPTION:
LOCATION:
SUMMARY:Mr. Robert's Birthday!
END:VEVENT
BEGIN:VEVENT
DTSTAMP:20260421T235249Z
UID:5213811a-e5b2-4f8a-8ef6-b296d0843ee3
DTSTART:20650128T000000
DTEND:20650129T000000
DESCRIPTION:
LOCATION:
SUMMARY:Mr. Robert's Birthday!
END:VEVENT
BEGIN:VEVENT
DTSTAMP:20260421T235249Z
UID:7f8dbeb9-6d7c-4a53-b134-ced2a4e1bcaa
DTSTART:20660128T000000
DTEND:20660129T000000
DESCRIPTION:
LOCATION:
SUMMARY:Mr. Robert's Birthday!
END:VEVENT
BEGIN:VEVENT
DTSTAMP:20260421T235249Z
UID:8f2f04f8-71d2-42fc-a356-56b03031e3e0
DTSTART:20670128T000000
DTEND:20670129T000000
DESCRIPTION:
LOCATION:
SUMMARY:Mr. Robert's Birthday!
END:VEVENT
BEGIN:VEVENT
DTSTAMP:20260421T235249Z
UID:119693ea-53cf-4fa2-bb08-43794db26129
DTSTART:20680128T000000
DTEND:20680129T000000
DESCRIPTION:
LOCATION:
SUMMARY:Mr. Robert's Birthday!
END:VEVENT
BEGIN:VEVENT
DTSTAMP:20260421T235249Z
UID:697c270a-21fd-4df6-bd9a-6a6f239cad80
DTSTART:20690128T000000
DTEND:20690129T000000
DESCRIPTION:
LOCATION:
SUMMARY:Mr. Robert's Birthday!
END:VEVENT
BEGIN:VEVENT
DTSTAMP:20260421T235249Z
UID:8b4234ba-a0bd-4e57-9ccb-14858cf484d5
DTSTART:20700128T000000
DTEND:20700129T000000
DESCRIPTION:
LOCATION:
SUMMARY:Mr. Robert's Birthday!
END:VEVENT
BEGIN:VEVENT
DTSTAMP:20260421T235249Z
UID:901be683-a7a7-44a6-abbc-103ead42e252
DTSTART:20710128T000000
DTEND:20710129T000000
DESCRIPTION:
LOCATION:
SUMMARY:Mr. Robert's Birthday!
END:VEVENT
BEGIN:VEVENT
DTSTAMP:20260421T235249Z
UID:58b4a32f-1284-4bbb-ae2f-2e98f28fb32f
DTSTART:20720128T000000
DTEND:20720129T000000
DESCRIPTION:
LOCATION:
SUMMARY:Mr. Robert's Birthday!
END:VEVENT
BEGIN:VEVENT
DTSTAMP:20260421T235249Z
UID:c2d4a7d5-6700-4768-8ad2-f8dd151b5a8e
DTSTART:20730128T000000
DTEND:20730129T000000
DESCRIPTION:
LOCATION:
SUMMARY:Mr. Robert's Birthday!
END:VEVENT
BEGIN:VEVENT
DTSTAMP:20260421T235249Z
UID:cd23255c-dfc0-40d5-bf85-5ddc7384ad4b
DTSTART:20740128T000000
DTEND:20740129T000000
DESCRIPTION:
LOCATION:
SUMMARY:Mr. Robert's Birthday!
END:VEVENT
BEGIN:VEVENT
DTSTAMP:20260421T235249Z
UID:3a0a88c7-1baa-4908-a3b9-0dc9a5c120f3
DTSTART:20750128T000000
DTEND:20750129T000000
DESCRIPTION:
LOCATION:
SUMMARY:Mr. Robert's Birthday!
END:VEVENT
BEGIN:VEVENT
DTSTAMP:20260421T235249Z
UID:a462e5bb-c59a-472f-b403-759f9d122b51
DTSTART:20760128T000000
DTEND:20760129T000000
DESCRIPTION:
LOCATION:
SUMMARY:Mr. Robert's Birthday!
END:VEVENT
BEGIN:VEVENT
DTSTAMP:20260421T235249Z
UID:2925450e-5497-429a-bbac-1a0f5eaf8c73
DTSTART:20770128T000000
DTEND:20770129T000000
DESCRIPTION:
LOCATION:
SUMMARY:Mr. Robert's Birthday!
END:VEVENT
BEGIN:VEVENT
DTSTAMP:20260421T235249Z
UID:f218cfd9-66fe-47e9-9a1d-2591d6456fe0
DTSTART:20780128T000000
DTEND:20780129T000000
DESCRIPTION:
LOCATION:
SUMMARY:Mr. Robert's Birthday!
END:VEVENT
BEGIN:VEVENT
DTSTAMP:20260421T235249Z
UID:52db19e3-b5bd-43cf-ab9a-d18a33f077e3
DTSTART:20790128T000000
DTEND:20790129T000000
DESCRIPTION:
LOCATION:
SUMMARY:Mr. Robert's Birthday!
END:VEVENT
BEGIN:VEVENT
DTSTAMP:20260421T235249Z
UID:283ff230-4255-4ddf-8a38-adc9b96cd6e3
DTSTART:20800128T000000
DTEND:20800129T000000
DESCRIPTION:
LOCATION:
SUMMARY:Mr. Robert's Birthday!
END:VEVENT
BEGIN:VEVENT
DTSTAMP:20260421T235249Z
UID:e0bc72e9-ce2e-48af-8228-0258becd8aa5
DTSTART:20810128T000000
DTEND:20810129T000000
DESCRIPTION:
LOCATION:
SUMMARY:Mr. Robert's Birthday!
END:VEVENT
BEGIN:VEVENT
DTSTAMP:20260421T235249Z
UID:d00d6762-d76d-47a8-9958-78b20ab44125
DTSTART:20820128T000000
DTEND:20820129T000000
DESCRIPTION:
LOCATION:
SUMMARY:Mr. Robert's Birthday!
END:VEVENT
BEGIN:VEVENT
DTSTAMP:20260421T235249Z
UID:a1b4dd33-d123-4492-b6db-e9d0fe858e9d
DTSTART:20830128T000000
DTEND:20830129T000000
DESCRIPTION:
LOCATION:
SUMMARY:Mr. Robert's Birthday!
END:VEVENT
BEGIN:VEVENT
DTSTAMP:20260421T235249Z
UID:07ed7e40-8f22-4024-b5fe-5a013bb08448
DTSTART:20840128T000000
DTEND:20840129T000000
DESCRIPTION:
LOCATION:
SUMMARY:Mr. Robert's Birthday!
END:VEVENT
BEGIN:VEVENT
DTSTAMP:20260421T235249Z
UID:cf53d1f4-dd5c-47ae-8719-9bc275b77a1c
DTSTART:20850128T000000
DTEND:20850129T000000
DESCRIPTION:
LOCATION:
SUMMARY:Mr. Robert's Birthday!
END:VEVENT
BEGIN:VEVENT
DTSTAMP:20260421T235249Z
UID:03be67e0-b40f-42eb-bc41-560a2038d20c
DTSTART:20860128T000000
DTEND:20860129T000000
DESCRIPTION:
LOCATION:
SUMMARY:Mr. Robert's Birthday!
END:VEVENT
BEGIN:VEVENT
DTSTAMP:20260421T235249Z
UID:ac730a56-1d2a-4d64-8442-5f7d31fa74e3
DTSTART:20870128T000000
DTEND:20870129T000000
DESCRIPTION:
LOCATION:
SUMMARY:Mr. Robert's Birthday!
END:VEVENT
BEGIN:VEVENT
DTSTAMP:20260421T235249Z
UID:c95c44d3-cc80-4e93-88f2-e899f25130f9
DTSTART:20880128T000000
DTEND:20880129T000000
DESCRIPTION:
LOCATION:
SUMMARY:Mr. Robert's Birthday!
END:VEVENT
BEGIN:VEVENT
DTSTAMP:20260421T235249Z
UID:84354daa-8b69-445a-baf6-89f6f0976008
DTSTART:20890128T000000
DTEND:20890129T000000
DESCRIPTION:
LOCATION:
SUMMARY:Mr. Robert's Birthday!
END:VEVENT
BEGIN:VEVENT
DTSTAMP:20260421T235249Z
UID:6779b300-d913-4f8b-bd54-ecae6b153fec
DTSTART:20900128T000000
DTEND:20900129T000000
DESCRIPTION:
LOCATION:
SUMMARY:Mr. Robert's Birthday!
END:VEVENT
BEGIN:VEVENT
DTSTAMP:20260421T235249Z
UID:b9181935-ec94-4b53-9e96-a7ca9de6d9c0
DTSTART:20910128T000000
DTEND:20910129T000000
DESCRIPTION:
LOCATION:
SUMMARY:Mr. Robert's Birthday!
END:VEVENT
BEGIN:VEVENT
DTSTAMP:20260421T235249Z
UID:90434bba-04a5-460c-b359-2faf9d974ffc
DTSTART:20920128T000000
DTEND:20920129T000000
DESCRIPTION:
LOCATION:
SUMMARY:Mr. Robert's Birthday!
END:VEVENT
BEGIN:VEVENT
DTSTAMP:20260421T235249Z
UID:62686fe4-4600-4b87-bc1a-0280fce6723a
DTSTART:20930128T000000
DTEND:20930129T000000
DESCRIPTION:
LOCATION:
SUMMARY:Mr. Robert's Birthday!
END:VEVENT
BEGIN:VEVENT
DTSTAMP:20260421T235249Z
UID:026ebcd2-d8ad-4586-9233-1716089fa864
DTSTART:20940128T000000
DTEND:20940129T000000
DESCRIPTION:
LOCATION:
SUMMARY:Mr. Robert's Birthday!
END:VEVENT
BEGIN:VEVENT
DTSTAMP:20260421T235249Z
UID:f9f7932f-61d1-4462-b05e-49a5850da004
DTSTART:20950128T000000
DTEND:20950129T000000
DESCRIPTION:
LOCATION:
SUMMARY:Mr. Robert's Birthday!
END:VEVENT
BEGIN:VEVENT
DTSTAMP:20260421T235249Z
UID:7bd687dc-b092-4382-ac73-b5ecc49e9c6d
DTSTART:20960128T000000
DTEND:20960129T000000
DESCRIPTION:
LOCATION:
SUMMARY:Mr. Robert's Birthday!
END:VEVENT
BEGIN:VEVENT
DTSTAMP:20260421T235249Z
UID:956ff29b-5e4d-4b37-88c4-e0e1d7ee8b96
DTSTART:20970128T000000
DTEND:20970129T000000
DESCRIPTION:
LOCATION:
SUMMARY:Mr. Robert's Birthday!
END:VEVENT
BEGIN:VEVENT
DTSTAMP:20260421T235249Z
UID:4b98d67c-5854-4648-a00c-08b514c101d7
DTSTART:20980128T000000
DTEND:20980129T000000
DESCRIPTION:
LOCATION:
SUMMARY:Mr. Robert's Birthday!
END:VEVENT
BEGIN:VEVENT
DTSTAMP:20260421T235249Z
UID:058309d3-e8e1-4561-b62b-07de66112b3f
DTSTART:20990128T000000
DTEND:20990129T000000
DESCRIPTION:
LOCATION:
SUMMARY:Mr. Robert's Birthday!
END:VEVENT
END:VCALENDAR
