BEGIN:VCALENDAR
VERSION:2.0
PRODID:icalendar-ruby
CALSCALE:GREGORIAN
BEGIN:VTIMEZONE
TZID:America/New_York
BEGIN:DAYLIGHT
DTSTART:20260308T030000
TZOFFSETFROM:-0500
TZOFFSETTO:-0400
RRULE:FREQ=YEARLY;BYDAY=2SU;BYMONTH=3
TZNAME:EDT
END:DAYLIGHT
BEGIN:STANDARD
DTSTART:20261101T010000
TZOFFSETFROM:-0400
TZOFFSETTO:-0500
RRULE:FREQ=YEARLY;BYDAY=1SU;BYMONTH=11
TZNAME:EST
END:STANDARD
END:VTIMEZONE
BEGIN:VEVENT
DTSTAMP:20260425T221411Z
UID:f1672c1c-5ca3-4c7b-819c-da4d261a2c6c
DTSTART:20260427T183000
DTEND:20260427T210000
DESCRIPTION:
LOCATION:
SUMMARY:BOE Meeting
END:VEVENT
BEGIN:VEVENT
DTSTAMP:20260425T221411Z
UID:4e673e56-be1f-4f35-ade1-5466a9f42905
DTSTART;VALUE=DATE:20260501
DTEND;VALUE=DATE:20260502
DESCRIPTION:
LOCATION:
SUMMARY:UB\, Buffalo Naval Museum & Historical Sites Field Trip
END:VEVENT
BEGIN:VEVENT
DTSTAMP:20260425T221411Z
UID:54c11f4e-f1de-4809-a9e1-f4cb1b34c404
DTSTART:20260505T183000
DTEND:20260505T200000
DESCRIPTION:
LOCATION:
SUMMARY:Grade 4-6 Spring Concert
END:VEVENT
BEGIN:VEVENT
DTSTAMP:20260425T221411Z
UID:9a8d4168-f67f-4584-bf6c-f36ca5e5787d
DTSTART:20260506T190000
DTEND:20260506T200000
DESCRIPTION:
LOCATION:
SUMMARY:Grades 6-11 Awards Night (Invite Only)
END:VEVENT
BEGIN:VEVENT
DTSTAMP:20260425T221411Z
UID:cdd79d80-4984-4590-8e4e-718c893782a9
DTSTART:20260511T183000
DTEND:20260511T210000
DESCRIPTION:
LOCATION:
SUMMARY:BOE Meeting
END:VEVENT
BEGIN:VEVENT
DTSTAMP:20260425T221411Z
UID:9877b4d3-6587-4956-8221-1040be5ad8d5
DTSTART:20260512T183000
DTEND:20260512T200000
DESCRIPTION:
LOCATION:
SUMMARY:7-12 Senior Farewell Concert
END:VEVENT
BEGIN:VEVENT
DTSTAMP:20260425T221411Z
UID:a18d259f-4b1e-40c0-843d-10d05ef9eca0
DTSTART;VALUE=DATE:20260514
DTEND;VALUE=DATE:20260517
DESCRIPTION:
LOCATION:
SUMMARY:FFA State Convention
END:VEVENT
BEGIN:VEVENT
DTSTAMP:20260425T221411Z
UID:9ca6172d-6540-42a6-891d-99edec5a008f
DTSTART:20260515T180000
DTEND:20260515T200000
DESCRIPTION:
LOCATION:
SUMMARY:Middle School Dance
END:VEVENT
BEGIN:VEVENT
DTSTAMP:20260425T221411Z
UID:81ea8137-6eee-45e0-8c3f-63706353112b
DTSTART:20260519T170000
DTEND:20260519T200000
DESCRIPTION:
LOCATION:
SUMMARY:District Wide Art Show
END:VEVENT
BEGIN:VEVENT
DTSTAMP:20260425T221411Z
UID:fed18f39-30c7-447f-9e79-9372604ee2b6
DTSTART;VALUE=DATE:20260521
DTEND;VALUE=DATE:20260522
DESCRIPTION:
LOCATION:
SUMMARY:Progress Report 4
END:VEVENT
BEGIN:VEVENT
DTSTAMP:20260425T221411Z
UID:148368fb-d7d3-4599-afd3-8d164cd161d1
DTSTART:20260521T183000
DTEND:20260521T203000
DESCRIPTION:
LOCATION:
SUMMARY:FFA Banquet
END:VEVENT
BEGIN:VEVENT
DTSTAMP:20260425T221411Z
UID:49abe6c3-e317-4959-9aed-522bf1875d0a
DTSTART;VALUE=DATE:20260522
DTEND;VALUE=DATE:20260523
DESCRIPTION:
LOCATION:
SUMMARY:Memorial Day Break -- No School
END:VEVENT
BEGIN:VEVENT
DTSTAMP:20260425T221411Z
UID:73abf94c-5a95-4511-ab74-1b7ab35ee443
DTSTART;VALUE=DATE:20260523
DTEND;VALUE=DATE:20260524
DESCRIPTION:
LOCATION:
SUMMARY:Prom
END:VEVENT
BEGIN:VEVENT
DTSTAMP:20260425T221411Z
UID:b4e489a2-1147-44cc-a54a-2df843f3f125
DTSTART;VALUE=DATE:20260525
DTEND;VALUE=DATE:20260526
DESCRIPTION:
LOCATION:
SUMMARY:Memorial Day -- No School
END:VEVENT
BEGIN:VEVENT
DTSTAMP:20260425T221411Z
UID:de23bf0c-3cac-4f08-bf2e-e9ca1e8f8727
DTSTART:20260531T110000
DTEND:20260531T170000
DESCRIPTION:
LOCATION:
SUMMARY:PTO Color Run
END:VEVENT
BEGIN:VEVENT
DTSTAMP:20260425T221411Z
UID:7f905ce4-dd75-4661-8952-8d61a4d46b57
DTSTART:20260601T173000
DTEND:20260601T183000
DESCRIPTION:
LOCATION:
SUMMARY:ECHS Senior Night
END:VEVENT
BEGIN:VEVENT
DTSTAMP:20260425T221411Z
UID:689c1ad6-12c9-438d-8754-e125568d3cce
DTSTART:20260601T183000
DTEND:20260601T210000
DESCRIPTION:
LOCATION:
SUMMARY:BOE Meeting
END:VEVENT
BEGIN:VEVENT
DTSTAMP:20260425T221411Z
UID:c9d5bd20-b694-407e-8092-ea2baf3cbcdd
DTSTART;VALUE=DATE:20260609
DTEND;VALUE=DATE:20260610
DESCRIPTION:
LOCATION:
SUMMARY:NO SCHOOL -- Grades 6-12 ONLY
END:VEVENT
BEGIN:VEVENT
DTSTAMP:20260425T221411Z
UID:394427f8-451f-4e72-b06b-3f14d7685d5e
DTSTART:20260615T183000
DTEND:20260615T210000
DESCRIPTION:
LOCATION:
SUMMARY:BOE Meeting
END:VEVENT
BEGIN:VEVENT
DTSTAMP:20260425T221411Z
UID:c25702ec-24d1-41bd-b0d0-718c1ccc9eeb
DTSTART;VALUE=DATE:20260619
DTEND;VALUE=DATE:20260620
DESCRIPTION:
LOCATION:
SUMMARY:Juneteenth -- No School
END:VEVENT
BEGIN:VEVENT
DTSTAMP:20260425T221411Z
UID:fdd63de9-4450-4b27-80c5-a3e32111f112
DTSTART;VALUE=DATE:20260626
DTEND;VALUE=DATE:20260627
DESCRIPTION:
LOCATION:
SUMMARY:End of Qtr 4
END:VEVENT
END:VCALENDAR
