BEGIN:VCALENDAR
VERSION:2.0
PRODID:icalendar-ruby
CALSCALE:GREGORIAN
BEGIN:VTIMEZONE
TZID:America/Chicago
BEGIN:DAYLIGHT
DTSTART:20260308T030000
TZOFFSETFROM:-0600
TZOFFSETTO:-0500
RRULE:FREQ=YEARLY;BYDAY=2SU;BYMONTH=3
TZNAME:CDT
END:DAYLIGHT
BEGIN:STANDARD
DTSTART:20261101T010000
TZOFFSETFROM:-0500
TZOFFSETTO:-0600
RRULE:FREQ=YEARLY;BYDAY=1SU;BYMONTH=11
TZNAME:CST
END:STANDARD
END:VTIMEZONE
BEGIN:VEVENT
DTSTAMP:20260425T174831Z
UID:81b7eba2-fd28-41b4-9eb8-00a09fcaa528
DTSTART;VALUE=DATE:20260501
DTEND;VALUE=DATE:20260502
DESCRIPTION:
LOCATION:
SUMMARY:SIP Day - Early Release (12:00)
END:VEVENT
BEGIN:VEVENT
DTSTAMP:20260425T174831Z
UID:dd0f1f1f-9ad7-4fde-8b37-5c508bfc038a
DTSTART:20260521T190000
DTEND:20260521T200000
DESCRIPTION:
LOCATION:
SUMMARY:PJHS Graduation
END:VEVENT
BEGIN:VEVENT
DTSTAMP:20260425T174831Z
UID:c7b6ba5a-05fd-4e87-b921-83e02263f16b
DTSTART;VALUE=DATE:20260525
DTEND;VALUE=DATE:20260526
DESCRIPTION:
LOCATION:
SUMMARY:Memorial Day - No School
END:VEVENT
BEGIN:VEVENT
DTSTAMP:20260425T174831Z
UID:470956cb-3290-4802-80b9-576d8387b422
DTSTART;VALUE=DATE:20260603
DTEND;VALUE=DATE:20260604
DESCRIPTION:
LOCATION:
SUMMARY:SIP Day - Last Day of School (12:00 Dismissal)
END:VEVENT
END:VCALENDAR
