BEGIN:VCALENDAR
VERSION:2.0
PRODID:icalendar-ruby
CALSCALE:GREGORIAN
BEGIN:VTIMEZONE
TZID:America/Chicago
BEGIN:DAYLIGHT
DTSTART:20260308T030000
TZOFFSETFROM:-0600
TZOFFSETTO:-0500
RRULE:FREQ=YEARLY;BYDAY=2SU;BYMONTH=3
TZNAME:CDT
END:DAYLIGHT
BEGIN:STANDARD
DTSTART:20261101T010000
TZOFFSETFROM:-0500
TZOFFSETTO:-0600
RRULE:FREQ=YEARLY;BYDAY=1SU;BYMONTH=11
TZNAME:CST
END:STANDARD
END:VTIMEZONE
BEGIN:VEVENT
DTSTAMP:20260424T163255Z
UID:877c3119-c658-45ec-8277-f81cd540f105
DTSTART;VALUE=DATE:20260424
DTEND;VALUE=DATE:20260425
DESCRIPTION:<p>Friday Early Dismissal Schedule:<br><br>Primary - 12:40 p.m.
 <br><br>Elem 1:00 p.m.<br><br>Middle School 1:45 p.m.<br><br>Intermediate 
 2:30 p.m.</p>
LOCATION:
SUMMARY:Friday Early Dismissal Schedule
END:VEVENT
BEGIN:VEVENT
DTSTAMP:20260424T163255Z
UID:3fce0a07-fbd8-49fe-af2f-c69de127ebbd
DTSTART:20260424T133000
DTEND:20260424T143000
DESCRIPTION:<p><span>Join Primary School’s Tech Integration/Media Special
 ist\, Ms. D\, for a hands-on afternoon of STEM activities with your child!
 </span></p>
LOCATION:17366 W Gages Lake Rd\, Grayslake\, IL 60030\, USA
SUMMARY:Primary School Playdate 
END:VEVENT
BEGIN:VEVENT
DTSTAMP:20260424T163255Z
UID:e96020bb-a9cd-43c0-977f-44b0bfe3a8c6
DTSTART:20260425T080000
DTEND:20260425T110000
DESCRIPTION:<a href="https://docs.google.com/forms/d/e/1FAIpQLSdHcRZsZPJIAR
 NtGy6aUhV1qazpB0snJIa88COX0Cmb8fzgPw/viewform">Register for the Career Fai
 r</a> using this form!
LOCATION:Woodland Educational Support\, 1115 Hunt Club Rd\, Gurnee\, IL 600
 31\, USA
SUMMARY:Woodland Career Fair
END:VEVENT
BEGIN:VEVENT
DTSTAMP:20260424T163255Z
UID:982966b1-a8f2-4247-8070-7a4bc45affcf
DTSTART:20260427T173000
DTEND:20260427T190000
DESCRIPTION:<p><span>This is an event for </span>parents and caregivers of 
 <span>incoming kindergarteners\, with a presentation that will provide an 
 overview of our programs.</span></p><p><span>Monolingual &amp\; Dual Langu
 age</span></p>
LOCATION:17366 W Gages Lake Rd\, Grayslake\, IL 60030\, USA
SUMMARY:Primary: Incoming Kindergarten Information Presentation 
END:VEVENT
BEGIN:VEVENT
DTSTAMP:20260424T163255Z
UID:f5703748-cbc6-402d-a605-34fc71adffd4
DTSTART:20260428T180000
DTEND:20260428T193000
DESCRIPTION:<p><strong><b>Woodland Elementary Parent Meet Up</b></strong><b
 r>Join us for a free evening event for Parents and Guardians to gather\, c
 onnect\, and build community!</p><ul><li><p>Opportunities to Meet Other Pa
 rents</p></li><li><p>Optional Activities to Spark Conversation</p></li><li
 ><p>Light Refreshments</p></li><li><p>Meaningful Conversation in a Relaxed
  Setting</p></li></ul><p>DATE: Tuesday\, April 28</p><p>TIME: 6 - 7:30 p.m
 .</p><p>Location: Woodland Elementary School</p><p><a target="_blank" href
 ="https://aptg.co/VbvkYn">Flyer in English and Spanish</a><br><a target="_
 blank" href="https://docs.google.com/forms/d/e/1FAIpQLSdd7IPxGb3qRhomQfvEQ
 cK5MjyYKlqXUwZNwB2IfLrQRqJUsA/viewform">Register for Event</a></p><p><em>A
 n engaged parent community benefits our students!</em><br><em>When familie
 s connect\, our school grows stronger.</em></p>
LOCATION:Woodland Elementary School\, 17371 W Gages Lake Rd\, Gages Lake\, 
 IL 60030\, USA
SUMMARY:Elementary Parent Meet Up
END:VEVENT
BEGIN:VEVENT
DTSTAMP:20260424T163255Z
UID:cf072d33-b0f5-4c7f-ab68-e8ef8bb6c1b4
DTSTART:20260429T180000
DTEND:20260429T193000
DESCRIPTION:<p>Parent University is teaming up with the Dual Language Immer
 sion Program to bring you free webinars offering support for your Dual Lan
 guage Learner over the summer. Join us on April 29 at 6 p.m. from the comf
 ort of your home to learn from Woodland's Dual Language teachers!</p><p>Se
 lect from the following sessions:</p><ul><li><p>Supporting Middle School D
 ual Language Learners in continuing their biliteracy over the summer. Pres
 ented by  Margarita Castrejon</p></li><li><p>Supporting Primary Dual Langu
 age Learners in continuing their biliteracy over the summer (in Spanish). 
 Presented by  Roxana Troncozo</p></li><li><p>Keeping Bilingual Brains Lear
 ning. Presented by Sherri Peck and Rocio Rangel<br></p></li></ul><a href="
 https://docs.google.com/forms/d/e/1FAIpQLSexsy3HDGwRVYP0M4SK4T_UDaMSZzCt6W
 iE2v-46oAk-awWeA/viewform">Register HERE</a>!
LOCATION:Virtual Sessions - Register for Link
SUMMARY:Virtual Sessions: Keeping Kids Learning Over the Summer
END:VEVENT
BEGIN:VEVENT
DTSTAMP:20260424T163255Z
UID:f51ff5f4-67bb-44d1-85f4-f33f916112eb
DTSTART;VALUE=DATE:20260501
DTEND;VALUE=DATE:20260502
DESCRIPTION:<p>Friday Early Dismissal Schedule:<br><br>Primary - 12:40 p.m.
 <br><br>Elem 1:00 p.m.<br><br>Middle School 1:45 p.m.<br><br>Intermediate 
 2:30 p.m.</p>
LOCATION:
SUMMARY:Friday Early Dismissal Schedule
END:VEVENT
BEGIN:VEVENT
DTSTAMP:20260424T163255Z
UID:1d66ede7-dbf7-4e24-aa1f-974f24929d12
DTSTART:20260502T113000
DTEND:20260502T143000
DESCRIPTION:<p>Save The Date- Details Coming Soon!</p>
LOCATION:7000 W Washington St\, Gurnee\, IL 60031\, USA
SUMMARY:Asian American and Pacific Islander Heritage Month Celebration
END:VEVENT
BEGIN:VEVENT
DTSTAMP:20260424T163255Z
UID:6f62cc4c-ea1f-4df2-a029-57b8962c5205
DTSTART:20260505T180000
DTEND:20260505T193000
DESCRIPTION:
LOCATION:Woodland Middle School\, 7000 W Washington St\, Gurnee\, IL 60031\
 , USA
SUMMARY:WMS Choir Concert
END:VEVENT
BEGIN:VEVENT
DTSTAMP:20260424T163255Z
UID:56d33c23-c80b-4205-9f7d-2f8dd4dd9577
DTSTART:20260507T180000
DTEND:20260507T193000
DESCRIPTION:
LOCATION:Woodland Middle School\, 7000 W Washington St\, Gurnee\, IL 60031\
 , USA
SUMMARY:5th - 8th Grade Bands Spring Concert
END:VEVENT
BEGIN:VEVENT
DTSTAMP:20260424T163255Z
UID:b79e05e7-249b-41c0-9c53-7e2af6bda1bd
DTSTART;VALUE=DATE:20260508
DTEND;VALUE=DATE:20260509
DESCRIPTION:<p>Friday Early Dismissal Schedule:<br><br>Primary - 12:40 p.m.
 <br><br>Elem 1:00 p.m.<br><br>Middle School 1:45 p.m.<br><br>Intermediate 
 2:30 p.m.</p>
LOCATION:
SUMMARY:Friday Early Dismissal Schedule
END:VEVENT
BEGIN:VEVENT
DTSTAMP:20260424T163255Z
UID:0c0021e5-5d15-41be-8277-376cabf724ec
DTSTART:20260511T190000
DTEND:20260511T200000
DESCRIPTION:Watch for the signup genius link\, or email dist50pta@gmail.co
 m for the zoom link to attend the meeting.
LOCATION:
SUMMARY:PTA Meeting (Virtual)
END:VEVENT
BEGIN:VEVENT
DTSTAMP:20260424T163255Z
UID:e8bf52eb-6cce-43f5-afcd-f9907e16579f
DTSTART;VALUE=DATE:20260515
DTEND;VALUE=DATE:20260516
DESCRIPTION:<p>Friday Early Dismissal Schedule:<br><br>Primary - 12:40 p.m.
 <br><br>Elem 1:00 p.m.<br><br>Middle School 1:45 p.m.<br><br>Intermediate 
 2:30 p.m.</p>
LOCATION:
SUMMARY:Friday Early Dismissal Schedule
END:VEVENT
BEGIN:VEVENT
DTSTAMP:20260424T163255Z
UID:c9dc4c78-f50d-4231-8bbc-e23d09d9bab1
DTSTART:20260516T100000
DTEND:20260516T120000
DESCRIPTION:<p><span>Join us for an Open House event for incoming kindergar
 ten families! Tour the school and ride the bus to help prepare for the sch
 ool year.</span></p>
LOCATION:17366 W Gages Lake Rd\, Grayslake\, IL 60030\, USA
SUMMARY:Primary: Incoming Kindergarten Sneak Peek! 
END:VEVENT
BEGIN:VEVENT
DTSTAMP:20260424T163255Z
UID:68e7c453-74df-41b6-8e0d-dbba2be36e2e
DTSTART;VALUE=DATE:20260522
DTEND;VALUE=DATE:20260523
DESCRIPTION:<p>Friday Early Dismissal Schedule:<br><br>Primary - 12:40 p.m.
 <br><br>Elem 1:00 p.m.<br><br>Middle School 1:45 p.m.<br><br>Intermediate 
 2:30 p.m.</p>
LOCATION:
SUMMARY:Friday Early Dismissal Schedule
END:VEVENT
BEGIN:VEVENT
DTSTAMP:20260424T163255Z
UID:12e48268-ccda-4706-9de4-cc8fdbd2269a
DTSTART;VALUE=DATE:20260525
DTEND;VALUE=DATE:20260526
DESCRIPTION:
LOCATION:
SUMMARY:Memorial Day: District Closed 
END:VEVENT
BEGIN:VEVENT
DTSTAMP:20260424T163255Z
UID:4595fc44-e974-466c-a0a2-9fdb2dc57a87
DTSTART:20260526T180000
DTEND:20260526T193000
DESCRIPTION:
LOCATION:7000 W Washington St\, Gurnee\, IL 60031\, USA
SUMMARY:WMS  - Promotion Ceremony 
END:VEVENT
BEGIN:VEVENT
DTSTAMP:20260424T163255Z
UID:6ae8f28b-ed79-435e-b33c-1857de680b1e
DTSTART:20260527T180000
DTEND:20260527T193000
DESCRIPTION:
LOCATION:7000 W Washington St\, Gurnee\, IL 60031\, USA
SUMMARY:WMS - Promotion Ceremony 
END:VEVENT
BEGIN:VEVENT
DTSTAMP:20260424T163255Z
UID:7723e338-3abb-41f0-ad82-2e32ff2a6365
DTSTART:20260528T180000
DTEND:20260528T210000
DESCRIPTION:<p>Meetings are streamed on<strong> </strong><a target="_blank"
  rel="noopener noreferrer nofollow" href="https://www.youtube.com/channel/
 UCoPwYawoj-1bYdnQ7hJQbUQ/live"><strong>Woodland Live</strong></a></p><p>Pl
 ease note: The meeting starts at 6 p.m.\, but the first item on the agenda
  is a closed session. The public meeting will begin immediately following 
 the closed session when the Board of Education returns to open session at 
 approximately 7 p.m.</p>
LOCATION:1115 Hunt Club Rd\, Gurnee\, IL 60031\, USA
SUMMARY:Woodland D50 Board of Education Meeting 
END:VEVENT
BEGIN:VEVENT
DTSTAMP:20260424T163255Z
UID:2374fe7c-aba5-4e26-b1cb-15be8e046467
DTSTART;VALUE=DATE:20260601
DTEND;VALUE=DATE:20260602
DESCRIPTION:Updated to reflect one emergency closure due to winter weather.
LOCATION:
SUMMARY:Last Day of School (Half Day)
END:VEVENT
BEGIN:VEVENT
DTSTAMP:20260424T163255Z
UID:889db42c-99a2-4cc2-b67c-023bfec9595f
DTSTART;VALUE=DATE:20260602
DTEND;VALUE=DATE:20260606
DESCRIPTION:
LOCATION:
SUMMARY:Emergency Days If Needed 
END:VEVENT
BEGIN:VEVENT
DTSTAMP:20260424T163255Z
UID:3f35c792-5582-4efd-b05e-89c56cc0f639
DTSTART;VALUE=DATE:20260619
DTEND;VALUE=DATE:20260620
DESCRIPTION:
LOCATION:
SUMMARY:Juneteenth: District Closed 
END:VEVENT
BEGIN:VEVENT
DTSTAMP:20260424T163255Z
UID:475cdf6e-8976-4e12-af10-66eeae0c96a9
DTSTART:20260625T180000
DTEND:20260625T210000
DESCRIPTION:<p>Meetings are streamed on<strong> </strong><a target="_blank"
  rel="noopener noreferrer nofollow" href="https://www.youtube.com/channel/
 UCoPwYawoj-1bYdnQ7hJQbUQ/live"><strong>Woodland Live</strong></a></p><p>Pl
 ease note: The meeting starts at 6 p.m.\, but the first item on the agenda
  is a closed session. The public meeting will begin immediately following 
 the closed session when the Board of Education returns to open session at 
 approximately 7 p.m.</p>
LOCATION:1115 Hunt Club Rd\, Gurnee\, IL 60031\, USA
SUMMARY:Woodland D50 Board of Education Meeting 
END:VEVENT
END:VCALENDAR
