BEGIN:VCALENDAR
VERSION:2.0
PRODID:icalendar-ruby
CALSCALE:GREGORIAN
BEGIN:VTIMEZONE
TZID:America/Chicago
BEGIN:DAYLIGHT
DTSTART:20260308T030000
TZOFFSETFROM:-0600
TZOFFSETTO:-0500
RRULE:FREQ=YEARLY;BYDAY=2SU;BYMONTH=3
TZNAME:CDT
END:DAYLIGHT
BEGIN:STANDARD
DTSTART:20261101T010000
TZOFFSETFROM:-0500
TZOFFSETTO:-0600
RRULE:FREQ=YEARLY;BYDAY=1SU;BYMONTH=11
TZNAME:CST
END:STANDARD
END:VTIMEZONE
BEGIN:VEVENT
DTSTAMP:20260420T023737Z
UID:dca87636-075b-46fc-9c64-a7d5dd021c46
DTSTART:20260421T144500
DTEND:20260421T154500
DESCRIPTION:
LOCATION:
SUMMARY:Track Meet @ EAWR HS
END:VEVENT
BEGIN:VEVENT
DTSTAMP:20260420T023737Z
UID:8bbb5b61-46be-4352-8855-ec638ea0d2c5
DTSTART:20260422T153000
DTEND:20260422T163000
DESCRIPTION:
LOCATION:
SUMMARY:Track Meet @ Roxana
END:VEVENT
BEGIN:VEVENT
DTSTAMP:20260420T023737Z
UID:969ff5e7-3de9-4685-bd28-2300bdcf0c76
DTSTART:20260423T144500
DTEND:20260423T163000
DESCRIPTION:
LOCATION:
SUMMARY:Oiler Market
END:VEVENT
BEGIN:VEVENT
DTSTAMP:20260420T023737Z
UID:67e58358-c2f0-4216-b6d0-3017a73add49
DTSTART;VALUE=DATE:20260424
DTEND;VALUE=DATE:20260425
DESCRIPTION:
LOCATION:
SUMMARY:Early Dismissal 11:30/Teacher Institute
END:VEVENT
BEGIN:VEVENT
DTSTAMP:20260420T023737Z
UID:f05d65e5-1311-44db-a716-6071b1fb814a
DTSTART:20260424T080000
DTEND:20260424T113000
DESCRIPTION:
LOCATION:
SUMMARY:Career Day (EAMS)
END:VEVENT
BEGIN:VEVENT
DTSTAMP:20260420T023737Z
UID:467b9348-c399-4558-95f5-c0476711cc6c
DTSTART:20260428T141500
DTEND:20260428T151500
DESCRIPTION:
LOCATION:
SUMMARY:Track Meet @ EAWR HS
END:VEVENT
BEGIN:VEVENT
DTSTAMP:20260420T023737Z
UID:924cd996-3679-409d-8758-947eaac0d2ee
DTSTART:20260430T144500
DTEND:20260430T163000
DESCRIPTION:
LOCATION:
SUMMARY:Oiler Market
END:VEVENT
BEGIN:VEVENT
DTSTAMP:20260420T023737Z
UID:2ebbe295-dd0a-4c60-a9cf-3bececa08ef5
DTSTART:20260430T173000
DTEND:20260430T190000
DESCRIPTION:
LOCATION:
SUMMARY:EW Lit Night
END:VEVENT
BEGIN:VEVENT
DTSTAMP:20260420T023737Z
UID:6b0dc0e4-c8a2-4754-8121-623c090cd41d
DTSTART:20260502T090000
DTEND:20260502T100000
DESCRIPTION:
LOCATION:
SUMMARY:Track Meet @ Highland
END:VEVENT
BEGIN:VEVENT
DTSTAMP:20260420T023737Z
UID:891627cd-8599-44d8-b3de-a81342c510b5
DTSTART:20260504T143000
DTEND:20260508T153000
DESCRIPTION:
LOCATION:
SUMMARY:cheer tryouts 
END:VEVENT
BEGIN:VEVENT
DTSTAMP:20260420T023737Z
UID:4b5dc18d-c609-4691-8dc3-0f69851150c8
DTSTART:20260505T153000
DTEND:20260505T163000
DESCRIPTION:
LOCATION:
SUMMARY:Track Meet @ Granite
END:VEVENT
BEGIN:VEVENT
DTSTAMP:20260420T023737Z
UID:e5380964-7b1c-4348-be61-28759137d84f
DTSTART:20260506T180000
DTEND:20260506T190000
DESCRIPTION:
LOCATION:
SUMMARY:Band/Chorus Concert
END:VEVENT
BEGIN:VEVENT
DTSTAMP:20260420T023737Z
UID:0f422bae-1306-4ec5-9853-759673b49def
DTSTART:20260507T144500
DTEND:20260507T163000
DESCRIPTION:
LOCATION:
SUMMARY:Oiler Market
END:VEVENT
BEGIN:VEVENT
DTSTAMP:20260420T023737Z
UID:092e115b-a276-4526-a68e-8f552752f277
DTSTART:20260514T144500
DTEND:20260514T163000
DESCRIPTION:
LOCATION:
SUMMARY:Oiler Market
END:VEVENT
BEGIN:VEVENT
DTSTAMP:20260420T023737Z
UID:93849ca7-f811-4c7c-a11c-d01027023cc0
DTSTART:20260514T180000
DTEND:20260514T190000
DESCRIPTION:
LOCATION:
SUMMARY:8th grade Graduation
END:VEVENT
BEGIN:VEVENT
DTSTAMP:20260420T023737Z
UID:731a8f74-4966-4b13-aeda-8cbd0b296085
DTSTART;VALUE=DATE:20260521
DTEND;VALUE=DATE:20260522
DESCRIPTION:
LOCATION:
SUMMARY:EW  Field Day 
END:VEVENT
BEGIN:VEVENT
DTSTAMP:20260420T023737Z
UID:37e46e50-2e86-47b2-8d8c-610665f098a2
DTSTART;VALUE=DATE:20260522
DTEND;VALUE=DATE:20260523
DESCRIPTION:
LOCATION:
SUMMARY:Early Dismissal 11:30/Teacher Institute
END:VEVENT
BEGIN:VEVENT
DTSTAMP:20260420T023737Z
UID:53b7cc41-9317-4746-af00-3b51c9d7470b
DTSTART;VALUE=DATE:20260522
DTEND;VALUE=DATE:20260523
DESCRIPTION:
LOCATION:
SUMMARY:Last day with no emergency days
END:VEVENT
BEGIN:VEVENT
DTSTAMP:20260420T023737Z
UID:581eab9a-fa46-49cb-8944-1ea3c73aecf2
DTSTART;VALUE=DATE:20260817
DTEND;VALUE=DATE:20260818
DESCRIPTION:
LOCATION:
SUMMARY:Teacher Institute - No Students
END:VEVENT
BEGIN:VEVENT
DTSTAMP:20260420T023737Z
UID:84245175-019a-4f75-86a5-c0a4d07cb6ec
DTSTART;VALUE=DATE:20260818
DTEND;VALUE=DATE:20260819
DESCRIPTION:
LOCATION:
SUMMARY:Teacher Institute - No Students
END:VEVENT
BEGIN:VEVENT
DTSTAMP:20260420T023737Z
UID:1a8f48de-ff0d-4a88-91f7-9965fa4a2d94
DTSTART;VALUE=DATE:20260819
DTEND;VALUE=DATE:20260820
DESCRIPTION:
LOCATION:
SUMMARY:First Day for Students - dismissal
END:VEVENT
BEGIN:VEVENT
DTSTAMP:20260420T023737Z
UID:e494b9a7-3650-46fc-9fa1-af0d74a953f9
DTSTART:20260820T144500
DTEND:20260820T163000
DESCRIPTION:
LOCATION:
SUMMARY:Oiler Market
END:VEVENT
BEGIN:VEVENT
DTSTAMP:20260420T023737Z
UID:233f93fa-e22e-4610-9728-67d7e7695657
DTSTART:20260827T144500
DTEND:20260827T163000
DESCRIPTION:
LOCATION:
SUMMARY:Oiler Market
END:VEVENT
BEGIN:VEVENT
DTSTAMP:20260420T023737Z
UID:20fda51b-4b14-48f8-a66e-6be3737bd15a
DTSTART:20260903T144500
DTEND:20260903T163000
DESCRIPTION:
LOCATION:
SUMMARY:Oiler Market
END:VEVENT
BEGIN:VEVENT
DTSTAMP:20260420T023737Z
UID:91fb98d1-8902-4d15-b6da-d0867eb0a143
DTSTART;VALUE=DATE:20260907
DTEND;VALUE=DATE:20260908
DESCRIPTION:
LOCATION:
SUMMARY:No School - Labor Day
END:VEVENT
BEGIN:VEVENT
DTSTAMP:20260420T023737Z
UID:6d3d7aae-90da-4447-b94c-3e5941fec35f
DTSTART:20260910T144500
DTEND:20260910T163000
DESCRIPTION:
LOCATION:
SUMMARY:Oiler Market
END:VEVENT
BEGIN:VEVENT
DTSTAMP:20260420T023737Z
UID:06cdd9a5-f298-4188-b702-ef5be96f7b42
DTSTART;VALUE=DATE:20260911
DTEND;VALUE=DATE:20260912
DESCRIPTION:
LOCATION:
SUMMARY:EW Grandparents Day Lunch
END:VEVENT
BEGIN:VEVENT
DTSTAMP:20260420T023737Z
UID:c0a64f43-98e3-4b91-8844-06163cf409b2
DTSTART:20260917T144500
DTEND:20260917T163000
DESCRIPTION:
LOCATION:
SUMMARY:Oiler Market
END:VEVENT
BEGIN:VEVENT
DTSTAMP:20260420T023737Z
UID:3d730bde-fbc3-4575-9922-295fbc8ebbdb
DTSTART:20260924T144500
DTEND:20260924T163000
DESCRIPTION:
LOCATION:
SUMMARY:Oiler Market
END:VEVENT
BEGIN:VEVENT
DTSTAMP:20260420T023737Z
UID:0b8c50a7-019a-4f72-ac45-4eb5bba37bf9
DTSTART:20260925T113000
DTEND:20260925T113000
DESCRIPTION:
LOCATION:
SUMMARY:Early Dismissal - Teacher Institute
END:VEVENT
BEGIN:VEVENT
DTSTAMP:20260420T023737Z
UID:d1b7239e-1831-4ad2-b01c-cba3f9a89492
DTSTART:20261001T144500
DTEND:20261001T163000
DESCRIPTION:
LOCATION:
SUMMARY:Oiler Market
END:VEVENT
BEGIN:VEVENT
DTSTAMP:20260420T023737Z
UID:b7505ff4-3796-4393-9db1-725d0f239ab6
DTSTART:20261008T144500
DTEND:20261008T163000
DESCRIPTION:
LOCATION:
SUMMARY:Oiler Market
END:VEVENT
BEGIN:VEVENT
DTSTAMP:20260420T023737Z
UID:962516dc-5258-48ee-8630-18a1f3dfbacd
DTSTART;VALUE=DATE:20261009
DTEND;VALUE=DATE:20261010
DESCRIPTION:
LOCATION:
SUMMARY:End of 1st Quarter
END:VEVENT
BEGIN:VEVENT
DTSTAMP:20260420T023737Z
UID:fcceb69a-3524-4fd9-9e88-5e5b31edd5a3
DTSTART;VALUE=DATE:20261009
DTEND;VALUE=DATE:20261010
DESCRIPTION:
LOCATION:
SUMMARY:No School - Teacher Institute
END:VEVENT
BEGIN:VEVENT
DTSTAMP:20260420T023737Z
UID:d98e5ae6-3e3a-4b51-be20-fe8fdf02f4f3
DTSTART;VALUE=DATE:20261012
DTEND;VALUE=DATE:20261013
DESCRIPTION:
LOCATION:
SUMMARY:No School - Columbus Day
END:VEVENT
BEGIN:VEVENT
DTSTAMP:20260420T023737Z
UID:9a2e69c8-fff1-4e41-8636-4fe046acfbc5
DTSTART:20261015T144500
DTEND:20261015T163000
DESCRIPTION:
LOCATION:
SUMMARY:Oiler Market
END:VEVENT
BEGIN:VEVENT
DTSTAMP:20260420T023737Z
UID:a9a967fd-aca0-472f-9baa-0a84d2821752
DTSTART:20261022T144500
DTEND:20261022T163000
DESCRIPTION:
LOCATION:
SUMMARY:Oiler Market
END:VEVENT
BEGIN:VEVENT
DTSTAMP:20260420T023737Z
UID:6cd4b67d-e088-4df6-9a30-5915a6e263b8
DTSTART:20261029T144500
DTEND:20261029T163000
DESCRIPTION:
LOCATION:
SUMMARY:Oiler Market
END:VEVENT
BEGIN:VEVENT
DTSTAMP:20260420T023737Z
UID:118597c4-cf73-4f89-91f3-16e5850e03e8
DTSTART:20261030T113000
DTEND:20261030T113000
DESCRIPTION:
LOCATION:
SUMMARY:Early Dismissal - Teacher Institute
END:VEVENT
BEGIN:VEVENT
DTSTAMP:20260420T023737Z
UID:9822ca71-2dc6-4436-87a8-44aaa7153d84
DTSTART;VALUE=DATE:20261103
DTEND;VALUE=DATE:20261104
DESCRIPTION:
LOCATION:
SUMMARY:No School - Election Day
END:VEVENT
BEGIN:VEVENT
DTSTAMP:20260420T023737Z
UID:de442343-6577-4248-ab55-559dccfc517d
DTSTART:20261104T151500
DTEND:20261104T181600
DESCRIPTION:
LOCATION:
SUMMARY:Oiler Market - Conferences
END:VEVENT
BEGIN:VEVENT
DTSTAMP:20260420T023737Z
UID:12131e61-cefe-4ef1-9ba7-5f24b52c93b0
DTSTART:20261104T151500
DTEND:20261104T181500
DESCRIPTION:
LOCATION:
SUMMARY:Parent/Teacher Conferences
END:VEVENT
BEGIN:VEVENT
DTSTAMP:20260420T023737Z
UID:6e71873c-a914-4965-b919-1125a7656a96
DTSTART:20261105T151500
DTEND:20261105T181500
DESCRIPTION:
LOCATION:
SUMMARY:Oiler Market - Conferences
END:VEVENT
BEGIN:VEVENT
DTSTAMP:20260420T023737Z
UID:5a5fe3fb-2f4e-46b6-bbdb-05bab68cd35f
DTSTART:20261105T151500
DTEND:20261105T181500
DESCRIPTION:
LOCATION:
SUMMARY:Parent/Teacher Conferences
END:VEVENT
BEGIN:VEVENT
DTSTAMP:20260420T023737Z
UID:aad5af7d-2f79-4c0a-bfb9-ba21b2029cf2
DTSTART;VALUE=DATE:20261106
DTEND;VALUE=DATE:20261107
DESCRIPTION:
LOCATION:
SUMMARY:No School
END:VEVENT
BEGIN:VEVENT
DTSTAMP:20260420T023737Z
UID:70227e7a-2353-4305-bb91-3293e1f4e1f0
DTSTART;VALUE=DATE:20261111
DTEND;VALUE=DATE:20261112
DESCRIPTION:
LOCATION:
SUMMARY:No School - Veterans Day
END:VEVENT
BEGIN:VEVENT
DTSTAMP:20260420T023737Z
UID:294e678a-062e-425b-bf9d-a6c97d46caf5
DTSTART:20261112T144500
DTEND:20261112T163000
DESCRIPTION:
LOCATION:
SUMMARY:Oiler Market
END:VEVENT
BEGIN:VEVENT
DTSTAMP:20260420T023737Z
UID:44aef09b-f2ac-4e6d-b7de-d53911df282b
DTSTART:20261119T144500
DTEND:20261119T163000
DESCRIPTION:
LOCATION:
SUMMARY:Oiler Market
END:VEVENT
BEGIN:VEVENT
DTSTAMP:20260420T023737Z
UID:76f25df9-c91c-49da-b49a-1d078eb94b14
DTSTART:20261124T113000
DTEND:20261124T113000
DESCRIPTION:
LOCATION:
SUMMARY:Early Dismissal - Teacher Institute
END:VEVENT
BEGIN:VEVENT
DTSTAMP:20260420T023737Z
UID:82c70f6f-0343-4196-9ab7-22e6fcfa2aef
DTSTART;VALUE=DATE:20261125
DTEND;VALUE=DATE:20261128
DESCRIPTION:
LOCATION:
SUMMARY:No School - Thanksgiving Break
END:VEVENT
BEGIN:VEVENT
DTSTAMP:20260420T023737Z
UID:6f0c8ef1-f43f-4bb9-965c-5dea3d055762
DTSTART:20261203T144500
DTEND:20261203T163000
DESCRIPTION:
LOCATION:
SUMMARY:Oiler Market
END:VEVENT
BEGIN:VEVENT
DTSTAMP:20260420T023737Z
UID:725c237e-6fc0-482d-b1ba-9d33ac38ed93
DTSTART:20261210T144500
DTEND:20261210T163000
DESCRIPTION:
LOCATION:
SUMMARY:Oiler Market
END:VEVENT
BEGIN:VEVENT
DTSTAMP:20260420T023737Z
UID:f2490638-0944-4b56-b98a-f70fd6b62bd3
DTSTART:20261217T110000
DTEND:20261217T120000
DESCRIPTION:
LOCATION:
SUMMARY:Oiler Market
END:VEVENT
BEGIN:VEVENT
DTSTAMP:20260420T023737Z
UID:769c79df-a3b7-42a0-b422-d273b7ed72e4
DTSTART:20261217T113000
DTEND:20261217T113000
DESCRIPTION:
LOCATION:
SUMMARY:Early Dismissal - Teacher Institute
END:VEVENT
BEGIN:VEVENT
DTSTAMP:20260420T023737Z
UID:0a61639c-5a5b-4a25-bc25-32ed2753611a
DTSTART;VALUE=DATE:20261218
DTEND;VALUE=DATE:20270102
DESCRIPTION:
LOCATION:
SUMMARY:No School - Winter Break
END:VEVENT
BEGIN:VEVENT
DTSTAMP:20260420T023737Z
UID:f9637b07-ca9b-4833-a23f-8c068d109a7a
DTSTART;VALUE=DATE:20270104
DTEND;VALUE=DATE:20270105
DESCRIPTION:
LOCATION:
SUMMARY:Teacher Institute - No Students
END:VEVENT
BEGIN:VEVENT
DTSTAMP:20260420T023737Z
UID:bcfdd033-8a78-4cd3-ab7e-ea05f690db7e
DTSTART;VALUE=DATE:20270105
DTEND;VALUE=DATE:20270106
DESCRIPTION:
LOCATION:
SUMMARY:School Resumes
END:VEVENT
BEGIN:VEVENT
DTSTAMP:20260420T023737Z
UID:b840a447-7118-4893-bac3-80363bfeb976
DTSTART:20270107T144500
DTEND:20270107T163000
DESCRIPTION:
LOCATION:
SUMMARY:Oiler Market
END:VEVENT
BEGIN:VEVENT
DTSTAMP:20260420T023737Z
UID:55d9fb75-6061-4877-83e5-5e5ab9353285
DTSTART:20270114T144500
DTEND:20270114T163000
DESCRIPTION:
LOCATION:
SUMMARY:Oiler Market
END:VEVENT
BEGIN:VEVENT
DTSTAMP:20260420T023737Z
UID:b89718ca-cc7f-48fa-bde9-11eeed7f6885
DTSTART;VALUE=DATE:20270118
DTEND;VALUE=DATE:20270119
DESCRIPTION:
LOCATION:
SUMMARY:No School - MLK Day
END:VEVENT
BEGIN:VEVENT
DTSTAMP:20260420T023737Z
UID:ba02931c-9e3c-45c0-b8fe-38bb3106eacc
DTSTART:20270121T144500
DTEND:20270121T163000
DESCRIPTION:
LOCATION:
SUMMARY:Oiler Market
END:VEVENT
BEGIN:VEVENT
DTSTAMP:20260420T023737Z
UID:78ec5730-0605-40ae-9f44-08e9ab24f642
DTSTART:20270128T144500
DTEND:20270128T163000
DESCRIPTION:
LOCATION:
SUMMARY:Oiler Market
END:VEVENT
BEGIN:VEVENT
DTSTAMP:20260420T023737Z
UID:8494f1c6-cd1d-4aff-b1e6-64b4dd0d9146
DTSTART:20270129T113000
DTEND:20270129T113000
DESCRIPTION:
LOCATION:
SUMMARY:Early Dismissal - Teacher Institute
END:VEVENT
BEGIN:VEVENT
DTSTAMP:20260420T023737Z
UID:2aeaec5e-f9e4-4412-b3c8-a9fab1e8e4b8
DTSTART:20270204T144500
DTEND:20270204T163000
DESCRIPTION:
LOCATION:
SUMMARY:Oiler Market
END:VEVENT
BEGIN:VEVENT
DTSTAMP:20260420T023737Z
UID:cedda9f9-00f6-4234-b7fd-4bd8a2e54e52
DTSTART:20270209T151500
DTEND:20270209T183000
DESCRIPTION:
LOCATION:
SUMMARY:Parent/Teacher Conferences
END:VEVENT
BEGIN:VEVENT
DTSTAMP:20260420T023737Z
UID:a3bd7c18-918f-4fbc-a033-755321650a2f
DTSTART:20270211T144500
DTEND:20270211T163000
DESCRIPTION:
LOCATION:
SUMMARY:Oiler Market
END:VEVENT
BEGIN:VEVENT
DTSTAMP:20260420T023737Z
UID:427aa364-5e90-4bc8-abd9-fd2253a00c1d
DTSTART:20270211T151500
DTEND:20270211T183000
DESCRIPTION:
LOCATION:
SUMMARY:Parent/Teacher Conferences
END:VEVENT
BEGIN:VEVENT
DTSTAMP:20260420T023737Z
UID:2d181075-5665-4b0c-8b73-6e4d0ded9ee1
DTSTART;VALUE=DATE:20270212
DTEND;VALUE=DATE:20270213
DESCRIPTION:
LOCATION:
SUMMARY:No School
END:VEVENT
BEGIN:VEVENT
DTSTAMP:20260420T023737Z
UID:14d6337f-5ae9-4603-b6df-44ade9f2ac20
DTSTART;VALUE=DATE:20270215
DTEND;VALUE=DATE:20270216
DESCRIPTION:
LOCATION:
SUMMARY:No School - Presidents Day
END:VEVENT
BEGIN:VEVENT
DTSTAMP:20260420T023737Z
UID:e3678bb2-bc3b-449e-81ec-33c87ea20f97
DTSTART:20270218T144500
DTEND:20270218T163000
DESCRIPTION:
LOCATION:
SUMMARY:Oiler Market
END:VEVENT
BEGIN:VEVENT
DTSTAMP:20260420T023737Z
UID:2eb10180-8d44-41dd-92e1-b218b07febb5
DTSTART:20270225T144500
DTEND:20270225T163000
DESCRIPTION:
LOCATION:
SUMMARY:Oiler Market
END:VEVENT
BEGIN:VEVENT
DTSTAMP:20260420T023737Z
UID:a9b9ea24-d1a5-49dc-a16e-751e352b2dd6
DTSTART:20270226T113000
DTEND:20270226T113000
DESCRIPTION:
LOCATION:
SUMMARY:Early Dismissal - Teacher Institute
END:VEVENT
BEGIN:VEVENT
DTSTAMP:20260420T023737Z
UID:8e9b759b-6e99-49eb-aa09-6f8ec9c9ade4
DTSTART;VALUE=DATE:20270301
DTEND;VALUE=DATE:20270302
DESCRIPTION:
LOCATION:
SUMMARY:No School - Casmir Pulaski
END:VEVENT
BEGIN:VEVENT
DTSTAMP:20260420T023737Z
UID:f05478ef-d933-4ee4-b9f2-8b7dd538e7e6
DTSTART:20270304T144500
DTEND:20270304T163000
DESCRIPTION:
LOCATION:
SUMMARY:Oiler Market
END:VEVENT
BEGIN:VEVENT
DTSTAMP:20260420T023737Z
UID:3fddbbd9-bf4c-429c-b3ca-c2ffb12f5f33
DTSTART;VALUE=DATE:20270305
DTEND;VALUE=DATE:20270306
DESCRIPTION:
LOCATION:
SUMMARY:End of 3rd Quarter
END:VEVENT
BEGIN:VEVENT
DTSTAMP:20260420T023737Z
UID:807af400-257b-4182-bc7b-de538e10abb3
DTSTART:20270311T144500
DTEND:20270311T163000
DESCRIPTION:
LOCATION:
SUMMARY:Oiler Market
END:VEVENT
BEGIN:VEVENT
DTSTAMP:20260420T023737Z
UID:731ff79e-f702-4fa3-87b1-6ba3788aed11
DTSTART:20270318T144500
DTEND:20270318T163000
DESCRIPTION:
LOCATION:
SUMMARY:Oiler Market
END:VEVENT
BEGIN:VEVENT
DTSTAMP:20260420T023737Z
UID:5720b5ee-cabc-4368-b836-f4195959d3f7
DTSTART;VALUE=DATE:20270325
DTEND;VALUE=DATE:20270330
DESCRIPTION:
LOCATION:
SUMMARY:Spring Break - No School
END:VEVENT
BEGIN:VEVENT
DTSTAMP:20260420T023737Z
UID:1c0c972f-f649-44e8-8693-a2f26ff80b9d
DTSTART:20270401T144500
DTEND:20270401T163000
DESCRIPTION:
LOCATION:
SUMMARY:Oiler Market
END:VEVENT
BEGIN:VEVENT
DTSTAMP:20260420T023737Z
UID:723416f6-d1c1-4c0b-8e7c-97a365155736
DTSTART:20270408T144500
DTEND:20270408T163000
DESCRIPTION:
LOCATION:
SUMMARY:Oiler Market
END:VEVENT
BEGIN:VEVENT
DTSTAMP:20260420T023737Z
UID:73352ccd-05c7-4f52-bfa1-2e83a27d9d73
DTSTART:20270415T144500
DTEND:20270415T163000
DESCRIPTION:
LOCATION:
SUMMARY:Oiler Market
END:VEVENT
BEGIN:VEVENT
DTSTAMP:20260420T023737Z
UID:9c927890-2946-4f29-b524-4c9f34a44fd9
DTSTART:20270422T144500
DTEND:20270422T163000
DESCRIPTION:
LOCATION:
SUMMARY:Oiler Market
END:VEVENT
BEGIN:VEVENT
DTSTAMP:20260420T023737Z
UID:a1fa31e2-6c1d-4834-8671-5a90ed13c638
DTSTART:20270423T113000
DTEND:20270423T113000
DESCRIPTION:
LOCATION:
SUMMARY:Early Dismissal - Teacher Institute
END:VEVENT
BEGIN:VEVENT
DTSTAMP:20260420T023737Z
UID:c96fe504-ef9b-48e3-b12e-662319efcf7c
DTSTART:20270429T144500
DTEND:20270429T163000
DESCRIPTION:
LOCATION:
SUMMARY:Oiler Market
END:VEVENT
BEGIN:VEVENT
DTSTAMP:20260420T023737Z
UID:b5a0ded9-6cae-447b-9dc8-be32304ca811
DTSTART:20270506T144500
DTEND:20270506T163000
DESCRIPTION:
LOCATION:
SUMMARY:Oiler Market
END:VEVENT
BEGIN:VEVENT
DTSTAMP:20260420T023737Z
UID:8105019d-ba32-4959-b874-95eebd7614a6
DTSTART:20270513T144500
DTEND:20270513T163000
DESCRIPTION:
LOCATION:
SUMMARY:Oiler Market
END:VEVENT
BEGIN:VEVENT
DTSTAMP:20260420T023737Z
UID:589bf74c-f43e-42a7-8dc6-883164f8cbfa
DTSTART:20270520T144500
DTEND:20270520T163000
DESCRIPTION:
LOCATION:
SUMMARY:Oiler Market
END:VEVENT
BEGIN:VEVENT
DTSTAMP:20260420T023737Z
UID:89f2033e-73ae-424b-b32f-b59e986fbbc3
DTSTART:20270527T113000
DTEND:20270527T120000
DESCRIPTION:
LOCATION:
SUMMARY:Dismissal - Last Day without emergency days
END:VEVENT
END:VCALENDAR
