BEGIN:VCALENDAR
VERSION:2.0
PRODID:icalendar-ruby
CALSCALE:GREGORIAN
BEGIN:VTIMEZONE
TZID:America/New_York
BEGIN:DAYLIGHT
DTSTART:20260308T030000
TZOFFSETFROM:-0500
TZOFFSETTO:-0400
RRULE:FREQ=YEARLY;BYDAY=2SU;BYMONTH=3
TZNAME:EDT
END:DAYLIGHT
BEGIN:STANDARD
DTSTART:20261101T010000
TZOFFSETFROM:-0400
TZOFFSETTO:-0500
RRULE:FREQ=YEARLY;BYDAY=1SU;BYMONTH=11
TZNAME:EST
END:STANDARD
END:VTIMEZONE
BEGIN:VEVENT
DTSTAMP:20260421T163239Z
UID:7ef8eef0-d812-4d0d-b71e-ce4a759b241a
DTSTART;VALUE=DATE:20260424
DTEND;VALUE=DATE:20260425
DESCRIPTION:<p>4th Quarter Progress Reports</p>
LOCATION:
SUMMARY:4th Quarter Progress Reports
END:VEVENT
BEGIN:VEVENT
DTSTAMP:20260421T163239Z
UID:12996cd0-df0d-478f-b78f-66c587a2441e
DTSTART;VALUE=DATE:20260501
DTEND;VALUE=DATE:20260502
DESCRIPTION:
LOCATION:
SUMMARY:Act 80 Day (No School)
END:VEVENT
BEGIN:VEVENT
DTSTAMP:20260421T163239Z
UID:00e4ec7a-f0f3-495d-a35b-10dde02558d1
DTSTART;VALUE=DATE:20260505
DTEND;VALUE=DATE:20260506
DESCRIPTION:<p>Sr. High Auditorium</p><p>7:00 pm</p>
LOCATION:
SUMMARY:Spring Choir Concert
END:VEVENT
BEGIN:VEVENT
DTSTAMP:20260421T163239Z
UID:36ef9b6a-763d-4233-a3cf-61294d3a0cae
DTSTART;VALUE=DATE:20260507
DTEND;VALUE=DATE:20260508
DESCRIPTION:<p>Sr. High Auditorium</p><p>7:00 pm </p>
LOCATION:
SUMMARY:Spring Band Concert
END:VEVENT
BEGIN:VEVENT
DTSTAMP:20260421T163239Z
UID:25e54abe-0378-43e9-9cbd-c1ab1199590d
DTSTART:20260508T090000
DTEND:20260508T130000
DESCRIPTION:<p>The Athletic Department is excited to offer a <strong>Free A
 thletic Physical Day</strong> for students currently in <strong>6th–11th
  grade</strong>!</p><p>This is a great opportunity to make sure your child
  is ready for the upcoming school year. Even if your student is unsure abo
 ut participating in athletics next year\, it is strongly recommended to co
 mplete the physical now so it is on file in case they decide to join a tea
 m at the last minute.</p><p><strong>Important Details:</strong></p><ul><li
 ><p>Open to students <strong>currently in grades 6–11</strong></p></li><
 li><p>Physicals are valid for <strong>one full year</strong> from the date
  given (<strong>May 8</strong>)</p></li><li><p>Students must use their <st
 rong>school email (</strong><a target="_blank" rel="noopener noreferrer no
 follow" href="http://mpasd.net"><strong>mpasd.net</strong></a><strong>)</s
 trong> to register. Please Check the email sent to the same account.</p></
 li></ul><p>The required physical form can be found on the <strong>Athletic
  Website</strong> or picked up in your student’s appropriate building ma
 in office from the secretary. Please make sure the form is <strong>dated M
 ay 8\, 2026</strong>\, and <strong>signed by both the parent/guardian and 
 the student</strong> before turning it into the office.</p><p>Spots may fi
 ll quickly\, so be sure to sign up as soon as possible.</p><p>For addition
 al information\, please contact <strong>Ms. Lee</strong> in the Athletic D
 epartment at <strong>724.547.4100 ext. 1002</strong> or <a target="_blank"
  rel="noopener noreferrer nofollow" href="mailto:elee@mpasd.net"><strong>e
 lee@mpasd.net</strong></a>.</p><p></p><p></p>
LOCATION:265 State St\, Mt Pleasant\, PA 15666\, USA
SUMMARY:Free Athletic Physical Day Announced
END:VEVENT
BEGIN:VEVENT
DTSTAMP:20260421T163239Z
UID:22cc169d-dff8-4797-b189-60f1f09f3089
DTSTART;VALUE=DATE:20260511
DTEND;VALUE=DATE:20260512
DESCRIPTION:
LOCATION:
SUMMARY:CWCTC Senior Recognition Ceremony
END:VEVENT
BEGIN:VEVENT
DTSTAMP:20260421T163239Z
UID:59950e6a-b5e2-47fb-b97c-53767f9ffd41
DTSTART;VALUE=DATE:20260512
DTEND;VALUE=DATE:20260513
DESCRIPTION:<p>Grades 9-12 \; Spring Keystone Exam Algebra 1</p>
LOCATION:
SUMMARY:Grades 9-12 \; Spring Keystone Exam Algebra 1
END:VEVENT
BEGIN:VEVENT
DTSTAMP:20260421T163239Z
UID:731e9e2d-8fd2-4f7d-abbc-335c76f93f45
DTSTART;VALUE=DATE:20260513
DTEND;VALUE=DATE:20260514
DESCRIPTION:<p>Grades 9-12 \; Spring Keystone Exam Biology</p>
LOCATION:
SUMMARY:Grades 9-12 \; Spring Keystone Exam Biology
END:VEVENT
BEGIN:VEVENT
DTSTAMP:20260421T163239Z
UID:1d9629b7-448c-4d91-b625-19be2c641c67
DTSTART;VALUE=DATE:20260514
DTEND;VALUE=DATE:20260515
DESCRIPTION:<p>Grades 9-12 \; Spring Keystone Exam Literature</p>
LOCATION:
SUMMARY:Grades 9-12 \; Spring Keystone Exam Literature
END:VEVENT
BEGIN:VEVENT
DTSTAMP:20260421T163239Z
UID:0a3ef651-9db8-4598-9e5d-5dbc31171f6f
DTSTART;VALUE=DATE:20260525
DTEND;VALUE=DATE:20260526
DESCRIPTION:<p>No School for MPASD &amp\; CWCTC Students</p>
LOCATION:
SUMMARY:Memorial Day (No School)
END:VEVENT
BEGIN:VEVENT
DTSTAMP:20260421T163239Z
UID:5e5694bc-af06-4b7b-bbb2-0ad01ba752fe
DTSTART;VALUE=DATE:20260528
DTEND;VALUE=DATE:20260529
DESCRIPTION:<p>End of 4th Quarter Grading Period</p>
LOCATION:
SUMMARY:End of 4th Quarter Grading Period
END:VEVENT
BEGIN:VEVENT
DTSTAMP:20260421T163239Z
UID:6471c06f-33ef-4f7f-9916-286742051486
DTSTART;VALUE=DATE:20260528
DTEND;VALUE=DATE:20260529
DESCRIPTION:
LOCATION:
SUMMARY:Student's Last Day of School 
END:VEVENT
BEGIN:VEVENT
DTSTAMP:20260421T163239Z
UID:811d491e-d4c0-4989-bb1f-382981649339
DTSTART;VALUE=DATE:20260529
DTEND;VALUE=DATE:20260530
DESCRIPTION:
LOCATION:
SUMMARY:Graduation
END:VEVENT
BEGIN:VEVENT
DTSTAMP:20260421T163239Z
UID:081a557c-f05b-40f5-b939-4cb12ce278e0
DTSTART;VALUE=DATE:20260529
DTEND;VALUE=DATE:20260530
DESCRIPTION:
LOCATION:
SUMMARY:Last Day for CWCTC Students
END:VEVENT
BEGIN:VEVENT
DTSTAMP:20260421T163239Z
UID:d35f3034-0e85-479e-92a2-db82e28f0739
DTSTART;VALUE=DATE:20260603
DTEND;VALUE=DATE:20260604
DESCRIPTION:<p>4th Quarter Report Cards Available </p>
LOCATION:
SUMMARY:4th Quarter Report Cards Available 
END:VEVENT
END:VCALENDAR
