BEGIN:VCALENDAR
VERSION:2.0
PRODID:icalendar-ruby
CALSCALE:GREGORIAN
BEGIN:VTIMEZONE
TZID:America/New_York
BEGIN:DAYLIGHT
DTSTART:20260308T030000
TZOFFSETFROM:-0500
TZOFFSETTO:-0400
RRULE:FREQ=YEARLY;BYDAY=2SU;BYMONTH=3
TZNAME:EDT
END:DAYLIGHT
BEGIN:STANDARD
DTSTART:20261101T010000
TZOFFSETFROM:-0400
TZOFFSETTO:-0500
RRULE:FREQ=YEARLY;BYDAY=1SU;BYMONTH=11
TZNAME:EST
END:STANDARD
END:VTIMEZONE
BEGIN:VEVENT
DTSTAMP:20260423T114428Z
UID:82c484dd-4cac-4b1c-b543-7bd62af184a9
DTSTART:20260501T150000
DTEND:20260501T153000
DESCRIPTION:
LOCATION:
SUMMARY:Ice Cream Truck 
END:VEVENT
BEGIN:VEVENT
DTSTAMP:20260423T114428Z
UID:46773caf-ada5-4450-86b4-ea97382dd627
DTSTART:20260508T150000
DTEND:20260508T153000
DESCRIPTION:
LOCATION:
SUMMARY:Ice Cream Truck 
END:VEVENT
BEGIN:VEVENT
DTSTAMP:20260423T114428Z
UID:dfe83d98-fd6f-4b5f-84e0-0708498808ef
DTSTART:20260513T150000
DTEND:20260513T153000
DESCRIPTION:
LOCATION:
SUMMARY:Bake Sale 
END:VEVENT
BEGIN:VEVENT
DTSTAMP:20260423T114428Z
UID:3363e515-c363-46b8-bc1f-a5660d02b390
DTSTART:20260513T190000
DTEND:20260513T200000
DESCRIPTION:
LOCATION:
SUMMARY:HSA Meeting 
END:VEVENT
BEGIN:VEVENT
DTSTAMP:20260423T114428Z
UID:6e963317-e831-4e47-b87b-b0e49e5000d1
DTSTART:20260515T150000
DTEND:20260515T153000
DESCRIPTION:
LOCATION:
SUMMARY:Ice Cream Truck
END:VEVENT
BEGIN:VEVENT
DTSTAMP:20260423T114428Z
UID:604b86fd-871e-402f-b2b2-6993fafda59c
DTSTART:20260519T183000
DTEND:20260519T193000
DESCRIPTION:
LOCATION:
SUMMARY:Washington- Spring Concert- Auditorium
END:VEVENT
BEGIN:VEVENT
DTSTAMP:20260423T114428Z
UID:a82eff63-c7b8-43ca-8bae-3ca75afc2cc9
DTSTART:20260522T150000
DTEND:20260522T153000
DESCRIPTION:
LOCATION:
SUMMARY:Ice Cream Truck
END:VEVENT
BEGIN:VEVENT
DTSTAMP:20260423T114428Z
UID:d4dd0313-dec4-46d7-a2e1-90e068d9f965
DTSTART;VALUE=DATE:20260525
DTEND;VALUE=DATE:20260526
DESCRIPTION:
LOCATION:
SUMMARY:Schools Closed/Memorial Day
END:VEVENT
BEGIN:VEVENT
DTSTAMP:20260423T114428Z
UID:7e13d25a-e90c-4b9c-85de-e44a4fb9c95a
DTSTART;VALUE=DATE:20260601
DTEND;VALUE=DATE:20260602
DESCRIPTION:
LOCATION:
SUMMARY:Washington School Wide End of Year Party
END:VEVENT
BEGIN:VEVENT
DTSTAMP:20260423T114428Z
UID:9c111fbb-9772-47d7-a311-8e70fb11d6a7
DTSTART;VALUE=DATE:20260602
DTEND;VALUE=DATE:20260603
DESCRIPTION:
LOCATION:
SUMMARY:Schools Closed/Election Day
END:VEVENT
BEGIN:VEVENT
DTSTAMP:20260423T114428Z
UID:ee0a084e-717c-4c15-be2f-f1acc3af9272
DTSTART:20260603T093000
DTEND:20260603T110000
DESCRIPTION:
LOCATION:
SUMMARY:5th grade Kickball Game vs Lincoln School
END:VEVENT
BEGIN:VEVENT
DTSTAMP:20260423T114428Z
UID:841d26fb-8d80-475d-9e0e-e375b2341061
DTSTART:20260604T093000
DTEND:20260604T110000
DESCRIPTION:
LOCATION:
SUMMARY:5th Grade Kickball vs. Washington School (rain date)
END:VEVENT
BEGIN:VEVENT
DTSTAMP:20260423T114428Z
UID:8a5dec5a-65dc-48e0-b4f4-59c3ff09f832
DTSTART:20260605T150000
DTEND:20260605T153000
DESCRIPTION:
LOCATION:
SUMMARY:Ice Cream Truck
END:VEVENT
BEGIN:VEVENT
DTSTAMP:20260423T114428Z
UID:f3ee6ac0-4c62-4117-b503-9c314f6f16ee
DTSTART:20260612T084500
DTEND:20260612T093000
DESCRIPTION:
LOCATION:
SUMMARY:HSA Meeting - Art Room
END:VEVENT
BEGIN:VEVENT
DTSTAMP:20260423T114428Z
UID:68234bd8-f048-4cfb-be21-2cf3539346f0
DTSTART:20260612T091500
DTEND:20260612T101500
DESCRIPTION:
LOCATION:
SUMMARY:Kindergarten EOY Show
END:VEVENT
BEGIN:VEVENT
DTSTAMP:20260423T114428Z
UID:c49a3531-a918-47a9-bbf9-fc5de04b7963
DTSTART:20260612T150000
DTEND:20260612T153000
DESCRIPTION:
LOCATION:
SUMMARY:Ice Cream Truck
END:VEVENT
BEGIN:VEVENT
DTSTAMP:20260423T114428Z
UID:8b26c52f-bbd9-44f5-ba98-ad6d2880a77c
DTSTART:20260616T092000
DTEND:20260616T110000
DESCRIPTION:
LOCATION:
SUMMARY:5th Grade Promotion 
END:VEVENT
BEGIN:VEVENT
DTSTAMP:20260423T114428Z
UID:1b3e204d-6921-4e1b-aa0c-e17bdd1a7665
DTSTART;VALUE=DATE:20260618
DTEND;VALUE=DATE:20260619
DESCRIPTION:
LOCATION:
SUMMARY:Early Dismissal all Schools
END:VEVENT
BEGIN:VEVENT
DTSTAMP:20260423T114428Z
UID:7a5ed89c-0731-4923-ab23-d07a9f6e160d
DTSTART;VALUE=DATE:20260618
DTEND;VALUE=DATE:20260619
DESCRIPTION:
LOCATION:
SUMMARY:Last Day Of School
END:VEVENT
BEGIN:VEVENT
DTSTAMP:20260423T114428Z
UID:d25c451b-9849-4638-8de0-5635b8611ea8
DTSTART:20260618T150000
DTEND:20260618T153000
DESCRIPTION:
LOCATION:
SUMMARY:Elementary Report Cards Issued Marking Period 3
END:VEVENT
BEGIN:VEVENT
DTSTAMP:20260423T114428Z
UID:99b37822-82e7-466e-ace1-229f00632e39
DTSTART;VALUE=DATE:20260619
DTEND;VALUE=DATE:20260620
DESCRIPTION:
LOCATION:
SUMMARY:Juneteenth  Holiday Offices Closed
END:VEVENT
END:VCALENDAR
