BEGIN:VCALENDAR
VERSION:2.0
PRODID:icalendar-ruby
CALSCALE:GREGORIAN
BEGIN:VTIMEZONE
TZID:America/New_York
BEGIN:DAYLIGHT
DTSTART:20260308T030000
TZOFFSETFROM:-0500
TZOFFSETTO:-0400
RRULE:FREQ=YEARLY;BYDAY=2SU;BYMONTH=3
TZNAME:EDT
END:DAYLIGHT
BEGIN:STANDARD
DTSTART:20261101T010000
TZOFFSETFROM:-0400
TZOFFSETTO:-0500
RRULE:FREQ=YEARLY;BYDAY=1SU;BYMONTH=11
TZNAME:EST
END:STANDARD
END:VTIMEZONE
BEGIN:VEVENT
DTSTAMP:20260423T114428Z
UID:7746e0c0-12a1-4095-b732-435e52af8f11
DTSTART:20260424T153000
DTEND:20260424T170000
DESCRIPTION:
LOCATION:
SUMMARY:Lincoln Art Show
END:VEVENT
BEGIN:VEVENT
DTSTAMP:20260423T114428Z
UID:de9289de-ccfe-4010-adad-59327845d939
DTSTART:20260508T170000
DTEND:20260508T190000
DESCRIPTION:
LOCATION:
SUMMARY:Lincoln Family Fun Night
END:VEVENT
BEGIN:VEVENT
DTSTAMP:20260423T114428Z
UID:e301a3ee-961e-40ba-8f1c-02571442ae0e
DTSTART:20260515T133000
DTEND:20260515T143000
DESCRIPTION:
LOCATION:
SUMMARY:Lincoln 3rd Grade Bike Rodeo
END:VEVENT
BEGIN:VEVENT
DTSTAMP:20260423T114428Z
UID:37a249e5-1438-4150-b43d-241de251fbed
DTSTART:20260520T100000
DTEND:20260520T113000
DESCRIPTION:
LOCATION:
SUMMARY:Lincoln USA Day
END:VEVENT
BEGIN:VEVENT
DTSTAMP:20260423T114428Z
UID:33b490b4-220c-449a-bcce-888568403718
DTSTART;VALUE=DATE:20260525
DTEND;VALUE=DATE:20260526
DESCRIPTION:
LOCATION:
SUMMARY:Schools Closed/Memorial Day
END:VEVENT
BEGIN:VEVENT
DTSTAMP:20260423T114428Z
UID:fec80759-bcf6-41f1-8750-be48403b2b09
DTSTART:20260527T090000
DTEND:20260527T144500
DESCRIPTION:
LOCATION:
SUMMARY:Lincoln Field Day
END:VEVENT
BEGIN:VEVENT
DTSTAMP:20260423T114428Z
UID:8fb0ad1c-0cde-4c06-9683-dff90b7f391a
DTSTART:20260528T090000
DTEND:20260528T144500
DESCRIPTION:
LOCATION:
SUMMARY:Lincoln Field Day Rain Date
END:VEVENT
BEGIN:VEVENT
DTSTAMP:20260423T114428Z
UID:5c17d71c-32a2-4134-aec5-1dcf21bf340b
DTSTART:20260529T133000
DTEND:20260529T143000
DESCRIPTION:
LOCATION:
SUMMARY:Lincoln 3rd Grade Bike Rodeo RAIN DATE
END:VEVENT
BEGIN:VEVENT
DTSTAMP:20260423T114428Z
UID:f54238ba-bde0-45f6-a9c1-139f6658daf2
DTSTART;VALUE=DATE:20260602
DTEND;VALUE=DATE:20260603
DESCRIPTION:
LOCATION:
SUMMARY:Schools Closed/Election Day
END:VEVENT
BEGIN:VEVENT
DTSTAMP:20260423T114428Z
UID:9456fa7b-55fc-4243-a6b3-06c1ffb11c48
DTSTART:20260603T093000
DTEND:20260603T110000
DESCRIPTION:
LOCATION:
SUMMARY:5th Grade Kickball vs. Washington School
END:VEVENT
BEGIN:VEVENT
DTSTAMP:20260423T114428Z
UID:6403df78-54ef-4ee5-a1e5-163d69948373
DTSTART:20260603T183000
DTEND:20260603T193000
DESCRIPTION:
LOCATION:
SUMMARY:Lincoln Spring Concert
END:VEVENT
BEGIN:VEVENT
DTSTAMP:20260423T114428Z
UID:0667d291-4bf2-4424-aeb1-cda9a93cdb4a
DTSTART:20260604T093000
DTEND:20260604T110000
DESCRIPTION:
LOCATION:
SUMMARY:5th Grade Kickball vs. Washington School (rain date)
END:VEVENT
BEGIN:VEVENT
DTSTAMP:20260423T114428Z
UID:9e0f90a7-3c0a-4837-9f94-e6e9d8f9d2b0
DTSTART:20260608T133000
DTEND:20260608T143000
DESCRIPTION:
LOCATION:
SUMMARY:Lincoln HSA Meeting
END:VEVENT
BEGIN:VEVENT
DTSTAMP:20260423T114428Z
UID:51e445dd-b6e9-4c29-a4c5-5644f9917eb5
DTSTART:20260615T130000
DTEND:20260615T150000
DESCRIPTION:
LOCATION:
SUMMARY:5th Grade Pool Party
END:VEVENT
BEGIN:VEVENT
DTSTAMP:20260423T114428Z
UID:5b0f84e1-5510-4a3a-aaa5-2becafd166e7
DTSTART:20260616T091500
DTEND:20260616T101500
DESCRIPTION:
LOCATION:
SUMMARY:Lincoln School 5th Grade Promotion
END:VEVENT
BEGIN:VEVENT
DTSTAMP:20260423T114428Z
UID:e67cb437-2a08-4e97-a11b-c185990d6668
DTSTART;VALUE=DATE:20260618
DTEND;VALUE=DATE:20260619
DESCRIPTION:
LOCATION:
SUMMARY:Early Dismissal all Schools
END:VEVENT
BEGIN:VEVENT
DTSTAMP:20260423T114428Z
UID:f096c3bb-611c-4dfc-a7ab-27a252662d43
DTSTART;VALUE=DATE:20260618
DTEND;VALUE=DATE:20260619
DESCRIPTION:
LOCATION:
SUMMARY:Last Day Of School
END:VEVENT
BEGIN:VEVENT
DTSTAMP:20260423T114428Z
UID:3f77135b-30d8-4de2-85dd-9d537eec9123
DTSTART:20260618T150000
DTEND:20260618T153000
DESCRIPTION:
LOCATION:
SUMMARY:Elementary Report Cards Issued Marking Period 3
END:VEVENT
BEGIN:VEVENT
DTSTAMP:20260423T114428Z
UID:ac992bc6-9faf-40e4-9cfb-b28cb28837ee
DTSTART;VALUE=DATE:20260619
DTEND;VALUE=DATE:20260620
DESCRIPTION:
LOCATION:
SUMMARY:Juneteenth  Holiday Offices Closed
END:VEVENT
BEGIN:VEVENT
DTSTAMP:20260423T114428Z
UID:726d4826-1140-4efa-a46c-8cddd2d563d3
DTSTART:20261007T084500
DTEND:20261007T144500
DESCRIPTION:
LOCATION:
SUMMARY:Lincon School Picture Day
END:VEVENT
BEGIN:VEVENT
DTSTAMP:20260423T114428Z
UID:3791cabe-df61-4f35-9fc8-945ac9319480
DTSTART:20261116T084500
DTEND:20261116T111500
DESCRIPTION:
LOCATION:
SUMMARY:Lincoln School Picture Retake Day
END:VEVENT
END:VCALENDAR
