BEGIN:VCALENDAR
VERSION:2.0
PRODID:icalendar-ruby
CALSCALE:GREGORIAN
BEGIN:VTIMEZONE
TZID:America/New_York
BEGIN:DAYLIGHT
DTSTART:20260308T030000
TZOFFSETFROM:-0500
TZOFFSETTO:-0400
RRULE:FREQ=YEARLY;BYDAY=2SU;BYMONTH=3
TZNAME:EDT
END:DAYLIGHT
BEGIN:STANDARD
DTSTART:20261101T010000
TZOFFSETFROM:-0400
TZOFFSETTO:-0500
RRULE:FREQ=YEARLY;BYDAY=1SU;BYMONTH=11
TZNAME:EST
END:STANDARD
END:VTIMEZONE
BEGIN:VEVENT
DTSTAMP:20260420T002925Z
UID:7fe11101-aa72-4064-922d-5373227f1998
DTSTART;VALUE=DATE:20260518
DTEND;VALUE=DATE:20260522
DESCRIPTION:
LOCATION:
SUMMARY:Chorus in Auditorium
END:VEVENT
BEGIN:VEVENT
DTSTAMP:20260420T002925Z
UID:89f49dc8-14df-4181-9f0a-3cbeed412e94
DTSTART:20260521T190000
DTEND:20260521T200000
DESCRIPTION:
LOCATION:
SUMMARY:Spring Chorus Concert (Auditorium)
END:VEVENT
BEGIN:VEVENT
DTSTAMP:20260420T002925Z
UID:b97547be-15b9-47b2-a153-62ba467c3618
DTSTART:20260527T190000
DTEND:20260527T203000
DESCRIPTION:
LOCATION:
SUMMARY:Talent Show (Auditorium)
END:VEVENT
END:VCALENDAR
