BEGIN:VCALENDAR
VERSION:2.0
PRODID:icalendar-ruby
CALSCALE:GREGORIAN
BEGIN:VTIMEZONE
TZID:America/New_York
BEGIN:DAYLIGHT
DTSTART:20260308T030000
TZOFFSETFROM:-0500
TZOFFSETTO:-0400
RRULE:FREQ=YEARLY;BYDAY=2SU;BYMONTH=3
TZNAME:EDT
END:DAYLIGHT
BEGIN:STANDARD
DTSTART:20261101T010000
TZOFFSETFROM:-0400
TZOFFSETTO:-0500
RRULE:FREQ=YEARLY;BYDAY=1SU;BYMONTH=11
TZNAME:EST
END:STANDARD
END:VTIMEZONE
BEGIN:VEVENT
DTSTAMP:20260423T120736Z
UID:7284a118-5fd2-46d0-ba8b-e42a0f7408c3
DTSTART:20260423T190000
DTEND:20260423T203000
DESCRIPTION:
LOCATION:GCMS Auditorium
SUMMARY:GCMS Orchestra Spring Concert
END:VEVENT
BEGIN:VEVENT
DTSTAMP:20260423T120736Z
UID:85f37873-2a86-464c-9a41-82c6dc224a50
DTSTART:20260424T150000
DTEND:20260424T153000
DESCRIPTION:
LOCATION:
SUMMARY: Bake Wars-House of Endurance
END:VEVENT
BEGIN:VEVENT
DTSTAMP:20260423T120736Z
UID:9bcb8a8d-0b93-4695-abb4-48a3a3abe69f
DTSTART:20260427T150000
DTEND:20260427T153000
DESCRIPTION:
LOCATION:
SUMMARY:Grade 6 Math Placement Test 3pm Cafeteria
END:VEVENT
BEGIN:VEVENT
DTSTAMP:20260423T120736Z
UID:541cd2fe-1cf4-4360-860f-bd711d2ed658
DTSTART:20260428T150000
DTEND:20260428T153000
DESCRIPTION:
LOCATION:
SUMMARY:Grade 7 Math Placement Test 3pm Cafeteria
END:VEVENT
BEGIN:VEVENT
DTSTAMP:20260423T120736Z
UID:247ac129-1a2a-4e0f-b470-75ae199f5ea7
DTSTART:20260428T190000
DTEND:20260428T203000
DESCRIPTION:
LOCATION:GCMS Auditorium
SUMMARY:GCMS Band Spring Concert
END:VEVENT
BEGIN:VEVENT
DTSTAMP:20260423T120736Z
UID:4cab95d2-efaa-4468-957a-44e94e0a4c24
DTSTART:20260429T091900
DTEND:20260429T095000
DESCRIPTION:
LOCATION:
SUMMARY:GCMS Enrichment
END:VEVENT
BEGIN:VEVENT
DTSTAMP:20260423T120736Z
UID:1c1a28fd-e275-458c-9aca-69d2f0c3f9d7
DTSTART:20260429T150000
DTEND:20260429T153000
DESCRIPTION:
LOCATION:
SUMMARY:Math Placement Test Makeups 3pm Cafeteria
END:VEVENT
BEGIN:VEVENT
DTSTAMP:20260423T120736Z
UID:a8442d7f-5970-402c-8ad5-2e611de98656
DTSTART;VALUE=DATE:20260430
DTEND;VALUE=DATE:20260502
DESCRIPTION:
LOCATION:
SUMMARY:NJSLA Science Grade 8
END:VEVENT
BEGIN:VEVENT
DTSTAMP:20260423T120736Z
UID:f82716c2-a993-44f3-bd60-d0795a91a4d1
DTSTART:20260430T150000
DTEND:20260430T153000
DESCRIPTION:
LOCATION:
SUMMARY:Bake Sale (Sophia P.) to support 5k race for Matheny Medical and Ed
 ucation Center
END:VEVENT
BEGIN:VEVENT
DTSTAMP:20260423T120736Z
UID:b7174242-bf28-4176-bd0b-6ba04640982e
DTSTART;VALUE=DATE:20260504
DTEND;VALUE=DATE:20260506
DESCRIPTION:
LOCATION:
SUMMARY:NJSLA ELA Grades 6-8
END:VEVENT
BEGIN:VEVENT
DTSTAMP:20260423T120736Z
UID:60428abe-0d4f-4665-a470-34acdf13fe68
DTSTART:20260504T150000
DTEND:20260504T170000
DESCRIPTION:
LOCATION:GCMS Auditorium
SUMMARY:GCMS Spring Musical Tech Week
END:VEVENT
BEGIN:VEVENT
DTSTAMP:20260423T120736Z
UID:f1e8398f-a53a-4dd4-a066-2ef0dab73745
DTSTART:20260505T150000
DTEND:20260505T170000
DESCRIPTION:
LOCATION:GCMS Auditorium
SUMMARY:GCMS Spring Musical Tech Week
END:VEVENT
BEGIN:VEVENT
DTSTAMP:20260423T120736Z
UID:8559a53a-4298-48d2-abef-c66804dd98f5
DTSTART;VALUE=DATE:20260506
DTEND;VALUE=DATE:20260508
DESCRIPTION:
LOCATION:
SUMMARY:NSLA Math Grade 6-8
END:VEVENT
BEGIN:VEVENT
DTSTAMP:20260423T120736Z
UID:00f816bf-201d-46b8-9cf7-a9111c96b25e
DTSTART:20260506T150000
DTEND:20260506T170000
DESCRIPTION:
LOCATION:GCMS Auditorium
SUMMARY:GCMS Spring Musical Tech Week
END:VEVENT
BEGIN:VEVENT
DTSTAMP:20260423T120736Z
UID:01f6eec5-5e50-47d3-b43c-b3e09c7ecb86
DTSTART:20260507T150000
DTEND:20260507T153000
DESCRIPTION:
LOCATION:
SUMMARY: Bake Wars-House of Respect
END:VEVENT
BEGIN:VEVENT
DTSTAMP:20260423T120736Z
UID:e1da298a-d533-43af-9cda-eaf9451ad0e6
DTSTART:20260507T150000
DTEND:20260507T170000
DESCRIPTION:
LOCATION:GCMS Auditorium
SUMMARY:GCMS Spring Musical Tech Week
END:VEVENT
BEGIN:VEVENT
DTSTAMP:20260423T120736Z
UID:a8226a45-8f51-41dc-b688-b2624089df6a
DTSTART:20260508T190000
DTEND:20260508T203000
DESCRIPTION:
LOCATION:GCMS Auditorium
SUMMARY:GCMS Spring Musical Performance
END:VEVENT
BEGIN:VEVENT
DTSTAMP:20260423T120736Z
UID:e9a7e179-10de-460a-9980-4384d3dfaccb
DTSTART:20260509T130000
DTEND:20260509T140000
DESCRIPTION:
LOCATION:GCMS Auditorium
SUMMARY:GCMS Spring Musical Performance
END:VEVENT
BEGIN:VEVENT
DTSTAMP:20260423T120736Z
UID:416c4e38-de9a-4a78-9862-270e078c4546
DTSTART:20260509T180000
DTEND:20260509T190000
DESCRIPTION:
LOCATION:GCMS Auditorium
SUMMARY:GCMS Spring Musical Performance
END:VEVENT
BEGIN:VEVENT
DTSTAMP:20260423T120736Z
UID:9d503e19-b72f-4f56-92c9-557e7492c387
DTSTART:20260511T081500
DTEND:20260511T144500
DESCRIPTION:
LOCATION:
SUMMARY:7th Grade Field Trip
END:VEVENT
BEGIN:VEVENT
DTSTAMP:20260423T120736Z
UID:eca1e07b-fb87-4a3d-8ee0-8f71b7bd4bf3
DTSTART:20260512T160000
DTEND:20260512T164500
DESCRIPTION:
LOCATION:GCMS Cafe
SUMMARY:BizWorld Culminating Event - Sales Bazaar (GAP EVENT)
END:VEVENT
BEGIN:VEVENT
DTSTAMP:20260423T120736Z
UID:fd9c3f9d-2dad-4f34-9621-1e446983abec
DTSTART:20260512T183000
DTEND:20260512T193000
DESCRIPTION:
LOCATION:
SUMMARY:GCMS HSA Meeting
END:VEVENT
BEGIN:VEVENT
DTSTAMP:20260423T120736Z
UID:e75e9438-a48b-4c30-9d2f-60cd4f36a87b
DTSTART:20260513T081500
DTEND:20260513T144500
DESCRIPTION:
LOCATION:
SUMMARY:6th Grade Field Trip
END:VEVENT
BEGIN:VEVENT
DTSTAMP:20260423T120736Z
UID:0760f048-df9d-43c8-a21a-6af5de6eae1a
DTSTART:20260514T090000
DTEND:20260514T110000
DESCRIPTION:
LOCATION:
SUMMARY:GCMS BCO Music Showcase Festival- GCMS Auditorium
END:VEVENT
BEGIN:VEVENT
DTSTAMP:20260423T120736Z
UID:a772c670-2fc3-44b4-bd5f-5b2240cb1206
DTSTART:20260514T110000
DTEND:20260514T173000
DESCRIPTION:
LOCATION:
SUMMARY:7th Grade Outsiders Trip
END:VEVENT
BEGIN:VEVENT
DTSTAMP:20260423T120736Z
UID:ab658707-0133-453e-816a-e57053e71929
DTSTART:20260514T150000
DTEND:20260514T180000
DESCRIPTION:
LOCATION:
SUMMARY: Jameel Misbahuddin Meeting GCMS Cafeteria
END:VEVENT
BEGIN:VEVENT
DTSTAMP:20260423T120736Z
UID:4bdab303-f1e2-4c5b-8e6d-c3924c898c5b
DTSTART:20260515T083000
DTEND:20260515T183000
DESCRIPTION:
LOCATION:
SUMMARY:GCMS BCO Trip- All Grades
END:VEVENT
BEGIN:VEVENT
DTSTAMP:20260423T120736Z
UID:92c82137-c390-4ee0-a5a7-aca46673ff99
DTSTART:20260519T150000
DTEND:20260519T153000
DESCRIPTION:
LOCATION:
SUMMARY: Bake Wars-House of Knowledge
END:VEVENT
BEGIN:VEVENT
DTSTAMP:20260423T120736Z
UID:f5ed1fba-c0f7-40b4-bb2b-03499cbe0712
DTSTART:20260520T083000
DTEND:20260520T101000
DESCRIPTION:Periods 1 & 2
LOCATION:
SUMMARY:Chorus Concert Rehearsal
END:VEVENT
BEGIN:VEVENT
DTSTAMP:20260423T120736Z
UID:dbc83877-b0a4-4527-97fb-5e6f281e2c1c
DTSTART;VALUE=DATE:20260525
DTEND;VALUE=DATE:20260526
DESCRIPTION:
LOCATION:
SUMMARY:Schools Closed/Memorial Day
END:VEVENT
BEGIN:VEVENT
DTSTAMP:20260423T120736Z
UID:98482e2b-4eb1-4a8a-90ce-9d5021fa5f37
DTSTART;VALUE=DATE:20260526
DTEND;VALUE=DATE:20260527
DESCRIPTION:
LOCATION:
SUMMARY:GCMS Nothing Due Day
END:VEVENT
BEGIN:VEVENT
DTSTAMP:20260423T120736Z
UID:5dfd4bb9-303d-4112-830b-07cc12c3df3a
DTSTART:20260527T091900
DTEND:20260527T095000
DESCRIPTION:
LOCATION:
SUMMARY:GCMS Enrichment
END:VEVENT
BEGIN:VEVENT
DTSTAMP:20260423T120736Z
UID:4e9ee9da-836b-42f3-8ee2-57d1a93ea79a
DTSTART:20260528T131500
DTEND:20260528T145000
DESCRIPTION:Periods 7& 8
LOCATION:
SUMMARY:Chorus Concert Rehearsal
END:VEVENT
BEGIN:VEVENT
DTSTAMP:20260423T120736Z
UID:ba5dece9-df68-43d5-8fc5-138b4e20ed9c
DTSTART:20260528T150000
DTEND:20260528T153000
DESCRIPTION:
LOCATION:
SUMMARY: Bake Wars-House of Courage
END:VEVENT
BEGIN:VEVENT
DTSTAMP:20260423T120736Z
UID:8bfac0ee-783d-4650-89f9-36367c5ad74f
DTSTART:20260528T173000
DTEND:20260528T190000
DESCRIPTION:
LOCATION:
SUMMARY:GCMS Art Show
END:VEVENT
BEGIN:VEVENT
DTSTAMP:20260423T120736Z
UID:06e3e1ad-ae25-4aa3-a98d-4cd0aa1caaa6
DTSTART:20260528T190000
DTEND:20260528T200000
DESCRIPTION:
LOCATION:GCMS Auditorium
SUMMARY:GCMS Chorus & Jazz Band Spring Concert
END:VEVENT
BEGIN:VEVENT
DTSTAMP:20260423T120736Z
UID:c971e4ec-f5fb-4dd9-90d0-7c076469372e
DTSTART;VALUE=DATE:20260529
DTEND;VALUE=DATE:20260530
DESCRIPTION:
LOCATION:
SUMMARY:GCMS Link-it (Form C)
END:VEVENT
BEGIN:VEVENT
DTSTAMP:20260423T120736Z
UID:7aeb9c17-76e9-4f5c-94fb-37025266b218
DTSTART;VALUE=DATE:20260602
DTEND;VALUE=DATE:20260603
DESCRIPTION:
LOCATION:
SUMMARY:Schools Closed/Election Day
END:VEVENT
BEGIN:VEVENT
DTSTAMP:20260423T120736Z
UID:6f8080b4-6d24-42de-b100-eb1aef0d640a
DTSTART:20260603T091900
DTEND:20260603T095000
DESCRIPTION:
LOCATION:
SUMMARY:GCMS Enrichment
END:VEVENT
BEGIN:VEVENT
DTSTAMP:20260423T120736Z
UID:29d8b4e7-a5ac-4131-96bc-421a88d779b1
DTSTART:20260604T131500
DTEND:20260604T141500
DESCRIPTION:Keeping the Stories Alive (Survivors Speak)
LOCATION:
SUMMARY: 7 and 8th Grade Assembly
END:VEVENT
BEGIN:VEVENT
DTSTAMP:20260423T120736Z
UID:1011a248-514c-41c9-8665-306170d08ee2
DTSTART:20260609T183000
DTEND:20260609T193000
DESCRIPTION:
LOCATION:
SUMMARY:GCMS 7th Grade Comparative Government Night
END:VEVENT
BEGIN:VEVENT
DTSTAMP:20260423T120736Z
UID:6f9d7401-9cbe-43fd-a882-c9ec1740ef4a
DTSTART:20260610T090000
DTEND:20260610T130000
DESCRIPTION:
LOCATION:
SUMMARY:GAP In House Field Trip (Problem Solving Competition) 
END:VEVENT
BEGIN:VEVENT
DTSTAMP:20260423T120736Z
UID:5ac6051d-7765-41e0-88a9-195e73aec7f0
DTSTART:20260610T091900
DTEND:20260610T095000
DESCRIPTION:
LOCATION:
SUMMARY:GCMS Advisory
END:VEVENT
BEGIN:VEVENT
DTSTAMP:20260423T120736Z
UID:614a1989-8a10-42f3-9ac8-bea27517dce6
DTSTART:20260611T150000
DTEND:20260611T153000
DESCRIPTION:
LOCATION:
SUMMARY: Bake Wars-House of Leadership
END:VEVENT
BEGIN:VEVENT
DTSTAMP:20260423T120736Z
UID:dc5880dc-ed3b-4f11-9845-2782a302f3f6
DTSTART:20260611T180000
DTEND:20260611T210000
DESCRIPTION:
LOCATION:The Hanover Manor\, 16 Eagle Rock Ave\, East Hanover\, NJ 07936\, 
 USA
SUMMARY:GCMS 8th Grade Dance
END:VEVENT
BEGIN:VEVENT
DTSTAMP:20260423T120736Z
UID:244ca84a-fe87-49b9-8296-35e33030cd97
DTSTART:20260615T080000
DTEND:20260615T151500
DESCRIPTION:
LOCATION:
SUMMARY:GCMS 8th grade trip
END:VEVENT
BEGIN:VEVENT
DTSTAMP:20260423T120736Z
UID:f3f0168a-45c0-48d5-a42c-7a39d64d9dc5
DTSTART:20260616T123000
DTEND:20260616T150000
DESCRIPTION:
LOCATION:
SUMMARY:8th Grade Pool Party
END:VEVENT
BEGIN:VEVENT
DTSTAMP:20260423T120736Z
UID:0a114dd2-7ad3-4aaa-9c85-6205bac0768c
DTSTART:20260616T180000
DTEND:20260616T183000
DESCRIPTION:
LOCATION:
SUMMARY:GCMS HSA Meeting
END:VEVENT
BEGIN:VEVENT
DTSTAMP:20260423T120736Z
UID:a608fbb3-8b31-405a-8764-06ef2a3b715c
DTSTART:20260616T183000
DTEND:20260616T193000
DESCRIPTION:
LOCATION:
SUMMARY:GCMS Incoming 6th Grade Parent Night
END:VEVENT
BEGIN:VEVENT
DTSTAMP:20260423T120736Z
UID:c0f66af2-06e5-4972-91c2-9da4fb15cd0b
DTSTART:20260617T091900
DTEND:20260617T095000
DESCRIPTION:
LOCATION:
SUMMARY:GCMS Enrichment
END:VEVENT
BEGIN:VEVENT
DTSTAMP:20260423T120736Z
UID:981f81b9-4c16-4ac3-9be8-d75b22d51833
DTSTART:20260617T160000
DTEND:20260617T170000
DESCRIPTION:
LOCATION:
SUMMARY:GCMS Promotion Ceremony
END:VEVENT
BEGIN:VEVENT
DTSTAMP:20260423T120736Z
UID:591722d0-781c-4f5f-afa3-4c8d41c839f2
DTSTART;VALUE=DATE:20260618
DTEND;VALUE=DATE:20260619
DESCRIPTION:
LOCATION:
SUMMARY:Early Dismissal all Schools
END:VEVENT
BEGIN:VEVENT
DTSTAMP:20260423T120736Z
UID:3f83bf56-873e-4b45-8c56-37492d273d6c
DTSTART;VALUE=DATE:20260618
DTEND;VALUE=DATE:20260619
DESCRIPTION:
LOCATION:
SUMMARY:GCMS MP 4 Ends
END:VEVENT
BEGIN:VEVENT
DTSTAMP:20260423T120736Z
UID:bc6ba7b5-ec87-43e4-a6c0-ef960729ea32
DTSTART;VALUE=DATE:20260618
DTEND;VALUE=DATE:20260619
DESCRIPTION:
LOCATION:
SUMMARY:Last Day Of School
END:VEVENT
BEGIN:VEVENT
DTSTAMP:20260423T120736Z
UID:521059ff-cf0a-4d4c-b924-c6946a5a0e16
DTSTART;VALUE=DATE:20260619
DTEND;VALUE=DATE:20260620
DESCRIPTION:
LOCATION:
SUMMARY:Juneteenth  Holiday Offices Closed
END:VEVENT
BEGIN:VEVENT
DTSTAMP:20260423T120736Z
UID:76a381c8-6a7f-449b-a380-85ce3b8d45c5
DTSTART;VALUE=DATE:20260703
DTEND;VALUE=DATE:20260704
DESCRIPTION:
LOCATION:
SUMMARY:(July 4 Observed)
END:VEVENT
BEGIN:VEVENT
DTSTAMP:20260423T120736Z
UID:1ef5f877-6e98-452b-aac5-0b8316e2e78e
DTSTART:20260908T080000
DTEND:20260908T150000
DESCRIPTION:
LOCATION:
SUMMARY:GCMS Picture Day 
END:VEVENT
BEGIN:VEVENT
DTSTAMP:20260423T120736Z
UID:397f93ee-d046-4249-9c00-b77f26f7230b
DTSTART:20260908T183000
DTEND:20260908T200000
DESCRIPTION:
LOCATION:
SUMMARY:GCMS Back to School Night
END:VEVENT
BEGIN:VEVENT
DTSTAMP:20260423T120736Z
UID:51d2c9c3-b65f-4bab-9ddd-f103f5b20522
DTSTART:20261006T080000
DTEND:20261006T150000
DESCRIPTION:
LOCATION:
SUMMARY:GCMS Retake Picture Day
END:VEVENT
END:VCALENDAR
