BEGIN:VCALENDAR
VERSION:2.0
PRODID:icalendar-ruby
CALSCALE:GREGORIAN
BEGIN:VTIMEZONE
TZID:America/New_York
BEGIN:DAYLIGHT
DTSTART:20260308T030000
TZOFFSETFROM:-0500
TZOFFSETTO:-0400
RRULE:FREQ=YEARLY;BYDAY=2SU;BYMONTH=3
TZNAME:EDT
END:DAYLIGHT
BEGIN:STANDARD
DTSTART:20261101T010000
TZOFFSETFROM:-0400
TZOFFSETTO:-0500
RRULE:FREQ=YEARLY;BYDAY=1SU;BYMONTH=11
TZNAME:EST
END:STANDARD
END:VTIMEZONE
BEGIN:VEVENT
DTSTAMP:20260424T024712Z
UID:c8f46787-b15e-4bde-8250-1f9502f6bd2e
DTSTART:20260427T190000
DTEND:20260427T210000
DESCRIPTION:
LOCATION:West Morris Central High School\, 259 Bartley Rd\, Chester\, NJ 07
 930\, USA
SUMMARY:Board of Education Meeting - Public Hearing of 2026-27 Budget
END:VEVENT
BEGIN:VEVENT
DTSTAMP:20260424T024712Z
UID:562fb38c-4650-4092-b1f3-f806514c27a0
DTSTART:20260511T190000
DTEND:20260511T210000
DESCRIPTION:
LOCATION:West Morris Mendham High School\, 65 E Main St\, Mendham\, NJ 0794
 5\, USA
SUMMARY:Board of Education Meeting - Authorization Meeting
END:VEVENT
BEGIN:VEVENT
DTSTAMP:20260424T024712Z
UID:e09a35e9-9af3-4c9a-9e47-7477486eab1d
DTSTART;VALUE=DATE:20260525
DTEND;VALUE=DATE:20260526
DESCRIPTION:
LOCATION:
SUMMARY:Memorial Day - No School
END:VEVENT
BEGIN:VEVENT
DTSTAMP:20260424T024712Z
UID:3f2ee6ec-2b5c-4cc5-bf2f-e1aaf8c9dcf3
DTSTART;VALUE=DATE:20260612
DTEND;VALUE=DATE:20260613
DESCRIPTION:
LOCATION:
SUMMARY:Graduation Day - Last Day of School
END:VEVENT
BEGIN:VEVENT
DTSTAMP:20260424T024712Z
UID:bbb90ea6-aefc-46d5-8406-e53fbba22782
DTSTART:20260622T190000
DTEND:20260622T210000
DESCRIPTION:
LOCATION:West Morris Central High School\, 259 Bartley Rd\, Chester\, NJ 07
 930\, USA
SUMMARY:Board of Education Meeting
END:VEVENT
BEGIN:VEVENT
DTSTAMP:20260424T024712Z
UID:69a266da-81fd-4be3-8dba-fd4c9b922f65
DTSTART:20260720T190000
DTEND:20260720T210000
DESCRIPTION:
LOCATION:West Morris Mendham High School\, 65 E Main St\, Mendham\, NJ 0794
 5\, USA
SUMMARY:Board of Education Meeting
END:VEVENT
BEGIN:VEVENT
DTSTAMP:20260424T024712Z
UID:1f9e91b3-1de8-4b06-bf0f-d52ad9a0dd65
DTSTART:20260817T190000
DTEND:20260817T210000
DESCRIPTION:
LOCATION:West Morris Central High School\, 259 Bartley Rd\, Chester\, NJ 07
 930\, USA
SUMMARY:Board of Education Meeting
END:VEVENT
BEGIN:VEVENT
DTSTAMP:20260424T024712Z
UID:6b979110-d444-4e04-9edd-98a2cf83a46c
DTSTART:20260914T190000
DTEND:20260914T210000
DESCRIPTION:
LOCATION:West Morris Mendham High School\, 65 E Main St\, Mendham\, NJ 0794
 5\, USA
SUMMARY:Board of Education Meeting
END:VEVENT
BEGIN:VEVENT
DTSTAMP:20260424T024712Z
UID:3fb10a32-7539-483c-bd17-1948a5641560
DTSTART:20261012T190000
DTEND:20261012T210000
DESCRIPTION:
LOCATION:West Morris Central High School\, 259 Bartley Rd\, Chester\, NJ 07
 930\, USA
SUMMARY:Board of Education Meeting
END:VEVENT
BEGIN:VEVENT
DTSTAMP:20260424T024712Z
UID:5fb8148e-37ee-4851-a494-9c1dc5cbbad4
DTSTART;VALUE=DATE:20261103
DTEND;VALUE=DATE:20261104
DESCRIPTION:
LOCATION:
SUMMARY:School Board Voting During General Election
END:VEVENT
BEGIN:VEVENT
DTSTAMP:20260424T024712Z
UID:e2ee9595-ba65-4c7e-b249-6cadc6596a9c
DTSTART:20261109T190000
DTEND:20261109T210000
DESCRIPTION:
LOCATION:West Morris Mendham High School\, 65 E Main St\, Mendham\, NJ 0794
 5\, USA
SUMMARY:Board of Education Meeting
END:VEVENT
BEGIN:VEVENT
DTSTAMP:20260424T024712Z
UID:3313afc6-c95d-4c51-872e-62c155d71a80
DTSTART:20261207T190000
DTEND:20261207T210000
DESCRIPTION:
LOCATION:West Morris Central High School\, 259 Bartley Rd\, Chester\, NJ 07
 930\, USA
SUMMARY:Board of Education Meeting
END:VEVENT
BEGIN:VEVENT
DTSTAMP:20260424T024712Z
UID:d251cae7-c380-4fe5-9231-1369c89d2cdb
DTSTART:20270104T190000
DTEND:20270104T210000
DESCRIPTION:
LOCATION:West Morris Mendham High School\, 65 E Main St\, Mendham\, NJ 0794
 5\, USA
SUMMARY:Board of Education Meeting - Organization Meeting
END:VEVENT
END:VCALENDAR
