BEGIN:VCALENDAR
VERSION:2.0
PRODID:icalendar-ruby
CALSCALE:GREGORIAN
BEGIN:VTIMEZONE
TZID:America/New_York
BEGIN:DAYLIGHT
DTSTART:20260308T030000
TZOFFSETFROM:-0500
TZOFFSETTO:-0400
RRULE:FREQ=YEARLY;BYDAY=2SU;BYMONTH=3
TZNAME:EDT
END:DAYLIGHT
BEGIN:STANDARD
DTSTART:20261101T010000
TZOFFSETFROM:-0400
TZOFFSETTO:-0500
RRULE:FREQ=YEARLY;BYDAY=1SU;BYMONTH=11
TZNAME:EST
END:STANDARD
END:VTIMEZONE
BEGIN:VEVENT
DTSTAMP:20260420T154147Z
UID:819da988-4579-4fbf-9f57-b1d5c397790b
DTSTART;VALUE=DATE:20260406
DTEND;VALUE=DATE:20260425
DESCRIPTION:
LOCATION:
SUMMARY:HU PTO Plant Sale
END:VEVENT
BEGIN:VEVENT
DTSTAMP:20260420T154147Z
UID:c0b24c6d-c504-4e93-9c8c-0647f4b860e4
DTSTART:20260424T190000
DTEND:20260424T210000
DESCRIPTION:
LOCATION:Smith School 
SUMMARY:Smith Musical Performance
END:VEVENT
BEGIN:VEVENT
DTSTAMP:20260420T154147Z
UID:861a60f1-c2ec-4a4e-b149-f1496d4a9ebb
DTSTART:20260425T120000
DTEND:20260425T140000
DESCRIPTION:
LOCATION:Smith School
SUMMARY:Smith Musical Performance #2
END:VEVENT
BEGIN:VEVENT
DTSTAMP:20260420T154147Z
UID:945b032a-dafd-4b29-a68f-2704bd31e121
DTSTART:20260425T160000
DTEND:20260425T180000
DESCRIPTION:
LOCATION:Smith School 
SUMMARY:Smith Musical Performance #3
END:VEVENT
BEGIN:VEVENT
DTSTAMP:20260420T154147Z
UID:a919c125-43db-482b-b8bf-f86230205988
DTSTART:20260428T190000
DTEND:20260428T210000
DESCRIPTION:
LOCATION:
SUMMARY:BOE Meeting
END:VEVENT
BEGIN:VEVENT
DTSTAMP:20260420T154147Z
UID:28a0c8c6-6c51-4523-92d0-e1d8830c2847
DTSTART:20260429T091500
DTEND:20260429T101500
DESCRIPTION:
LOCATION:Cafeteria
SUMMARY:HU PTO Meeting
END:VEVENT
BEGIN:VEVENT
DTSTAMP:20260420T154147Z
UID:46ee4847-2728-4b23-878c-990056c9f34f
DTSTART;VALUE=DATE:20260501
DTEND;VALUE=DATE:20260502
DESCRIPTION:
LOCATION:
SUMMARY:HU School Pride Day
END:VEVENT
BEGIN:VEVENT
DTSTAMP:20260420T154147Z
UID:3061c030-c960-4915-9315-b34acd6271d9
DTSTART:20260501T173000
DTEND:20260501T203000
DESCRIPTION:
LOCATION:RHS Front Lawn
SUMMARY:RAM Fest
END:VEVENT
BEGIN:VEVENT
DTSTAMP:20260420T154147Z
UID:cf198b97-10f7-4575-baf1-6cac07a3ec75
DTSTART;VALUE=DATE:20260504
DTEND;VALUE=DATE:20260505
DESCRIPTION:
LOCATION:
SUMMARY:HU Wear green for Mental Health Awareness Month
END:VEVENT
BEGIN:VEVENT
DTSTAMP:20260420T154147Z
UID:4b136889-749a-4ca7-b09a-23ffc9b96b99
DTSTART;VALUE=DATE:20260504
DTEND;VALUE=DATE:20260509
DESCRIPTION:
LOCATION:
SUMMARY:HU Staff Appreciation Week
END:VEVENT
BEGIN:VEVENT
DTSTAMP:20260420T154147Z
UID:6dcb91cd-ec88-4afe-8acc-cc69974145c9
DTSTART;VALUE=DATE:20260507
DTEND;VALUE=DATE:20260508
DESCRIPTION:
LOCATION:
SUMMARY:HU Author Visit - Jannie Ho
END:VEVENT
BEGIN:VEVENT
DTSTAMP:20260420T154147Z
UID:edae49c3-88a5-42a2-b70d-a03e2e4250ee
DTSTART:20260508T190000
DTEND:20260508T210000
DESCRIPTION:
LOCATION:RHS Auditorium
SUMMARY:Broadway Night At RHS
END:VEVENT
BEGIN:VEVENT
DTSTAMP:20260420T154147Z
UID:514bd499-3a58-44bd-a283-0a2d16f55e5f
DTSTART;VALUE=DATE:20260511
DTEND;VALUE=DATE:20260516
DESCRIPTION:
LOCATION:
SUMMARY:HU Gr 3 NJSLA-A Assessments
END:VEVENT
BEGIN:VEVENT
DTSTAMP:20260420T154147Z
UID:bc9fb487-c6a9-479b-80b3-3b14579ba0a5
DTSTART:20260515T151500
DTEND:20260515T180000
DESCRIPTION:
LOCATION:
SUMMARY:HU Spring Fest
END:VEVENT
BEGIN:VEVENT
DTSTAMP:20260420T154147Z
UID:fe812d91-e034-4cb1-9fb3-4a1a5cdbacd5
DTSTART:20260516T180000
DTEND:20260516T200000
DESCRIPTION:
LOCATION:RHS Front Lawn / Big Stage
SUMMARY:RHS Outdoor Jazz Concert
END:VEVENT
BEGIN:VEVENT
DTSTAMP:20260420T154147Z
UID:3886b8d5-af64-430c-8a1c-4acb64c9c6dd
DTSTART;VALUE=DATE:20260519
DTEND;VALUE=DATE:20260520
DESCRIPTION:
LOCATION:
SUMMARY:HU Gr 1 and Gr 2 Spring Sing for School
END:VEVENT
BEGIN:VEVENT
DTSTAMP:20260420T154147Z
UID:e4d6d5cc-f11f-414c-a745-75d518bda8e7
DTSTART:20260519T190000
DTEND:20260519T210000
DESCRIPTION:
LOCATION:Smith Cafeteria
SUMMARY:BOE Meeting
END:VEVENT
BEGIN:VEVENT
DTSTAMP:20260420T154147Z
UID:e3e6305e-2643-45de-add6-7fe66b854a68
DTSTART:20260520T093000
DTEND:20260520T103000
DESCRIPTION:
LOCATION:
SUMMARY:HU Gr 1 and Gr 2 Spring Sing for Parents
END:VEVENT
BEGIN:VEVENT
DTSTAMP:20260420T154147Z
UID:e5bb08a5-bdc3-4002-aae9-bd84f44903c0
DTSTART;VALUE=DATE:20260525
DTEND;VALUE=DATE:20260526
DESCRIPTION:
LOCATION:
SUMMARY:District Closed: Memorial Day
END:VEVENT
BEGIN:VEVENT
DTSTAMP:20260420T154147Z
UID:5a1b4e0c-1416-448f-8228-002475fa6943
DTSTART;VALUE=DATE:20260525
DTEND;VALUE=DATE:20260526
DESCRIPTION:
LOCATION:
SUMMARY:District Closed: Memorial Day
END:VEVENT
BEGIN:VEVENT
DTSTAMP:20260420T154147Z
UID:099d5aa7-10f8-44ce-8915-781f70098b25
DTSTART;VALUE=DATE:20260529
DTEND;VALUE=DATE:20260530
DESCRIPTION:
LOCATION:
SUMMARY:HU Field Day
END:VEVENT
BEGIN:VEVENT
DTSTAMP:20260420T154147Z
UID:4d782521-f229-4246-98ee-57793b3c9276
DTSTART;VALUE=DATE:20260602
DTEND;VALUE=DATE:20260603
DESCRIPTION:
LOCATION:
SUMMARY:RHS Minimum Days (Senior Defenses)
END:VEVENT
BEGIN:VEVENT
DTSTAMP:20260420T154147Z
UID:039dfffd-e227-4d93-8bc7-32b48c442fb3
DTSTART:20260602T190000
DTEND:20260602T203000
DESCRIPTION:
LOCATION:
SUMMARY:HU Exhibit Night
END:VEVENT
BEGIN:VEVENT
DTSTAMP:20260420T154147Z
UID:93e8c042-397f-4c59-a6af-82107d32edf1
DTSTART;VALUE=DATE:20260603
DTEND;VALUE=DATE:20260604
DESCRIPTION:
LOCATION:All Schools 
SUMMARY:Ram Jams District Tour - All Schools
END:VEVENT
BEGIN:VEVENT
DTSTAMP:20260420T154147Z
UID:c318abb4-8618-4c01-a351-90954e02cf11
DTSTART;VALUE=DATE:20260603
DTEND;VALUE=DATE:20260604
DESCRIPTION:
LOCATION:
SUMMARY:RHS Minimum Days (Senior Defenses)
END:VEVENT
BEGIN:VEVENT
DTSTAMP:20260420T154147Z
UID:b710ba20-10d9-49ab-81f6-8b772601986b
DTSTART:20260604T093000
DTEND:20260604T103000
DESCRIPTION:
LOCATION:
SUMMARY:HU Incoming Kindergarten Orientation
END:VEVENT
BEGIN:VEVENT
DTSTAMP:20260420T154147Z
UID:30ac53f7-54ef-417d-9953-c305a4a44d27
DTSTART:20260604T100000
DTEND:20260604T110000
DESCRIPTION:
LOCATION:
SUMMARY:HU PTO Meeting and Volunteer Thank You Reception
END:VEVENT
BEGIN:VEVENT
DTSTAMP:20260420T154147Z
UID:1428ab07-36d9-4c81-ac70-a4b4b8ee6e34
DTSTART:20260604T140000
DTEND:20260604T150000
DESCRIPTION:
LOCATION:
SUMMARY:HU Incoming Preschool Orientation
END:VEVENT
BEGIN:VEVENT
DTSTAMP:20260420T154147Z
UID:76d45a6b-e1b9-4327-a127-05a7c4e11b0c
DTSTART:20260604T180000
DTEND:20260604T220000
DESCRIPTION:
LOCATION:OFFSITE 
SUMMARY:REA Retirement Dinner
END:VEVENT
BEGIN:VEVENT
DTSTAMP:20260420T154147Z
UID:c2254465-884e-4031-8f9d-483e06ca93cb
DTSTART;VALUE=DATE:20260605
DTEND;VALUE=DATE:20260606
DESCRIPTION:
LOCATION:
SUMMARY:HU Field Day (Raindate)
END:VEVENT
BEGIN:VEVENT
DTSTAMP:20260420T154147Z
UID:e380f0cd-c0d1-4beb-8b6c-8d5ed05e0c90
DTSTART;VALUE=DATE:20260605
DTEND;VALUE=DATE:20260606
DESCRIPTION:
LOCATION:
SUMMARY:HU School Pride Day
END:VEVENT
BEGIN:VEVENT
DTSTAMP:20260420T154147Z
UID:975a0f52-9619-4628-b854-a1ab2fb5fe54
DTSTART;VALUE=DATE:20260605
DTEND;VALUE=DATE:20260606
DESCRIPTION:
LOCATION:
SUMMARY:Grades 6-7 Minimum Day (8th Grade Defenses)
END:VEVENT
BEGIN:VEVENT
DTSTAMP:20260420T154147Z
UID:c63c4808-4902-4737-8547-cfd024bc440a
DTSTART:20260609T093000
DTEND:20260609T103000
DESCRIPTION:
LOCATION:
SUMMARY:HU Preschool End of Year Family Picnic
END:VEVENT
BEGIN:VEVENT
DTSTAMP:20260420T154147Z
UID:9a9d5fdd-3b67-4d75-ad0c-60a579267324
DTSTART:20260611T093000
DTEND:20260611T103000
DESCRIPTION:
LOCATION:
SUMMARY:HU  Kindergarten Concert for Parents
END:VEVENT
BEGIN:VEVENT
DTSTAMP:20260420T154147Z
UID:0e52dea5-c1ac-443c-acfd-e2ab8ce70e95
DTSTART;VALUE=DATE:20260612
DTEND;VALUE=DATE:20260613
DESCRIPTION:
LOCATION:
SUMMARY:HU Flag Day
END:VEVENT
BEGIN:VEVENT
DTSTAMP:20260420T154147Z
UID:b062aa56-5747-49ae-b7a2-4990ed73b557
DTSTART;VALUE=DATE:20260612
DTEND;VALUE=DATE:20260613
DESCRIPTION:
LOCATION:
SUMMARY:HU Third Grade Picnic
END:VEVENT
BEGIN:VEVENT
DTSTAMP:20260420T154147Z
UID:d43dc6b5-5d27-4543-b635-ac0594550e67
DTSTART;VALUE=DATE:20260615
DTEND;VALUE=DATE:20260616
DESCRIPTION:
LOCATION:
SUMMARY:HU Third Grade Picnic (Raindate)
END:VEVENT
BEGIN:VEVENT
DTSTAMP:20260420T154147Z
UID:7de765d0-1b92-4a3d-85d2-33e5f85b2cae
DTSTART:20260617T183000
DTEND:20260617T200000
DESCRIPTION:
LOCATION:Smith School 
SUMMARY:Middle School Promotion
END:VEVENT
BEGIN:VEVENT
DTSTAMP:20260420T154147Z
UID:78d66a86-9df9-4ee6-bbdc-53af97b7e1d3
DTSTART;VALUE=DATE:20260618
DTEND;VALUE=DATE:20260619
DESCRIPTION:
LOCATION:
SUMMARY:Minimum Day
END:VEVENT
BEGIN:VEVENT
DTSTAMP:20260420T154147Z
UID:a6617b22-1fce-4ea5-83d7-d48d6557c18c
DTSTART;VALUE=DATE:20260618
DTEND;VALUE=DATE:20260619
DESCRIPTION:
LOCATION:
SUMMARY:Minimum Days
END:VEVENT
BEGIN:VEVENT
DTSTAMP:20260420T154147Z
UID:e839a537-884f-4ed8-9ba0-849e6f5c46fc
DTSTART;VALUE=DATE:20260619
DTEND;VALUE=DATE:20260620
DESCRIPTION:
LOCATION:
SUMMARY:3rd Trimester Report Cards K-3 available on Parent Portal after 1pm
END:VEVENT
BEGIN:VEVENT
DTSTAMP:20260420T154147Z
UID:7abe7f72-ee36-4869-9422-9f69559ffd3a
DTSTART;VALUE=DATE:20260619
DTEND;VALUE=DATE:20260620
DESCRIPTION:
LOCATION:
SUMMARY:End of 3rd trimester K-3
END:VEVENT
BEGIN:VEVENT
DTSTAMP:20260420T154147Z
UID:26514f1f-53d7-443e-8157-120f84dbbda7
DTSTART;VALUE=DATE:20260619
DTEND;VALUE=DATE:20260620
DESCRIPTION:
LOCATION:
SUMMARY:HU Preschool Progress Reports in backpacks
END:VEVENT
BEGIN:VEVENT
DTSTAMP:20260420T154147Z
UID:4c1223fb-b0b6-49db-9ee3-2c039b3de8b4
DTSTART;VALUE=DATE:20260619
DTEND;VALUE=DATE:20260620
DESCRIPTION:
LOCATION:
SUMMARY:Last Day for Students
END:VEVENT
BEGIN:VEVENT
DTSTAMP:20260420T154147Z
UID:065f4008-07e1-4a9d-9927-6053349c2f3f
DTSTART;VALUE=DATE:20260619
DTEND;VALUE=DATE:20260620
DESCRIPTION:
LOCATION:
SUMMARY:Minimum Day
END:VEVENT
BEGIN:VEVENT
DTSTAMP:20260420T154147Z
UID:69475951-a743-49d1-9e3c-3b2e4b4c4d6b
DTSTART;VALUE=DATE:20260619
DTEND;VALUE=DATE:20260620
DESCRIPTION:
LOCATION:
SUMMARY:Last Day for Students
END:VEVENT
BEGIN:VEVENT
DTSTAMP:20260420T154147Z
UID:12925cba-c8af-4017-8466-551b9951c0a3
DTSTART;VALUE=DATE:20260619
DTEND;VALUE=DATE:20260620
DESCRIPTION:
LOCATION:
SUMMARY:Minimum Days
END:VEVENT
BEGIN:VEVENT
DTSTAMP:20260420T154147Z
UID:8bc4eac1-82e9-485f-a39b-7b26b7ea59ab
DTSTART:20260619T123000
DTEND:20260619T124500
DESCRIPTION:
LOCATION:
SUMMARY:HU Third Grade Clap Out
END:VEVENT
BEGIN:VEVENT
DTSTAMP:20260420T154147Z
UID:733b0a6b-d501-496d-b91e-6eeb63f57b49
DTSTART:20260619T183000
DTEND:20260619T203000
DESCRIPTION:
LOCATION:Ramsey High School 
SUMMARY:High School Graduation
END:VEVENT
BEGIN:VEVENT
DTSTAMP:20260420T154147Z
UID:562b8006-6e38-4d19-a843-f83ce3540c09
DTSTART;VALUE=DATE:20260622
DTEND;VALUE=DATE:20260623
DESCRIPTION:
LOCATION:
SUMMARY:Professional Day for Staff
END:VEVENT
BEGIN:VEVENT
DTSTAMP:20260420T154147Z
UID:9dac066a-3095-44b4-8a7a-2ff2952a8088
DTSTART:20260622T080000
DTEND:20260622T150000
DESCRIPTION:
LOCATION:
SUMMARY:Professional Days for Staff
END:VEVENT
BEGIN:VEVENT
DTSTAMP:20260420T154147Z
UID:ff7a29d9-fd92-4758-8ba1-8ed8342d5965
DTSTART;VALUE=DATE:20260623
DTEND;VALUE=DATE:20260624
DESCRIPTION:
LOCATION:
SUMMARY:Professional Day for Staff
END:VEVENT
BEGIN:VEVENT
DTSTAMP:20260420T154147Z
UID:7af4d00c-19bf-4b3d-aa1d-7f6266d00880
DTSTART:20260623T080000
DTEND:20260623T150000
DESCRIPTION:
LOCATION:
SUMMARY:Professional Days for Staff
END:VEVENT
BEGIN:VEVENT
DTSTAMP:20260420T154147Z
UID:2d1ffeb2-27c3-413f-8aa6-1992393367b2
DTSTART:20260623T190000
DTEND:20260623T210000
DESCRIPTION:
LOCATION:Smith Cafeteria 
SUMMARY:BOE Meeting
END:VEVENT
END:VCALENDAR
