BEGIN:VCALENDAR
VERSION:2.0
PRODID:icalendar-ruby
CALSCALE:GREGORIAN
BEGIN:VTIMEZONE
TZID:America/Chicago
BEGIN:DAYLIGHT
DTSTART:20260308T030000
TZOFFSETFROM:-0600
TZOFFSETTO:-0500
RRULE:FREQ=YEARLY;BYDAY=2SU;BYMONTH=3
TZNAME:CDT
END:DAYLIGHT
BEGIN:STANDARD
DTSTART:20261101T010000
TZOFFSETFROM:-0500
TZOFFSETTO:-0600
RRULE:FREQ=YEARLY;BYDAY=1SU;BYMONTH=11
TZNAME:CST
END:STANDARD
END:VTIMEZONE
BEGIN:VEVENT
DTSTAMP:20260422T164011Z
UID:7aab2280-3c30-48f7-b0e4-0f07fa2a470d
DTSTART;VALUE=DATE:20260424
DTEND;VALUE=DATE:20260425
DESCRIPTION:JV @ 4:30 PM\nVarsity @ 7:00 PM
LOCATION:
SUMMARY:Baseball @ Lindale
END:VEVENT
BEGIN:VEVENT
DTSTAMP:20260422T164011Z
UID:d273174e-f0df-447d-9c17-7dfca3143711
DTSTART;VALUE=DATE:20260501
DTEND;VALUE=DATE:20260503
DESCRIPTION:
LOCATION:
SUMMARY:Regional Track Meet @ East Texas A&M University
END:VEVENT
BEGIN:VEVENT
DTSTAMP:20260422T164011Z
UID:67da2b87-2046-42d0-92ed-3f7d14c30ad2
DTSTART;VALUE=DATE:20260807
DTEND;VALUE=DATE:20260808
DESCRIPTION:
LOCATION:
SUMMARY:Red & White Football Scrimmage
END:VEVENT
BEGIN:VEVENT
DTSTAMP:20260422T164011Z
UID:c746d664-9a6b-4882-8120-0fd1ee631213
DTSTART;VALUE=DATE:20260814
DTEND;VALUE=DATE:20260815
DESCRIPTION:
LOCATION:
SUMMARY:Football Scrimmage vs Edgewood
END:VEVENT
BEGIN:VEVENT
DTSTAMP:20260422T164011Z
UID:963b330a-9007-4e0f-8db7-926ba125b6ad
DTSTART;VALUE=DATE:20260820
DTEND;VALUE=DATE:20260821
DESCRIPTION:
LOCATION:
SUMMARY:Football Scrimmage vs Corsicana
END:VEVENT
BEGIN:VEVENT
DTSTAMP:20260422T164011Z
UID:4e3f4fff-9126-4bee-8fd0-afa94638c866
DTSTART;VALUE=DATE:20260828
DTEND;VALUE=DATE:20260829
DESCRIPTION:
LOCATION:
SUMMARY:Football @ Center
END:VEVENT
BEGIN:VEVENT
DTSTAMP:20260422T164011Z
UID:2fe95f40-4e67-4a6d-bd9c-10bc46f494a1
DTSTART;VALUE=DATE:20260904
DTEND;VALUE=DATE:20260905
DESCRIPTION:
LOCATION:
SUMMARY:Football @ Dallas Carter
END:VEVENT
BEGIN:VEVENT
DTSTAMP:20260422T164011Z
UID:992a5111-0caa-468d-8bc0-8b8e1979eae1
DTSTART;VALUE=DATE:20260911
DTEND;VALUE=DATE:20260912
DESCRIPTION:
LOCATION:
SUMMARY:Football vs Lindale
END:VEVENT
BEGIN:VEVENT
DTSTAMP:20260422T164011Z
UID:c6d42267-1c02-4627-8835-8c038a2a40e4
DTSTART;VALUE=DATE:20260918
DTEND;VALUE=DATE:20260919
DESCRIPTION:
LOCATION:
SUMMARY:Football @ Pittsburg
END:VEVENT
BEGIN:VEVENT
DTSTAMP:20260422T164011Z
UID:5309b1f2-72a3-48b2-8c40-aead61583e9d
DTSTART;VALUE=DATE:20260925
DTEND;VALUE=DATE:20260926
DESCRIPTION:
LOCATION:
SUMMARY:Football vs Atlanta *HOMECOMING*
END:VEVENT
BEGIN:VEVENT
DTSTAMP:20260422T164011Z
UID:cd530ec2-7d20-4d59-a246-90272af4dd22
DTSTART;VALUE=DATE:20261009
DTEND;VALUE=DATE:20261010
DESCRIPTION:
LOCATION:
SUMMARY:Football vs Canton
END:VEVENT
BEGIN:VEVENT
DTSTAMP:20260422T164011Z
UID:592c93e0-3668-41aa-8f3c-bc59594e3b00
DTSTART;VALUE=DATE:20261016
DTEND;VALUE=DATE:20261017
DESCRIPTION:
LOCATION:
SUMMARY:Football @ Madisonville
END:VEVENT
BEGIN:VEVENT
DTSTAMP:20260422T164011Z
UID:ea48a0ce-8599-4b14-bc4e-5d60922b25ca
DTSTART;VALUE=DATE:20261023
DTEND;VALUE=DATE:20261024
DESCRIPTION:
LOCATION:
SUMMARY:Football vs Brownsboro
END:VEVENT
BEGIN:VEVENT
DTSTAMP:20260422T164011Z
UID:9e5a373a-4d0a-4a96-a66a-4ad00ea824b8
DTSTART;VALUE=DATE:20261030
DTEND;VALUE=DATE:20261031
DESCRIPTION:
LOCATION:
SUMMARY:Football @ Athens
END:VEVENT
BEGIN:VEVENT
DTSTAMP:20260422T164011Z
UID:e2347daf-f40a-443c-b078-10f704a841a4
DTSTART;VALUE=DATE:20261106
DTEND;VALUE=DATE:20261107
DESCRIPTION:
LOCATION:
SUMMARY:Football vs Rusk *SENIOR NIGHT*
END:VEVENT
END:VCALENDAR
