BEGIN:VCALENDAR
VERSION:2.0
PRODID:icalendar-ruby
CALSCALE:GREGORIAN
BEGIN:VTIMEZONE
TZID:America/Chicago
BEGIN:DAYLIGHT
DTSTART:20260308T030000
TZOFFSETFROM:-0600
TZOFFSETTO:-0500
RRULE:FREQ=YEARLY;BYDAY=2SU;BYMONTH=3
TZNAME:CDT
END:DAYLIGHT
BEGIN:STANDARD
DTSTART:20261101T010000
TZOFFSETFROM:-0500
TZOFFSETTO:-0600
RRULE:FREQ=YEARLY;BYDAY=1SU;BYMONTH=11
TZNAME:CST
END:STANDARD
END:VTIMEZONE
BEGIN:VEVENT
DTSTAMP:20260423T111042Z
UID:ec3b6785-caa6-420b-8125-95bc29e0f0e6
DTSTART:20260423T093000
DTEND:20260423T120000
DESCRIPTION:
LOCATION:
SUMMARY:5th Grade Challenger Trip 2
END:VEVENT
BEGIN:VEVENT
DTSTAMP:20260423T111042Z
UID:da0aeba2-41c2-4f88-839f-7976ab4785cf
DTSTART:20260423T170000
DTEND:20260423T190000
DESCRIPTION:
LOCATION:
SUMMARY:Bingo Night at Irving
END:VEVENT
BEGIN:VEVENT
DTSTAMP:20260423T111042Z
UID:24ddbaef-22da-4470-9e1a-f523aed021cf
DTSTART:20260424T090000
DTEND:20260424T103000
DESCRIPTION:
LOCATION:
SUMMARY:4th Grade to watch 5th Grade Band Concert at BHS
END:VEVENT
BEGIN:VEVENT
DTSTAMP:20260423T111042Z
UID:f1d12f61-5641-4c0e-9a39-5e0f3f158e9b
DTSTART:20260427T080000
DTEND:20260427T153000
DESCRIPTION:
LOCATION:
SUMMARY:No School- Non Attendance Day
END:VEVENT
BEGIN:VEVENT
DTSTAMP:20260423T111042Z
UID:f05b553b-788b-4364-be56-b280ae78c649
DTSTART:20260428T160000
DTEND:20260428T180000
DESCRIPTION:Open House for Kindergarten at all buildings.\nLBS1 visit to Sa
 rah Raymond is being changed to another time. \nYou will be paid via Time
  Sheets for this. \nThank you!
LOCATION:
SUMMARY:Kindergarten Open House (District Wide)
END:VEVENT
BEGIN:VEVENT
DTSTAMP:20260423T111042Z
UID:f877776b-2235-4811-860e-bb86ee01ee85
DTSTART:20260429T090000
DTEND:20260429T110000
DESCRIPTION:
LOCATION:
SUMMARY:4th grade instrument Preview day
END:VEVENT
BEGIN:VEVENT
DTSTAMP:20260423T111042Z
UID:99fee510-abd4-4ff3-8d2f-bd8a70dd4cfa
DTSTART:20260430T173000
DTEND:20260430T181500
DESCRIPTION:
LOCATION:
SUMMARY:3rd-5th Spring Concert
END:VEVENT
BEGIN:VEVENT
DTSTAMP:20260423T111042Z
UID:df7e8153-69ed-47be-a844-2df7866e0410
DTSTART:20260501T123000
DTEND:20260501T131500
DESCRIPTION:
LOCATION:
SUMMARY:Prairie Fire Theatre K-2
END:VEVENT
BEGIN:VEVENT
DTSTAMP:20260423T111042Z
UID:26bf500b-e70c-4d8c-b1bb-39845f0b7c88
DTSTART;VALUE=DATE:20260504
DTEND;VALUE=DATE:20260509
DESCRIPTION:
LOCATION:
SUMMARY:Teacher/Staff Appreciation Week
END:VEVENT
BEGIN:VEVENT
DTSTAMP:20260423T111042Z
UID:6c9ab1e2-db7c-4f74-8a11-af32013609ba
DTSTART;VALUE=DATE:20260504
DTEND;VALUE=DATE:20260509
DESCRIPTION:
LOCATION:
SUMMARY:Teacher/Staff Appreciation Week
END:VEVENT
BEGIN:VEVENT
DTSTAMP:20260423T111042Z
UID:23595cf7-db2e-4c30-919f-081b51c77628
DTSTART;VALUE=DATE:20260506
DTEND;VALUE=DATE:20260507
DESCRIPTION:
LOCATION:
SUMMARY:Noodles and Co. PTO Dine & Donate Night
END:VEVENT
BEGIN:VEVENT
DTSTAMP:20260423T111042Z
UID:34c0b4b7-c571-418d-aeb5-1599a409df5c
DTSTART:20260507T093000
DTEND:20260507T123000
DESCRIPTION:Students will be transported to BCA by the Courtney and Erin to
  receive their vaccinations. Paperwork will be shared and sent home soon. 
 Hoping to get them all completed in the morning.
LOCATION:
SUMMARY:5th Grade Vaccination Day at BCA
END:VEVENT
BEGIN:VEVENT
DTSTAMP:20260423T111042Z
UID:163c4280-270c-4b20-9c2f-5e1ee8735f47
DTSTART:20260521T080000
DTEND:20260521T090000
DESCRIPTION:
LOCATION:
SUMMARY:End of 4th Quarter- Last Day of School
END:VEVENT
END:VCALENDAR
