BEGIN:VCALENDAR
VERSION:2.0
PRODID:icalendar-ruby
CALSCALE:GREGORIAN
BEGIN:VTIMEZONE
TZID:America/Chicago
BEGIN:DAYLIGHT
DTSTART:20260308T030000
TZOFFSETFROM:-0600
TZOFFSETTO:-0500
RRULE:FREQ=YEARLY;BYDAY=2SU;BYMONTH=3
TZNAME:CDT
END:DAYLIGHT
BEGIN:STANDARD
DTSTART:20261101T010000
TZOFFSETFROM:-0500
TZOFFSETTO:-0600
RRULE:FREQ=YEARLY;BYDAY=1SU;BYMONTH=11
TZNAME:CST
END:STANDARD
END:VTIMEZONE
BEGIN:VEVENT
DTSTAMP:20260423T133545Z
UID:e82d7c96-6a92-4c8e-b7ea-2ceb26e1b73d
DTSTART;VALUE=DATE:20260427
DTEND;VALUE=DATE:20260428
DESCRIPTION:
LOCATION:
SUMMARY:Non Attendance Day - No School
END:VEVENT
BEGIN:VEVENT
DTSTAMP:20260423T133545Z
UID:1c5aba52-f01d-4df9-a888-613365ce08ee
DTSTART:20260430T170000
DTEND:20260430T190000
DESCRIPTION:
LOCATION:
SUMMARY:Bent Carnival
END:VEVENT
BEGIN:VEVENT
DTSTAMP:20260423T133545Z
UID:5495e0b5-836c-408b-b5a0-ce9782f9d0cd
DTSTART;VALUE=DATE:20260501
DTEND;VALUE=DATE:20260506
DESCRIPTION:
LOCATION:
SUMMARY:Bent Spirit Day
END:VEVENT
BEGIN:VEVENT
DTSTAMP:20260423T133545Z
UID:a32f99ed-0fb2-4d11-ad62-dba59b5d3a54
DTSTART:20260505T090000
DTEND:20260505T123000
DESCRIPTION:
LOCATION:
SUMMARY:Mrs. Dewitt to Miller Park
END:VEVENT
BEGIN:VEVENT
DTSTAMP:20260423T133545Z
UID:bf1a5796-4be1-42ac-98b6-2f819aaafec0
DTSTART:20260505T180000
DTEND:20260505T190000
DESCRIPTION:
LOCATION:
SUMMARY:PTO Meeting
END:VEVENT
BEGIN:VEVENT
DTSTAMP:20260423T133545Z
UID:9b0191a7-a906-4c10-8305-e6469dc010a7
DTSTART:20260508T090000
DTEND:20260508T140000
DESCRIPTION:
LOCATION:
SUMMARY:Mrs. Boznos\, and Mrs. Sanchez to Peoria Zoo
END:VEVENT
BEGIN:VEVENT
DTSTAMP:20260423T133545Z
UID:78c20d85-0465-4718-9324-72661e4465d8
DTSTART:20260513T090000
DTEND:20260513T140000
DESCRIPTION:
LOCATION:
SUMMARY:All 1st Grade Classes to Scovill Zoo in Decatur
END:VEVENT
BEGIN:VEVENT
DTSTAMP:20260423T133545Z
UID:2164bef8-43a4-4529-aa42-da9ba6c5288a
DTSTART:20260518T130500
DTEND:20260518T140000
DESCRIPTION:
LOCATION:
SUMMARY:Prairie Fire Theater  Grades K-2
END:VEVENT
BEGIN:VEVENT
DTSTAMP:20260423T133545Z
UID:94e5a7b1-c3f2-4674-b7af-217f7f463138
DTSTART:20260518T140000
DTEND:20260518T145500
DESCRIPTION:
LOCATION:
SUMMARY:Prairie Fire Theater Grades 3-5
END:VEVENT
BEGIN:VEVENT
DTSTAMP:20260423T133545Z
UID:28badf59-cc6d-4541-b165-8e225abeaba6
DTSTART:20260519T130500
DTEND:20260519T135500
DESCRIPTION:
LOCATION:
SUMMARY:Awards  Assembly  Grades K-2
END:VEVENT
BEGIN:VEVENT
DTSTAMP:20260423T133545Z
UID:26839198-3130-4672-9579-e833883db1d7
DTSTART:20260519T140000
DTEND:20260519T145500
DESCRIPTION:
LOCATION:
SUMMARY:Awards Assembly Grades 3-5 
END:VEVENT
BEGIN:VEVENT
DTSTAMP:20260423T133545Z
UID:c497275e-a83c-4025-b24a-56b86d959e84
DTSTART:20260520T083000
DTEND:20260520T130000
DESCRIPTION:
LOCATION:
SUMMARY:Field Day  at Fred Carlton Field  511 Colton Street Bloomington
END:VEVENT
BEGIN:VEVENT
DTSTAMP:20260423T133545Z
UID:b726fd7a-c32a-4a82-b187-d41ae669c14b
DTSTART;VALUE=DATE:20260521
DTEND;VALUE=DATE:20260522
DESCRIPTION:
LOCATION:
SUMMARY:Last Day of School
END:VEVENT
BEGIN:VEVENT
DTSTAMP:20260423T133545Z
UID:06085e28-ff8c-4ab8-a7c9-929c893a69b5
DTSTART;VALUE=DATE:20260522
DTEND;VALUE=DATE:20260523
DESCRIPTION:
LOCATION:
SUMMARY: School Improvement Day - No School
END:VEVENT
BEGIN:VEVENT
DTSTAMP:20260423T133545Z
UID:9da408f9-40bd-464d-b082-805ecf1d9342
DTSTART;VALUE=DATE:20260525
DTEND;VALUE=DATE:20260526
DESCRIPTION:
LOCATION:
SUMMARY: Memorial Day - No School
END:VEVENT
END:VCALENDAR
