BEGIN:VCALENDAR
VERSION:2.0
PRODID:icalendar-ruby
CALSCALE:GREGORIAN
BEGIN:VTIMEZONE
TZID:America/Chicago
BEGIN:DAYLIGHT
DTSTART:20260308T030000
TZOFFSETFROM:-0600
TZOFFSETTO:-0500
RRULE:FREQ=YEARLY;BYDAY=2SU;BYMONTH=3
TZNAME:CDT
END:DAYLIGHT
BEGIN:STANDARD
DTSTART:20261101T010000
TZOFFSETFROM:-0500
TZOFFSETTO:-0600
RRULE:FREQ=YEARLY;BYDAY=1SU;BYMONTH=11
TZNAME:CST
END:STANDARD
END:VTIMEZONE
BEGIN:VEVENT
DTSTAMP:20260425T180439Z
UID:f7326e0e-72fb-4f08-9443-486268f16dc6
DTSTART;VALUE=DATE:20260413
DTEND;VALUE=DATE:20260509
DESCRIPTION:
LOCATION:
SUMMARY:Elementary Events: ILEARN WINDOW
END:VEVENT
BEGIN:VEVENT
DTSTAMP:20260425T180439Z
UID:cbf428d5-1b84-4074-93ba-b99493ffb582
DTSTART:20260425T173000
DTEND:20260425T183000
DESCRIPTION:
LOCATION:
SUMMARY:Washington Township Middle/High School: WTHS Prom Grand March
END:VEVENT
BEGIN:VEVENT
DTSTAMP:20260425T180439Z
UID:f629aa46-2221-4d0a-8dfb-b45cf38ce92f
DTSTART:20260425T190000
DTEND:20260425T220000
DESCRIPTION:
LOCATION:
SUMMARY:Washington Township Middle/High School: Prom
END:VEVENT
BEGIN:VEVENT
DTSTAMP:20260425T180439Z
UID:43ddd64c-5a09-4e7e-8628-dd402235931b
DTSTART;VALUE=DATE:20260428
DTEND;VALUE=DATE:20260429
DESCRIPTION:
LOCATION:
SUMMARY:Elementary Events: Bus Driver's Day
END:VEVENT
BEGIN:VEVENT
DTSTAMP:20260425T180439Z
UID:c818895f-202a-4e70-a0ec-cb438c219b1b
DTSTART:20260428T080000
DTEND:20260428T130000
DESCRIPTION:
LOCATION:
SUMMARY:Washington Township Middle/High School: WTMS ILEARN 6th Grade Scien
 ce Testing
END:VEVENT
BEGIN:VEVENT
DTSTAMP:20260425T180439Z
UID:ba49f3e8-5bd2-4c5e-a6c1-a7f4a9bf1e34
DTSTART;VALUE=DATE:20260501
DTEND;VALUE=DATE:20260502
DESCRIPTION:
LOCATION:
SUMMARY:Elementary Events: Principal's Day
END:VEVENT
BEGIN:VEVENT
DTSTAMP:20260425T180439Z
UID:4002f029-18ca-48ae-881b-d4d8f5ae4f75
DTSTART;VALUE=DATE:20260501
DTEND;VALUE=DATE:20260502
DESCRIPTION:
LOCATION:
SUMMARY:Elementary Events: School Lunch Hero Day
END:VEVENT
BEGIN:VEVENT
DTSTAMP:20260425T180439Z
UID:335099e1-f24f-42f5-9915-9add2dc6739b
DTSTART;VALUE=DATE:20260504
DTEND;VALUE=DATE:20260509
DESCRIPTION:
LOCATION:
SUMMARY:Elementary Events: Teacher Appreciation Week
END:VEVENT
BEGIN:VEVENT
DTSTAMP:20260425T180439Z
UID:722e31fe-f6b2-40a8-8936-0d7195fab690
DTSTART;VALUE=DATE:20260505
DTEND;VALUE=DATE:20260506
DESCRIPTION:
LOCATION:
SUMMARY:Elementary Events: eLearning Day
END:VEVENT
BEGIN:VEVENT
DTSTAMP:20260425T180439Z
UID:dfca69c4-b8f9-48bf-886d-e533ee4f2346
DTSTART;VALUE=DATE:20260505
DTEND;VALUE=DATE:20260506
DESCRIPTION:
LOCATION:
SUMMARY:Washington Township Middle/High School: E-Learning Day
END:VEVENT
BEGIN:VEVENT
DTSTAMP:20260425T180439Z
UID:963f2659-981a-438a-a606-5b8d4c7b56ab
DTSTART:20260505T080000
DTEND:20260505T120000
DESCRIPTION:
LOCATION:
SUMMARY:Washington Township Middle/High School: AP Chemistry Exam
END:VEVENT
BEGIN:VEVENT
DTSTAMP:20260425T180439Z
UID:8c010a30-6afc-4da5-af02-ad61e163a2a8
DTSTART:20260505T120000
DTEND:20260505T160000
DESCRIPTION:
LOCATION:
SUMMARY:Washington Township Middle/High School: AP Government Exam
END:VEVENT
BEGIN:VEVENT
DTSTAMP:20260425T180439Z
UID:9a4f923b-e2d2-4342-9cfe-ec634f3937dc
DTSTART;VALUE=DATE:20260506
DTEND;VALUE=DATE:20260507
DESCRIPTION:
LOCATION:
SUMMARY:Elementary Events: School Nurse's Day
END:VEVENT
BEGIN:VEVENT
DTSTAMP:20260425T180439Z
UID:1ae710fb-ce53-4ffa-b799-806666cf1725
DTSTART:20260506T080000
DTEND:20260506T120000
DESCRIPTION:
LOCATION:
SUMMARY:Washington Township Middle/High School: AP Lit & Comp Exam
END:VEVENT
BEGIN:VEVENT
DTSTAMP:20260425T180439Z
UID:42bcc16a-696d-4bc9-90ac-ba49ddfa7ad9
DTSTART:20260507T083000
DTEND:20260508T140000
DESCRIPTION:
LOCATION:
SUMMARY:Washington Township Middle/High School: Camp Tecumseh 6th grade Ret
 reat
END:VEVENT
BEGIN:VEVENT
DTSTAMP:20260425T180439Z
UID:6c7254c0-1866-4680-8aae-3214c7a7b4e3
DTSTART:20260507T120000
DTEND:20260507T160000
DESCRIPTION:
LOCATION:
SUMMARY:Washington Township Middle/High School: AP Stats Exam
END:VEVENT
BEGIN:VEVENT
DTSTAMP:20260425T180439Z
UID:a3d9491a-c175-4b84-833e-419503643b28
DTSTART:20260507T190000
DTEND:20260507T200000
DESCRIPTION:
LOCATION:
SUMMARY:Washington Township Middle/High School: IVY Tech Graduation
END:VEVENT
BEGIN:VEVENT
DTSTAMP:20260425T180439Z
UID:ad4bf26e-b204-4482-a8f0-fa30881a8751
DTSTART:20260508T080000
DTEND:20260508T120000
DESCRIPTION:
LOCATION:
SUMMARY:Washington Township Middle/High School: AP US History Exam
END:VEVENT
BEGIN:VEVENT
DTSTAMP:20260425T180439Z
UID:2b992f93-2c3b-4975-95a5-2a171a7ebc55
DTSTART:20260511T080000
DTEND:20260511T120000
DESCRIPTION:
LOCATION:
SUMMARY:Washington Township Middle/High School: AP Calculus AB Exam
END:VEVENT
BEGIN:VEVENT
DTSTAMP:20260425T180439Z
UID:41ad5683-0056-4ce1-b467-0c4647ae9628
DTSTART:20260511T183000
DTEND:20260511T193000
DESCRIPTION:
LOCATION:WTHS Cafeteria
SUMMARY:Washington Township Middle/High School: Key Club Banquet
END:VEVENT
BEGIN:VEVENT
DTSTAMP:20260425T180439Z
UID:37b3aede-23bc-4e01-af07-995db3196503
DTSTART:20260512T080000
DTEND:20260512T120000
DESCRIPTION:
LOCATION:
SUMMARY:Washington Township Middle/High School: AP Pre-Calculus Exam
END:VEVENT
BEGIN:VEVENT
DTSTAMP:20260425T180439Z
UID:f5a16718-35ef-4f27-aad3-804011130ca1
DTSTART:20260512T120000
DTEND:20260512T160000
DESCRIPTION:
LOCATION:
SUMMARY:Washington Township Middle/High School: AP Psychology Exam
END:VEVENT
BEGIN:VEVENT
DTSTAMP:20260425T180439Z
UID:cb789e82-78aa-4fee-a581-40df231c27d4
DTSTART;VALUE=DATE:20260513
DTEND;VALUE=DATE:20260514
DESCRIPTION:
LOCATION:
SUMMARY:Elementary Events: Field Day
END:VEVENT
BEGIN:VEVENT
DTSTAMP:20260425T180439Z
UID:20858c92-3a61-4618-8497-93a8f713a380
DTSTART:20260513T073000
DTEND:20260513T150000
DESCRIPTION:
LOCATION:
SUMMARY:Washington Township Middle/High School: WTHS PBL Presentatons
END:VEVENT
BEGIN:VEVENT
DTSTAMP:20260425T180439Z
UID:6d2c4380-b6bc-437f-a9ad-d0863682e5fe
DTSTART:20260513T080000
DTEND:20260513T120000
DESCRIPTION:
LOCATION:
SUMMARY:Washington Township Middle/High School: AP Lang & Comp Exam
END:VEVENT
BEGIN:VEVENT
DTSTAMP:20260425T180439Z
UID:c0bcca97-9215-4894-8237-9a8b2f9cdd0c
DTSTART:20260513T180000
DTEND:20260513T190000
DESCRIPTION:
LOCATION:Senator Gym
SUMMARY:Washington Township Middle/High School: High School Awards Night
END:VEVENT
BEGIN:VEVENT
DTSTAMP:20260425T180439Z
UID:3b4544a4-6281-4ded-8dd3-9983dd1c87d7
DTSTART:20260514T073000
DTEND:20260514T150000
DESCRIPTION:
LOCATION:
SUMMARY:Washington Township Middle/High School: WTHS PBL Presentatons
END:VEVENT
BEGIN:VEVENT
DTSTAMP:20260425T180439Z
UID:4fd0ed7f-ff55-419d-9bc1-043b438a720e
DTSTART:20260515T080000
DTEND:20260515T120000
DESCRIPTION:
LOCATION:
SUMMARY:Washington Township Middle/High School: AP Environmental Science Ex
 am
END:VEVENT
BEGIN:VEVENT
DTSTAMP:20260425T180439Z
UID:b35d1354-1d89-4500-ae08-fcb00812e21f
DTSTART:20260515T110000
DTEND:20260515T123000
DESCRIPTION:
LOCATION:
SUMMARY:Washington Township Middle/High School: Birky's Porkburger Lunch fo
 r Students and Staff
END:VEVENT
BEGIN:VEVENT
DTSTAMP:20260425T180439Z
UID:78e01bba-3576-43ac-8f7f-cbead76b5c29
DTSTART:20260515T163000
DTEND:20260515T183000
DESCRIPTION:
LOCATION:Track
SUMMARY:Elementary Events: Carnival
END:VEVENT
BEGIN:VEVENT
DTSTAMP:20260425T180439Z
UID:c4364604-dc81-4805-bb16-a7c571c416e7
DTSTART:20260517T180000
DTEND:20260517T193000
DESCRIPTION:
LOCATION:Purdue NW Westville
SUMMARY:Washington Township Middle/High School: EPCSC Top Ten Banquet
END:VEVENT
BEGIN:VEVENT
DTSTAMP:20260425T180439Z
UID:333078d3-17f7-4763-863d-28e5853a951d
DTSTART:20260518T081500
DTEND:20260518T091500
DESCRIPTION:
LOCATION:Dold Gym
SUMMARY:Elementary Events: Book Taco Ceremony
END:VEVENT
BEGIN:VEVENT
DTSTAMP:20260425T180439Z
UID:086da306-f20a-447c-9edb-ae5faba67dcb
DTSTART:20260518T100000
DTEND:20260518T120000
DESCRIPTION:
LOCATION:
SUMMARY:Washington Township Middle/High School: WTMS PBIS to Zao Island
END:VEVENT
BEGIN:VEVENT
DTSTAMP:20260425T180439Z
UID:f65ccbf7-75a1-4321-b965-638b1959044c
DTSTART:20260519T083000
DTEND:20260519T133000
DESCRIPTION:
LOCATION:
SUMMARY:Elementary Events: Elementary ZAO Island Trip
END:VEVENT
BEGIN:VEVENT
DTSTAMP:20260425T180439Z
UID:4b19e8f5-fdd6-4e3f-a372-3c7aeb50700d
DTSTART:20260520T080000
DTEND:20260520T090000
DESCRIPTION:
LOCATION:WTHS Cafeteria
SUMMARY:Washington Township Middle/High School: Senior Cap and Gown Walk + 
 Senior Breakfast
END:VEVENT
BEGIN:VEVENT
DTSTAMP:20260425T180439Z
UID:52953162-70ab-4e07-948e-d503e4b14ce9
DTSTART:20260520T180000
DTEND:20260520T190000
DESCRIPTION:
LOCATION:
SUMMARY:Washington Township Middle/High School: 6th Grade Parent Night
END:VEVENT
BEGIN:VEVENT
DTSTAMP:20260425T180439Z
UID:654bcf26-44d5-4e56-b111-985f4e28cff3
DTSTART:20260521T130000
DTEND:20260521T150000
DESCRIPTION:
LOCATION:
SUMMARY:Washington Township Middle/High School: Earle's Entrepreneurship Po
 p up
END:VEVENT
BEGIN:VEVENT
DTSTAMP:20260425T180439Z
UID:d116ed2a-5b19-4654-acc0-7cf6229ab15d
DTSTART;VALUE=DATE:20260525
DTEND;VALUE=DATE:20260526
DESCRIPTION:
LOCATION:
SUMMARY:Elementary Events: No School - Memorial Day
END:VEVENT
BEGIN:VEVENT
DTSTAMP:20260425T180439Z
UID:56c336e5-9318-4dcf-b853-98788c3ec2a5
DTSTART;VALUE=DATE:20260525
DTEND;VALUE=DATE:20260526
DESCRIPTION:
LOCATION:
SUMMARY:Washington Township Middle/High School: No School - Memorial Day
END:VEVENT
BEGIN:VEVENT
DTSTAMP:20260425T180439Z
UID:07d971fe-8bdb-4b89-8c94-163af7ba5a34
DTSTART;VALUE=DATE:20260526
DTEND;VALUE=DATE:20260527
DESCRIPTION:
LOCATION:Dold Gym
SUMMARY:Elementary Events: Awards/Graduation Setup
END:VEVENT
BEGIN:VEVENT
DTSTAMP:20260425T180439Z
UID:fb3531d6-570d-4e02-884c-0b52111c7d86
DTSTART:20260526T073000
DTEND:20260526T150000
DESCRIPTION:
LOCATION:
SUMMARY:Washington Township Middle/High School: Final Exams
END:VEVENT
BEGIN:VEVENT
DTSTAMP:20260425T180439Z
UID:acb3279d-1a4b-4857-8b83-383da6ec5542
DTSTART;VALUE=DATE:20260527
DTEND;VALUE=DATE:20260528
DESCRIPTION:
LOCATION:
SUMMARY:Elementary Events: Awards Day
END:VEVENT
BEGIN:VEVENT
DTSTAMP:20260425T180439Z
UID:28cea50d-31c3-4aaf-95dc-d26f4009408c
DTSTART:20260527T073000
DTEND:20260527T150000
DESCRIPTION:
LOCATION:
SUMMARY:Washington Township Middle/High School: Final Exams
END:VEVENT
BEGIN:VEVENT
DTSTAMP:20260425T180439Z
UID:bfbaefb0-fef7-4f00-bb7f-fb54a1c14590
DTSTART:20260527T190000
DTEND:20260527T200000
DESCRIPTION:
LOCATION:MPR
SUMMARY:Elementary Events: Kindergarten Graduation
END:VEVENT
BEGIN:VEVENT
DTSTAMP:20260425T180439Z
UID:ec9e6301-8ba3-4f93-b6cd-75a00827f73b
DTSTART;VALUE=DATE:20260528
DTEND;VALUE=DATE:20260529
DESCRIPTION:
LOCATION:
SUMMARY:Elementary Events: Last Day of School:  12:45 Dismissal
END:VEVENT
BEGIN:VEVENT
DTSTAMP:20260425T180439Z
UID:e9aec0eb-c1bf-4fd3-a056-cf417ac27640
DTSTART;VALUE=DATE:20260528
DTEND;VALUE=DATE:20260529
DESCRIPTION:
LOCATION:
SUMMARY:Washington Township Middle/High School: 2nd Semester Ends
END:VEVENT
BEGIN:VEVENT
DTSTAMP:20260425T180439Z
UID:acd70a34-450b-4330-bb9d-9d9a82004b9b
DTSTART;VALUE=DATE:20260528
DTEND;VALUE=DATE:20260529
DESCRIPTION:
LOCATION:
SUMMARY:Washington Township Middle/High School: 4th Grading Period Ends
END:VEVENT
BEGIN:VEVENT
DTSTAMP:20260425T180439Z
UID:fd934051-aa30-45d2-a9b7-c316cdedbf79
DTSTART;VALUE=DATE:20260528
DTEND;VALUE=DATE:20260529
DESCRIPTION:
LOCATION:
SUMMARY:Washington Township Middle/High School: End Q4/S2
END:VEVENT
BEGIN:VEVENT
DTSTAMP:20260425T180439Z
UID:6015f7ac-fc4f-4b0e-a09b-8880bfc3c825
DTSTART:20260528T073000
DTEND:20260528T130000
DESCRIPTION:
LOCATION:
SUMMARY:Washington Township Middle/High School: Final Exams
END:VEVENT
BEGIN:VEVENT
DTSTAMP:20260425T180439Z
UID:0cb9bd69-b82e-41c0-8e9d-eedbcc6ccc03
DTSTART:20260528T075000
DTEND:20260528T083000
DESCRIPTION:
LOCATION:Senator Gym
SUMMARY:Washington Township Middle/High School: MS Awards
END:VEVENT
BEGIN:VEVENT
DTSTAMP:20260425T180439Z
UID:00063c48-4136-48e0-9b05-2d97b22de073
DTSTART:20260602T053000
DTEND:20260605T163000
DESCRIPTION:
LOCATION:Senator Gym
SUMMARY:Washington Township Middle/High School: Graduation Set Up and Tear 
 Down
END:VEVENT
BEGIN:VEVENT
DTSTAMP:20260425T180439Z
UID:47a29d99-712a-4767-af98-52a74450d368
DTSTART:20260603T090000
DTEND:20260603T100000
DESCRIPTION:
LOCATION:
SUMMARY:Washington Township Middle/High School: Graduation Practice
END:VEVENT
BEGIN:VEVENT
DTSTAMP:20260425T180439Z
UID:585c8e16-1f17-46da-ae9d-ffb24a79ea85
DTSTART:20260603T183000
DTEND:20260603T200000
DESCRIPTION:
LOCATION:Senator Gym
SUMMARY:Washington Township Middle/High School: WT Class OF 2026 Graduation
END:VEVENT
BEGIN:VEVENT
DTSTAMP:20260425T180439Z
UID:6b2eafe1-75c9-456d-9133-3f3f4010f81d
DTSTART:20260818T080000
DTEND:20260818T103000
DESCRIPTION:
LOCATION:
SUMMARY:Washington Township Middle/High School: WTMHS School Pictures
END:VEVENT
BEGIN:VEVENT
DTSTAMP:20260425T180439Z
UID:3c5bd652-ad85-4ffb-bf8e-f8dd0601c579
DTSTART:20261028T080000
DTEND:20261028T093000
DESCRIPTION:
LOCATION:
SUMMARY:Washington Township Middle/High School: WTMHS School Pictures Retak
 es
END:VEVENT
BEGIN:VEVENT
DTSTAMP:20260425T180439Z
UID:effe51bf-9646-47bf-aa20-6016794194d1
DTSTART:20261030T080000
DTEND:20261031T170000
DESCRIPTION:
LOCATION:
SUMMARY:Washington Township Middle/High School: EPCSC Natural Helpers Fall 
 Retreat
END:VEVENT
END:VCALENDAR
