BEGIN:VCALENDAR
VERSION:2.0
PRODID:icalendar-ruby
CALSCALE:GREGORIAN
BEGIN:VTIMEZONE
TZID:America/Chicago
BEGIN:DAYLIGHT
DTSTART:20260308T030000
TZOFFSETFROM:-0600
TZOFFSETTO:-0500
RRULE:FREQ=YEARLY;BYDAY=2SU;BYMONTH=3
TZNAME:CDT
END:DAYLIGHT
BEGIN:STANDARD
DTSTART:20261101T010000
TZOFFSETFROM:-0500
TZOFFSETTO:-0600
RRULE:FREQ=YEARLY;BYDAY=1SU;BYMONTH=11
TZNAME:CST
END:STANDARD
END:VTIMEZONE
BEGIN:VEVENT
DTSTAMP:20260425T175222Z
UID:db3dadf7-84c5-4522-b30c-9afc61640ffb
DTSTART:20260425T083000
DTEND:20260426T043000
DESCRIPTION:Start Time: 8:30 AM\nEnd Time: 4:30 AM\nSport: Track & Field\nG
 ender: Girls\nLevel: Varsity\nLocation: Penn High School\nOpponent(s): Pen
 n High School\n
LOCATION:Penn High School
SUMMARY:Track & Field (Varsity Girls): Track & Field (Varsity Girls) @ Penn
  High School
END:VEVENT
BEGIN:VEVENT
DTSTAMP:20260425T175222Z
UID:89de59df-98d2-4b8a-aba9-058eae4322ca
DTSTART:20260425T110000
DTEND:20260425T130000
DESCRIPTION:Start Time: 11:00 AM\nEnd Time: 1:00 PM\nSport: Baseball\nGende
 r: Boys\nLevel: Varsity\nLocation: Morgan Township High Scho\nOpponent(s):
  Michigan City High School\n
LOCATION:Morgan Township High Scho
SUMMARY:Baseball (Boys V) @ Michigan City
END:VEVENT
BEGIN:VEVENT
DTSTAMP:20260425T175222Z
UID:06ecf2f7-c187-4e6a-bd88-25fe6a44d135
DTSTART:20260425T170000
DTEND:20260425T190000
DESCRIPTION:Start Time: 5:00 PM\nEnd Time: 7:00 PM\nSport: Volleyball\nGend
 er: Boys\nLevel: Junior Varsity\nLocation: Kouts High School\nOpponent(s):
  Kouts High School\n
LOCATION:Kouts High School
SUMMARY:Volleyball (Boys JV): Volleyball (Boys JV) @ Kouts High School
END:VEVENT
BEGIN:VEVENT
DTSTAMP:20260425T175222Z
UID:a0a87a99-748a-4ea4-aab1-98cc4c4f9a4e
DTSTART:20260425T183000
DTEND:20260425T203000
DESCRIPTION:Start Time: 6:30 PM\nEnd Time: 8:30 PM\nSport: Volleyball\nGend
 er: Boys\nLevel: Varsity\nLocation: Kouts High School\nOpponent(s): Kouts 
 High School\n
LOCATION:Kouts High School
SUMMARY:Volleyball (Boys V): Volleyball (Boys V) @ Kouts High School
END:VEVENT
BEGIN:VEVENT
DTSTAMP:20260425T175222Z
UID:3349b0ae-a829-4953-a837-582760b7834c
DTSTART:20260427T173000
DTEND:20260427T193000
DESCRIPTION:Start Time: 5:30 PM\nEnd Time: 7:30 PM\nSport: Golf\nGender: Bo
 ys\nLevel: Varsity\nLocation: Creekside Golf Course\nOpponent(s): West Cen
 tral High School\n
LOCATION:Creekside Golf Course
SUMMARY:Golf (Boys V) @ West Central
END:VEVENT
BEGIN:VEVENT
DTSTAMP:20260425T175222Z
UID:021b0b2f-96c8-4040-8459-2a9d0513b398
DTSTART:20260428T163000
DTEND:20260428T183000
DESCRIPTION:Start Time: 4:30 PM\nEnd Time: 6:30 PM\nSport: Track & Field\nG
 ender: Boys\nLevel: Varsity\nLocation: Tri-Township High School\nOpponent(
 s): South Central High School\, Tri-Township High School\n
LOCATION:Tri-Township High School
SUMMARY:Track & Field (Varsity Boys): Track & Field (Varsity Boys) @ Tri-To
 wnship High School
END:VEVENT
BEGIN:VEVENT
DTSTAMP:20260425T175222Z
UID:b43aa431-101a-42c0-a1b2-06219cc1a9c2
DTSTART:20260428T163000
DTEND:20260428T200000
DESCRIPTION:Start Time: 4:30 PM\nEnd Time: 8:00 PM\nSport: Track & Field\nG
 ender: Girls\nLevel: Varsity\nLocation: South Central/Morgan/Tri-Township\
 n
LOCATION:South Central/Morgan/Tri-Township
SUMMARY:Track & Field (Varsity Girls): Track & Field (Varsity Girls) @ Sout
 h Central/Morgan/Tri-Township
END:VEVENT
BEGIN:VEVENT
DTSTAMP:20260425T175222Z
UID:3f1f1286-0c90-4705-9fae-f2ac80cdffc5
DTSTART:20260429T170000
DTEND:20260429T190000
DESCRIPTION:Start Time: 5:00 PM\nEnd Time: 7:00 PM\nSport: Softball\nGender
 : Girls\nLevel: Varsity\nLocation: Culver Academies\nOpponent(s): Culver A
 cademies\n
LOCATION:Culver Academies
SUMMARY:Softball (Girls V) @ Culver Academies
END:VEVENT
BEGIN:VEVENT
DTSTAMP:20260425T175222Z
UID:3517f91e-eef5-4249-a97c-2277ada236d9
DTSTART:20260430T163000
DTEND:20260430T183000
DESCRIPTION:Start Time: 4:30 PM\nEnd Time: 6:30 PM\nSport: Baseball\nGender
 : Boys\nLevel: Junior Varsity\nLocation: Morgan Township HS\nOpponent(s): 
 Valparaiso High School\n
LOCATION:Morgan Township HS
SUMMARY:Baseball (Boys JV): Baseball (Boys JV) @ Valparaiso High School
END:VEVENT
BEGIN:VEVENT
DTSTAMP:20260425T175222Z
UID:8a10e2b9-e064-4f2c-8cb2-260972b219c0
DTSTART:20260501T160000
DTEND:20260501T180000
DESCRIPTION:Start Time: 4:00 PM\nEnd Time: 6:00 PM\nSport: Golf\nGender: Bo
 ys\nLevel: Varsity\nLocation: Hobart High School\nOpponent(s): Hobart High
  School\n
LOCATION:Hobart High School
SUMMARY:Golf (Boys V): Golf (Boys V) @ Morgan Township Middle/High School
END:VEVENT
BEGIN:VEVENT
DTSTAMP:20260425T175222Z
UID:06ae1333-7695-4d5c-a597-7c1303c5292f
DTSTART:20260501T163000
DTEND:20260501T183000
DESCRIPTION:Start Time: 4:30 PM\nEnd Time: 6:30 PM\nSport: Baseball\nGender
 : Boys\nLevel: Varsity\nLocation: Hebron High School\nOpponent(s): Hebron 
 High School\n
LOCATION:Hebron High School
SUMMARY:Baseball (Boys V): Baseball (Boys V) @ Hebron High School
END:VEVENT
BEGIN:VEVENT
DTSTAMP:20260425T175222Z
UID:5ea4823f-0152-4161-bd8c-ee8367bf1704
DTSTART:20260501T163000
DTEND:20260501T183000
DESCRIPTION:Start Time: 4:30 PM\nEnd Time: 6:30 PM\nSport: Softball\nGender
 : Girls\nLevel: Varsity\nLocation: Hebron High School\nOpponent(s): Hebron
  High School\n
LOCATION:Hebron High School
SUMMARY:Softball (Girls V): Softball (Girls V) @ Hebron High School
END:VEVENT
BEGIN:VEVENT
DTSTAMP:20260425T175222Z
UID:085854f3-16f1-4bb8-b578-412db4f70897
DTSTART:20260502T090000
DTEND:20260503T050000
DESCRIPTION:Start Time: 9:00 AM\nEnd Time: 5:00 AM\nSport: Track & Field\nG
 ender: Girls\nLevel: Varsity\nLocation: Kouts Middle/High School\nOpponent
 (s): Bremen High School\, Hebron High School\, Kouts \, Thomas A Edison Jr
 -Sr High School - Lake Station\n
LOCATION:Kouts Middle/High School
SUMMARY:Track & Field (Varsity Girls): Track & Field (Varsity Girls) @ Kout
 s Invite
END:VEVENT
BEGIN:VEVENT
DTSTAMP:20260425T175222Z
UID:d6cc3e0f-1a73-4aab-962d-5561d3dee045
DTSTART:20260504T160000
DTEND:20260504T180000
DESCRIPTION:Start Time: 4:00 PM\nEnd Time: 6:00 PM\nSport: Golf\nGender: Bo
 ys\nLevel: Varsity\nLocation: South Central Jr-Sr High School (Union Mills
 )\nOpponent(s): South Central High School\n
LOCATION:South Central Jr-Sr High School (Union Mills)
SUMMARY:Golf (Boys V): Golf (Boys V) @ South Central Jr-Sr High School (Uni
 on Mills)
END:VEVENT
BEGIN:VEVENT
DTSTAMP:20260425T175222Z
UID:d44601b3-ea2b-49f0-bff3-a0ba4e203dd3
DTSTART:20260504T163000
DTEND:20260504T183000
DESCRIPTION:Start Time: 4:30 PM\nEnd Time: 6:30 PM\nSport: Baseball\nGender
 : Boys\nLevel: Varsity\nLocation: LaCrosse High School\nOpponent(s): Tri-T
 ownship Jr.-Sr. High School\n
LOCATION:LaCrosse High School
SUMMARY:Baseball (Boys V): Baseball (Boys V) @ Tri-Township Jr.-Sr. High Sc
 hool
END:VEVENT
BEGIN:VEVENT
DTSTAMP:20260425T175222Z
UID:8d483ca6-62a6-4034-a285-eaf6f6fd3846
DTSTART:20260504T163000
DTEND:20260504T183000
DESCRIPTION:Start Time: 4:30 PM\nEnd Time: 6:30 PM\nSport: Softball\nGender
 : Girls\nLevel: Varsity\nLocation: Tri-Township Jr.-Sr. High School\nOppon
 ent(s): Tri-Township Jr.-Sr. High School\n
LOCATION:Tri-Township Jr.-Sr. High School
SUMMARY:Softball (Girls V): Softball (Girls V) @ Tri-Township Jr.-Sr. High 
 School
END:VEVENT
BEGIN:VEVENT
DTSTAMP:20260425T175222Z
UID:b8731b7c-d85e-4372-95b0-2286c947ee91
DTSTART:20260504T170000
DTEND:20260504T190000
DESCRIPTION:Start Time: 5:00 PM\nEnd Time: 7:00 PM\nSport: Volleyball\nGend
 er: Boys\nLevel: Junior Varsity\nLocation: Illiana Christian High School\n
 Opponent(s): Illiana Christian High School\n
LOCATION:Illiana Christian High School
SUMMARY:Volleyball (Boys JV): Volleyball (Boys JV) @ Illiana Christian High
  School
END:VEVENT
BEGIN:VEVENT
DTSTAMP:20260425T175222Z
UID:d1bf2ac3-df08-4b16-8dcb-60a1005b1d9b
DTSTART:20260504T183000
DTEND:20260504T203000
DESCRIPTION:Start Time: 6:30 PM\nEnd Time: 8:30 PM\nSport: Volleyball\nGend
 er: Boys\nLevel: Varsity\nLocation: Illiana Christian High School\nOpponen
 t(s): Illiana Christian High School\n
LOCATION:Illiana Christian High School
SUMMARY:Volleyball (Boys V) @ Illiana Christian High School
END:VEVENT
BEGIN:VEVENT
DTSTAMP:20260425T175222Z
UID:619d2905-8505-494f-8da2-2e9fe0dab202
DTSTART:20260505T163000
DTEND:20260505T183000
DESCRIPTION:Start Time: 4:30 PM\nEnd Time: 6:30 PM\nSport: Track & Field\nG
 ender: Boys\nLevel: Varsity\nLocation: Boone Grove High School\nOpponent(s
 ): Boone Grove High School\n
LOCATION:Boone Grove High School
SUMMARY:Track & Field (Varsity Boys): Track & Field (Varsity Boys) @ Boone 
 Grove High School
END:VEVENT
BEGIN:VEVENT
DTSTAMP:20260425T175222Z
UID:0597f3b0-6121-4be3-8aa2-30b67bb294bf
DTSTART:20260505T163000
DTEND:20260505T200000
DESCRIPTION:Start Time: 4:30 PM\nEnd Time: 8:00 PM\nSport: Track & Field\nG
 ender: Girls\nLevel: Varsity\nLocation: Boone Grove High School\nOpponent(
 s): Boone Grove High School\n
LOCATION:Boone Grove High School
SUMMARY:Track & Field (Varsity Girls) @ Boone Grove High School
END:VEVENT
BEGIN:VEVENT
DTSTAMP:20260425T175222Z
UID:4baf1084-def6-44ba-a51b-b732021edbc1
DTSTART:20260505T170000
DTEND:20260505T190000
DESCRIPTION:Start Time: 5:00 PM\nEnd Time: 7:00 PM\nSport: Volleyball\nGend
 er: Boys\nLevel: Varsity\nLocation: Morgan Township\nOpponent(s): Portage 
 High School\n
LOCATION:Morgan Township
SUMMARY:Volleyball (Boys V): Volleyball (Boys V) @ Portage High School 
END:VEVENT
BEGIN:VEVENT
DTSTAMP:20260425T175222Z
UID:6f4811cd-ea64-4504-b612-19458c72d1cf
DTSTART:20260506T163000
DTEND:20260506T183000
DESCRIPTION:Start Time: 4:30 PM\nEnd Time: 6:30 PM\nSport: Baseball\nGender
 : Boys\nLevel: Junior Varsity\nLocation: Morgan Township Middle/High Schoo
 l\nOpponent(s): Hebron High School\n
LOCATION:Morgan Township Middle/High School
SUMMARY:Baseball (Boys JV): Baseball (Boys JV) - Hebron Schools-Indiana
END:VEVENT
BEGIN:VEVENT
DTSTAMP:20260425T175222Z
UID:3fed10af-2c61-4dc7-bcc3-f4be57f37c60
DTSTART:20260506T173000
DTEND:20260506T193000
DESCRIPTION:Start Time: 5:30 PM\nEnd Time: 7:30 PM\nSport: Volleyball\nGend
 er: Boys\nLevel: Junior Varsity\nLocation: Morgan Township Middle/High Sch
 ool\nOpponent(s): Andrean High School\n
LOCATION:Morgan Township Middle/High School
SUMMARY:Volleyball (Boys JV): Volleyball (Boys JV) @ Andrean High School
END:VEVENT
BEGIN:VEVENT
DTSTAMP:20260425T175222Z
UID:410a246e-d4fb-43ae-82e6-bed66daa30d7
DTSTART:20260506T190000
DTEND:20260506T210000
DESCRIPTION:Start Time: 7:00 PM\nEnd Time: 9:00 PM\nSport: Volleyball\nGend
 er: Boys\nLevel: Varsity\nLocation: Morgan Township Middle/High School\nOp
 ponent(s): Andrean High School\n
LOCATION:Morgan Township Middle/High School
SUMMARY:Volleyball (Boys V): Volleyball (Boys V) @ Andrean High School
END:VEVENT
BEGIN:VEVENT
DTSTAMP:20260425T175222Z
UID:02d4ee2c-9a32-4ff5-8ca0-295e5b861148
DTSTART:20260507T163000
DTEND:20260507T183000
DESCRIPTION:Start Time: 4:30 PM\nEnd Time: 6:30 PM\nSport: Baseball\nGender
 : Boys\nLevel: Junior Varsity\nLocation: Valparaiso High School\nOpponent(
 s): Valparaiso High School\n
LOCATION:Valparaiso High School
SUMMARY:Baseball (Boys JV): Baseball (Boys JV) @ Valparaiso High School
END:VEVENT
BEGIN:VEVENT
DTSTAMP:20260425T175222Z
UID:72cf602f-f549-474b-9d41-3406c1ce96ec
DTSTART:20260508T170000
DTEND:20260508T190000
DESCRIPTION:Start Time: 5:00 PM\nEnd Time: 7:00 PM\nSport: Baseball\nGender
 : Boys\nLevel: Varsity\nLocation: Morgan Township Middle/High School\nOppo
 nent(s): Westville High School\n
LOCATION:Morgan Township Middle/High School
SUMMARY:Baseball (Boys V): Baseball (Boys V) @ Westville High School
END:VEVENT
BEGIN:VEVENT
DTSTAMP:20260425T175222Z
UID:dc5517c0-6448-4599-bfd0-7ecf3d8e2068
DTSTART:20260508T170000
DTEND:20260508T190000
DESCRIPTION:Start Time: 5:00 PM\nEnd Time: 7:00 PM\nSport: Softball\nGender
 : Girls\nLevel: Varsity\nLocation: Morgan Township Middle/High School\nOpp
 onent(s): Westville High School\n
LOCATION:Morgan Township Middle/High School
SUMMARY:Softball (Girls V): Softball (Girls V) @ Westville High School
END:VEVENT
BEGIN:VEVENT
DTSTAMP:20260425T175222Z
UID:003a81b7-0ccf-4f65-bec9-1c3613654d25
DTSTART:20260509T110000
DTEND:20260509T130000
DESCRIPTION:Start Time: 11:00 AM\nEnd Time: 1:00 PM\nSport: Baseball\nGende
 r: Boys\nLevel: Varsity\nLocation: Griffith Senior High School\nOpponent(s
 ): Griffith Senior High School\n
LOCATION:Griffith Senior High School
SUMMARY:Baseball (Boys V): Baseball (Boys V) @ Griffith Senior High School
END:VEVENT
BEGIN:VEVENT
DTSTAMP:20260425T175222Z
UID:0a2d5b94-6aa8-47db-a394-b791ddba0f19
DTSTART:20260512T170000
DTEND:20260512T190000
DESCRIPTION:Start Time: 5:00 PM\nEnd Time: 7:00 PM\nSport: Baseball\nGender
 : Boys\nLevel: Varsity\nLocation: John Glenn High School\nOpponent(s): Joh
 n Glenn High School\n
LOCATION:John Glenn High School
SUMMARY:Baseball (Boys V) @ John Glenn High School
END:VEVENT
BEGIN:VEVENT
DTSTAMP:20260425T175222Z
UID:34007810-5ed1-4a6f-af1b-6ba8f692190d
DTSTART:20260514T164500
DTEND:20260514T174500
DESCRIPTION:Start Time: 4:45 PM\nEnd Time: 5:45 PM\nSport: Baseball\nGender
 : Boys\nLevel: Junior Varsity\nLocation: Culver Academies\nOpponent(s): Cu
 lver Academies\n
LOCATION:Culver Academies
SUMMARY:Baseball (Boys JV): Baseball (Boys JV) @ Culver Academies
END:VEVENT
BEGIN:VEVENT
DTSTAMP:20260425T175222Z
UID:cf69a140-37ac-4a80-9bb5-94d816b91aa6
DTSTART:20260518T163000
DTEND:20260518T183000
DESCRIPTION:Start Time: 4:30 PM\nEnd Time: 6:30 PM\nSport: Track & Field\nG
 ender: Boys\nLevel: Junior High\nLocation: Kouts Middle/High School\nOppon
 ent(s): Hebron High School\, Kouts \n
LOCATION:Kouts Middle/High School
SUMMARY:Track & Field (MS Girls): Track & Field (MS Girls) @ Hebron/Morgan
END:VEVENT
BEGIN:VEVENT
DTSTAMP:20260425T175222Z
UID:7a4942da-daa6-461b-acca-bf7e3bc47647
DTSTART:20260520T163000
DTEND:20260520T183000
DESCRIPTION:Start Time: 4:30 PM\nEnd Time: 6:30 PM\nSport: Golf\nGender: Bo
 ys\nLevel: Varsity\nLocation: Creekside Golf Course\nOpponent(s): North Ju
 dson High School\, South Central High School\n
LOCATION:Creekside Golf Course
SUMMARY:Golf (Boys V): Golf (Boys V) @ South Central Jr-Sr High School (Uni
 on Mills)\, North Judson-San Pierre Middle/High School
END:VEVENT
BEGIN:VEVENT
DTSTAMP:20260425T175222Z
UID:1100e933-1098-4f42-a614-bc7867588e13
DTSTART:20260521T170000
DTEND:20260521T190000
DESCRIPTION:Start Time: 5:00 PM\nEnd Time: 7:00 PM\nSport: Softball\nGender
 : Girls\nLevel: Varsity\nLocation: Michigan City High School\nOpponent(s):
  Michigan City High School\n
LOCATION:Michigan City High School
SUMMARY:Softball (Girls V): Softball (Girls V) @ Michigan City High School
END:VEVENT
BEGIN:VEVENT
DTSTAMP:20260425T175222Z
UID:e83d4bed-0022-41b9-9f84-318d3dfc2aa9
DTSTART:20260522T163000
DTEND:20260522T183000
DESCRIPTION:Start Time: 4:30 PM\nEnd Time: 6:30 PM\nSport: Softball\nGender
 : Girls\nLevel: Varsity\nLocation: Morgan Township High School\nOpponent(s
 ): Knox High School\n
LOCATION:Morgan Township High School
SUMMARY:Softball (Girls V): Softball (Girls V) - Knox Community High School
END:VEVENT
BEGIN:VEVENT
DTSTAMP:20260425T175222Z
UID:13aa695c-e721-4334-b556-3502b8ece847
DTSTART:20260523T100000
DTEND:20260523T120000
DESCRIPTION:Start Time: 10:00 AM\nEnd Time: 12:00 PM\nSport: Baseball\nGend
 er: Boys\nLevel: Varsity\nLocation: Morgan Township Middle/High School\nOp
 ponent(s): Highland High School\n
LOCATION:Morgan Township Middle/High School
SUMMARY:Baseball (Boys V): Baseball (Boys V) @ Highland High School
END:VEVENT
END:VCALENDAR
