BEGIN:VCALENDAR
VERSION:2.0
PRODID:icalendar-ruby
CALSCALE:GREGORIAN
BEGIN:VTIMEZONE
TZID:America/Chicago
BEGIN:DAYLIGHT
DTSTART:20260308T030000
TZOFFSETFROM:-0600
TZOFFSETTO:-0500
RRULE:FREQ=YEARLY;BYDAY=2SU;BYMONTH=3
TZNAME:CDT
END:DAYLIGHT
BEGIN:STANDARD
DTSTART:20261101T010000
TZOFFSETFROM:-0500
TZOFFSETTO:-0600
RRULE:FREQ=YEARLY;BYDAY=1SU;BYMONTH=11
TZNAME:CST
END:STANDARD
END:VTIMEZONE
BEGIN:VEVENT
DTSTAMP:20260425T193726Z
UID:772e9ae7-09eb-4850-84d8-1fc3e1cf6f15
DTSTART;VALUE=DATE:20260425
DTEND;VALUE=DATE:20260426
DESCRIPTION:
LOCATION:
SUMMARY:BJH Solo & Ensemble @ Decatur
END:VEVENT
BEGIN:VEVENT
DTSTAMP:20260425T193726Z
UID:074b9d23-7d38-4b62-b2fa-fa35a8afe555
DTSTART:20260427T163000
DTEND:20260427T190000
DESCRIPTION:
LOCATION:Decatur High School\, 750 E Eagle Summit Dr\, Decatur\, TX 76234\,
  USA
SUMMARY:Tennis - Decatur
END:VEVENT
BEGIN:VEVENT
DTSTAMP:20260425T193726Z
UID:5928b7cb-6ecf-4939-a8e8-5e935cd7da31
DTSTART;VALUE=DATE:20260428
DTEND;VALUE=DATE:20260429
DESCRIPTION:
LOCATION:
SUMMARY: School Bus Driver Appreciation Day - District will take care of
END:VEVENT
BEGIN:VEVENT
DTSTAMP:20260425T193726Z
UID:ae2a1a3a-32f2-493a-b2bd-7511992129a0
DTSTART:20260429T151500
DTEND:20260429T171500
DESCRIPTION:
LOCATION:
SUMMARY:Sports Physicals 
END:VEVENT
BEGIN:VEVENT
DTSTAMP:20260425T193726Z
UID:c4eae361-00cf-4ec9-ac60-fcdc70a85848
DTSTART;VALUE=DATE:20260430
DTEND;VALUE=DATE:20260501
DESCRIPTION:
LOCATION:
SUMMARY:Lunch Hero Day
END:VEVENT
BEGIN:VEVENT
DTSTAMP:20260425T193726Z
UID:6da5fc0c-9b7c-4ed3-a9c7-af7b3f89bfea
DTSTART;VALUE=DATE:20260430
DTEND;VALUE=DATE:20260501
DESCRIPTION:
LOCATION:
SUMMARY: School Principal Day
END:VEVENT
BEGIN:VEVENT
DTSTAMP:20260425T193726Z
UID:eab949fc-91db-4da3-ae26-6ec749fb723f
DTSTART:20260430T173000
DTEND:20260430T181500
DESCRIPTION:
LOCATION:
SUMMARY:BJH Transition Night Entering 6th\, 7th & 8th Grade
END:VEVENT
BEGIN:VEVENT
DTSTAMP:20260425T193726Z
UID:a2a90723-8616-4413-a9aa-30c14b3f9f3b
DTSTART;VALUE=DATE:20260501
DTEND;VALUE=DATE:20260502
DESCRIPTION:Urban Air
LOCATION:
SUMMARY:6th Grade Band and Choir Trip
END:VEVENT
BEGIN:VEVENT
DTSTAMP:20260425T193726Z
UID:2bce0be5-e7b6-46b3-8bce-d45d44013feb
DTSTART;VALUE=DATE:20260501
DTEND;VALUE=DATE:20260503
DESCRIPTION:
LOCATION:
SUMMARY:HS TRACK REGIONAL MEET 
END:VEVENT
BEGIN:VEVENT
DTSTAMP:20260425T193726Z
UID:193046b0-45e0-4db1-b40b-b178ce752157
DTSTART;VALUE=DATE:20260501
DTEND;VALUE=DATE:20260502
DESCRIPTION:
LOCATION:
SUMMARY: Student / Staff Independent Flex Day
END:VEVENT
BEGIN:VEVENT
DTSTAMP:20260425T193726Z
UID:aef238dc-a569-423a-af46-b6aa12ad9cb8
DTSTART;VALUE=DATE:20260504
DTEND;VALUE=DATE:20260508
DESCRIPTION:
LOCATION:
SUMMARY:BJH Spring Book Fair
END:VEVENT
BEGIN:VEVENT
DTSTAMP:20260425T193726Z
UID:c62f4bfd-eecc-4ea5-afae-069d42f94309
DTSTART;VALUE=DATE:20260504
DTEND;VALUE=DATE:20260506
DESCRIPTION:
LOCATION:
SUMMARY:GIRLS STATE GOLF TOURNAMENT 
END:VEVENT
BEGIN:VEVENT
DTSTAMP:20260425T193726Z
UID:6937848b-1932-4801-bac5-e16fbc140e8e
DTSTART;VALUE=DATE:20260504
DTEND;VALUE=DATE:20260509
DESCRIPTION:
LOCATION:
SUMMARY:Teacher Appreciation Week
END:VEVENT
BEGIN:VEVENT
DTSTAMP:20260425T193726Z
UID:8da738d8-8640-41da-8586-2dc943be2496
DTSTART;VALUE=DATE:20260506
DTEND;VALUE=DATE:20260507
DESCRIPTION:9-11\n12-2
LOCATION:
SUMMARY:6th Grade Field Trip
END:VEVENT
BEGIN:VEVENT
DTSTAMP:20260425T193726Z
UID:521c5547-c147-4f38-be26-74f6c6edea14
DTSTART;VALUE=DATE:20260506
DTEND;VALUE=DATE:20260507
DESCRIPTION:
LOCATION:
SUMMARY:Progress Reports
END:VEVENT
BEGIN:VEVENT
DTSTAMP:20260425T193726Z
UID:5c27bb7b-7e5b-4804-b408-bdda908d5f21
DTSTART;VALUE=DATE:20260506
DTEND;VALUE=DATE:20260507
DESCRIPTION:
LOCATION:
SUMMARY:School Nurse's Day
END:VEVENT
BEGIN:VEVENT
DTSTAMP:20260425T193726Z
UID:2089c494-03c0-4630-8db6-7954336ff736
DTSTART:20260506T170000
DTEND:20260506T180000
DESCRIPTION:
LOCATION:
SUMMARY:BISD Athletics Parent Meeting 
END:VEVENT
BEGIN:VEVENT
DTSTAMP:20260425T193726Z
UID:201d0b2b-2832-4ba0-bc37-78dc374e7bb3
DTSTART;VALUE=DATE:20260507
DTEND;VALUE=DATE:20260509
DESCRIPTION:
LOCATION:
SUMMARY:TENNIS STATE MEET 
END:VEVENT
BEGIN:VEVENT
DTSTAMP:20260425T193726Z
UID:27277565-abe1-4c5e-bab1-27c5d7f73fed
DTSTART;VALUE=DATE:20260508
DTEND;VALUE=DATE:20260509
DESCRIPTION:
LOCATION:
SUMMARY: Student / Staff Independent Flex Day
END:VEVENT
BEGIN:VEVENT
DTSTAMP:20260425T193726Z
UID:5d26b849-d0d7-4df3-8d98-1d02f199074f
DTSTART;VALUE=DATE:20260511
DTEND;VALUE=DATE:20260512
DESCRIPTION:
LOCATION:
SUMMARY:Sports Banquet 
END:VEVENT
BEGIN:VEVENT
DTSTAMP:20260425T193726Z
UID:5918b296-b4ec-4b52-a051-97a3f35ae473
DTSTART:20260511T160000
DTEND:20260511T170000
DESCRIPTION:
LOCATION:
SUMMARY:NJHS Field Trip
END:VEVENT
BEGIN:VEVENT
DTSTAMP:20260425T193726Z
UID:3be798d2-8eab-4391-af8d-2864bfd756d7
DTSTART;VALUE=DATE:20260512
DTEND;VALUE=DATE:20260513
DESCRIPTION:
LOCATION:
SUMMARY:BJH Band Spring Concert @ JHS Auditorium
END:VEVENT
BEGIN:VEVENT
DTSTAMP:20260425T193726Z
UID:fe168853-7001-4532-a7de-f5753f25aa11
DTSTART;VALUE=DATE:20260513
DTEND;VALUE=DATE:20260514
DESCRIPTION:
LOCATION:
SUMMARY:7th Grade Field Trip
END:VEVENT
BEGIN:VEVENT
DTSTAMP:20260425T193726Z
UID:bff1d1a8-d1b3-46ab-b474-8dc6e7db3ef0
DTSTART;VALUE=DATE:20260513
DTEND;VALUE=DATE:20260514
DESCRIPTION:
LOCATION:
SUMMARY:8th Grade Field Trip
END:VEVENT
BEGIN:VEVENT
DTSTAMP:20260425T193726Z
UID:d96456eb-7d7b-49ea-9ebe-34a3e8947765
DTSTART;VALUE=DATE:20260514
DTEND;VALUE=DATE:20260515
DESCRIPTION:
LOCATION:
SUMMARY:Choir Concerts @ BJH Auditorium
END:VEVENT
BEGIN:VEVENT
DTSTAMP:20260425T193726Z
UID:157efe34-68b0-468b-a2eb-14a73074c885
DTSTART;VALUE=DATE:20260514
DTEND;VALUE=DATE:20260516
DESCRIPTION:
LOCATION:
SUMMARY:HS TRACK STATE MEET 
END:VEVENT
BEGIN:VEVENT
DTSTAMP:20260425T193726Z
UID:1f490b02-ec90-40fd-b93a-c4e83ca40473
DTSTART;VALUE=DATE:20260515
DTEND;VALUE=DATE:20260516
DESCRIPTION:
LOCATION:
SUMMARY:Teacher Professional Development / Student Independent Flex Day
END:VEVENT
BEGIN:VEVENT
DTSTAMP:20260425T193726Z
UID:b7aa470d-ff0c-4c5b-872d-5215fbfd562e
DTSTART;VALUE=DATE:20260516
DTEND;VALUE=DATE:20260517
DESCRIPTION:Six Flags
LOCATION:
SUMMARY:8th Grade Band and Choir Trip
END:VEVENT
BEGIN:VEVENT
DTSTAMP:20260425T193726Z
UID:de4c8703-8f72-4368-ad1e-41508b43d734
DTSTART;VALUE=DATE:20260519
DTEND;VALUE=DATE:20260520
DESCRIPTION:
LOCATION:
SUMMARY:Jackrabbit Challenge
END:VEVENT
BEGIN:VEVENT
DTSTAMP:20260425T193726Z
UID:cefac2a9-9e55-454f-a24a-4f8e203f41ee
DTSTART;VALUE=DATE:20260521
DTEND;VALUE=DATE:20260522
DESCRIPTION:
LOCATION:
SUMMARY:Last Day of School
END:VEVENT
BEGIN:VEVENT
DTSTAMP:20260425T193726Z
UID:e9dc98b9-07df-44ab-9210-305bb2a8b0c0
DTSTART;VALUE=DATE:20260522
DTEND;VALUE=DATE:20260523
DESCRIPTION:
LOCATION:
SUMMARY:Teacher Professional Development Day
END:VEVENT
BEGIN:VEVENT
DTSTAMP:20260425T193726Z
UID:6c6a6885-5c84-4bdc-8b4f-438199506ed8
DTSTART;VALUE=DATE:20260601
DTEND;VALUE=DATE:20260606
DESCRIPTION:
LOCATION:
SUMMARY:ATHLETIC WING FLOORS- coaches offices\, wr hallway locker rooms 
END:VEVENT
BEGIN:VEVENT
DTSTAMP:20260425T193726Z
UID:0473b31a-94bc-47b0-8aad-67dff314cf43
DTSTART;VALUE=DATE:20260601
DTEND;VALUE=DATE:20260605
DESCRIPTION:
LOCATION:
SUMMARY:BJH Summer School
END:VEVENT
BEGIN:VEVENT
DTSTAMP:20260425T193726Z
UID:af4c4936-c3b1-4dff-9c88-78f56bb21c62
DTSTART;VALUE=DATE:20260604
DTEND;VALUE=DATE:20260605
DESCRIPTION:
LOCATION:
SUMMARY:Report Cards - BJH/BHS
END:VEVENT
BEGIN:VEVENT
DTSTAMP:20260425T193726Z
UID:d861dc03-7940-48eb-9637-63a690834131
DTSTART;VALUE=DATE:20260608
DTEND;VALUE=DATE:20260612
DESCRIPTION:
LOCATION:
SUMMARY:BJH Summer School
END:VEVENT
BEGIN:VEVENT
DTSTAMP:20260425T193726Z
UID:bc0cfe72-c420-4d75-a393-7f32e894ad4f
DTSTART;VALUE=DATE:20260623
DTEND;VALUE=DATE:20260627
DESCRIPTION:
LOCATION:
SUMMARY:ATHLETIC WING FLOORS- NO MANS LAND- vb/sb locker room\, tile by ble
 achers 
END:VEVENT
END:VCALENDAR
