BEGIN:VCALENDAR
VERSION:2.0
PRODID:icalendar-ruby
CALSCALE:GREGORIAN
BEGIN:VTIMEZONE
TZID:America/New_York
BEGIN:DAYLIGHT
DTSTART:20260308T030000
TZOFFSETFROM:-0500
TZOFFSETTO:-0400
RRULE:FREQ=YEARLY;BYDAY=2SU;BYMONTH=3
TZNAME:EDT
END:DAYLIGHT
BEGIN:STANDARD
DTSTART:20261101T010000
TZOFFSETFROM:-0400
TZOFFSETTO:-0500
RRULE:FREQ=YEARLY;BYDAY=1SU;BYMONTH=11
TZNAME:EST
END:STANDARD
END:VTIMEZONE
BEGIN:VEVENT
DTSTAMP:20260425T120643Z
UID:1e48af5f-e356-40ea-8b38-689c0fc61e5e
DTSTART;VALUE=DATE:20260519
DTEND;VALUE=DATE:20260520
DESCRIPTION:
LOCATION:Starpoint Central School District\, NY\, USA
SUMMARY:Budget Vote & Board Member Election
END:VEVENT
BEGIN:VEVENT
DTSTAMP:20260425T120643Z
UID:f5185521-7836-4adf-9d2f-6a302d69ebf2
DTSTART:20260522T080000
DTEND:20260522T113000
DESCRIPTION:
LOCATION:Starpoint Central School District\, NY\, USA
SUMMARY:1/2 Day UPK-12 / Staff Development
END:VEVENT
BEGIN:VEVENT
DTSTAMP:20260425T120643Z
UID:6c117e10-5a8d-40c7-b113-549aa4ebf93a
DTSTART;VALUE=DATE:20260609
DTEND;VALUE=DATE:20260611
DESCRIPTION:
LOCATION:4363 Mapleton Rd Lot D\, Lockport\, NY 14094\, USA
SUMMARY:Regents Exam
END:VEVENT
BEGIN:VEVENT
DTSTAMP:20260425T120643Z
UID:d94ef42b-66be-4d17-a4b2-993bad27c634
DTSTART;VALUE=DATE:20260617
DTEND;VALUE=DATE:20260619
DESCRIPTION:
LOCATION:
SUMMARY:Regents Exams
END:VEVENT
BEGIN:VEVENT
DTSTAMP:20260425T120643Z
UID:8e0b8e1d-e5c6-4293-937b-05fb41184335
DTSTART:20260618T180000
DTEND:20260618T220000
DESCRIPTION:
LOCATION:237 Main St\, Buffalo\, NY 14203\, USA
SUMMARY:Senior Prom at The Admiral Room
END:VEVENT
BEGIN:VEVENT
DTSTAMP:20260425T120643Z
UID:2b049f23-61ea-4fba-9533-f26972548ea2
DTSTART;VALUE=DATE:20260619
DTEND;VALUE=DATE:20260620
DESCRIPTION:
LOCATION:Starpoint Central School District\, NY\, USA
SUMMARY:Juneteenth - No School
END:VEVENT
BEGIN:VEVENT
DTSTAMP:20260425T120643Z
UID:bc058bac-4101-46e4-9aac-cfc320180a1e
DTSTART;VALUE=DATE:20260622
DTEND;VALUE=DATE:20260626
DESCRIPTION:
LOCATION:
SUMMARY:Regents Exams
END:VEVENT
BEGIN:VEVENT
DTSTAMP:20260425T120643Z
UID:41b2166b-d498-49c8-be52-c68700dc5750
DTSTART:20260627T180000
DTEND:20260627T210000
DESCRIPTION:
LOCATION:Center for the Arts - University at Buffalo\, 100 Coventry Rd\, Bu
 ffalo\, NY 14228\, USA
SUMMARY:High School Graduation @ University of Buffalo
END:VEVENT
END:VCALENDAR
