BEGIN:VCALENDAR
VERSION:2.0
PRODID:icalendar-ruby
CALSCALE:GREGORIAN
BEGIN:VTIMEZONE
TZID:America/Chicago
BEGIN:DAYLIGHT
DTSTART:20260308T030000
TZOFFSETFROM:-0600
TZOFFSETTO:-0500
RRULE:FREQ=YEARLY;BYDAY=2SU;BYMONTH=3
TZNAME:CDT
END:DAYLIGHT
BEGIN:STANDARD
DTSTART:20261101T010000
TZOFFSETFROM:-0500
TZOFFSETTO:-0600
RRULE:FREQ=YEARLY;BYDAY=1SU;BYMONTH=11
TZNAME:CST
END:STANDARD
END:VTIMEZONE
BEGIN:VEVENT
DTSTAMP:20260421T163559Z
UID:501125ad-ad88-4936-aed4-58b59754a2a8
DTSTART:20260422T080000
DTEND:20260422T090000
DESCRIPTION:
LOCATION:
SUMMARY:Late Start
END:VEVENT
BEGIN:VEVENT
DTSTAMP:20260421T163559Z
UID:8ce78ff5-8136-4b6a-a2c7-6fc1c6cc8bad
DTSTART:20260422T190000
DTEND:20260422T210000
DESCRIPTION:
LOCATION:130 W Park Ave\, Wheaton\, IL 60189\, USA
SUMMARY:Board of Education Regular Board Mtg & COW  - School Service Center
END:VEVENT
BEGIN:VEVENT
DTSTAMP:20260421T163559Z
UID:17341d91-71bc-40ca-96c9-9bd808bba7e9
DTSTART:20260423T160000
DTEND:20260423T170000
DESCRIPTION:
LOCATION:Franklin Middle School\, 211 E Franklin St\, Wheaton\, IL 60187\, 
 USA
SUMMARY:Board of Education Facilities Committee Meeting - Franklin MS
END:VEVENT
BEGIN:VEVENT
DTSTAMP:20260421T163559Z
UID:f426589b-ecfb-4c76-bf06-009a99f679e5
DTSTART:20260427T190000
DTEND:20260427T203000
DESCRIPTION:
LOCATION:Wheaton Warrenville South High School\, 1993 Tiger trl\, Wheaton\,
  IL 60189\, USA
SUMMARY:Celebrate Our Stars Event - Student Excellence Foundation
END:VEVENT
BEGIN:VEVENT
DTSTAMP:20260421T163559Z
UID:2fcad789-93ff-460b-be53-821527d4fc88
DTSTART:20260429T080000
DTEND:20260429T090000
DESCRIPTION:
LOCATION:
SUMMARY:Late Start - LAST ONE
END:VEVENT
BEGIN:VEVENT
DTSTAMP:20260421T163559Z
UID:04070744-c5b8-400b-a0c3-10915de992b9
DTSTART;VALUE=DATE:20260504
DTEND;VALUE=DATE:20260509
DESCRIPTION:
LOCATION:
SUMMARY:AP Testing
END:VEVENT
BEGIN:VEVENT
DTSTAMP:20260421T163559Z
UID:99dcaad6-0f98-4027-b2ce-29164295e446
DTSTART;VALUE=DATE:20260506
DTEND;VALUE=DATE:20260507
DESCRIPTION:
LOCATION:
SUMMARY:NO LATE START - 7:20 AM START TIME
END:VEVENT
BEGIN:VEVENT
DTSTAMP:20260421T163559Z
UID:6b8811a4-3a41-48dc-90d7-0b148fd6c606
DTSTART:20260507T180000
DTEND:20260507T200000
DESCRIPTION:
LOCATION:
SUMMARY:Spring Art Show
END:VEVENT
BEGIN:VEVENT
DTSTAMP:20260421T163559Z
UID:a885db99-a9d7-4cb8-93ac-0aeaeb3b1f81
DTSTART:20260507T190000
DTEND:20260507T210000
DESCRIPTION:<p></p>
LOCATION:
SUMMARY:Spring Musical "Chicago"
END:VEVENT
BEGIN:VEVENT
DTSTAMP:20260421T163559Z
UID:5e1916e3-8e6f-4c86-8962-b507c4ae7362
DTSTART:20260508T190000
DTEND:20260508T210000
DESCRIPTION:
LOCATION:
SUMMARY:Spring Musical
END:VEVENT
BEGIN:VEVENT
DTSTAMP:20260421T163559Z
UID:a5cb4d9c-e2e7-4a25-9b3f-c05cb5f418d3
DTSTART;VALUE=DATE:20260509
DTEND;VALUE=DATE:20260510
DESCRIPTION:
LOCATION:
SUMMARY:Spring Musical
END:VEVENT
BEGIN:VEVENT
DTSTAMP:20260421T163559Z
UID:49572840-e6a2-4dda-81d6-d2b00127f683
DTSTART;VALUE=DATE:20260511
DTEND;VALUE=DATE:20260516
DESCRIPTION:
LOCATION:
SUMMARY:AP Testing
END:VEVENT
BEGIN:VEVENT
DTSTAMP:20260421T163559Z
UID:0855c61d-b71c-45c5-8f4c-871c4351e440
DTSTART;VALUE=DATE:20260513
DTEND;VALUE=DATE:20260514
DESCRIPTION:
LOCATION:
SUMMARY:NO LATE START - 7:20 AM START TIME
END:VEVENT
BEGIN:VEVENT
DTSTAMP:20260421T163559Z
UID:39639f1d-1455-4586-adb5-4a66aa5de3f8
DTSTART:20260513T190000
DTEND:20260513T210000
DESCRIPTION:
LOCATION:130 W Park Ave\, Wheaton\, IL 60189\, USA
SUMMARY:Board of Education Meeting - School Service Center
END:VEVENT
BEGIN:VEVENT
DTSTAMP:20260421T163559Z
UID:f6d20a1b-bd29-4cf4-82c4-5a87eb3e4913
DTSTART:20260513T191500
DTEND:20260513T210000
DESCRIPTION:
LOCATION:
SUMMARY:Finale Concert
END:VEVENT
BEGIN:VEVENT
DTSTAMP:20260421T163559Z
UID:f7c32c4e-3a4c-4321-9622-b91dda9b172e
DTSTART:20260516T190000
DTEND:20260516T220000
DESCRIPTION:
LOCATION:
SUMMARY:Prom
END:VEVENT
BEGIN:VEVENT
DTSTAMP:20260421T163559Z
UID:1dec39ae-7916-474a-80ba-85dadf257d68
DTSTART;VALUE=DATE:20260518
DTEND;VALUE=DATE:20260519
DESCRIPTION:
LOCATION:
SUMMARY:TCD - Last Day Seniors
END:VEVENT
BEGIN:VEVENT
DTSTAMP:20260421T163559Z
UID:2f565078-bef8-4e40-bc15-e6b1d2f93399
DTSTART;VALUE=DATE:20260519
DTEND;VALUE=DATE:20260520
DESCRIPTION:
LOCATION:
SUMMARY:Senior Vendor Day (Seniors last day pd 1-3)
END:VEVENT
BEGIN:VEVENT
DTSTAMP:20260421T163559Z
UID:f67d6f0f-da75-400d-aef6-13aae4666d3f
DTSTART:20260519T190000
DTEND:20260519T210000
DESCRIPTION:
LOCATION:
SUMMARY:Senior Honors Recognition
END:VEVENT
BEGIN:VEVENT
DTSTAMP:20260421T163559Z
UID:f1a774cd-f8fc-448e-9355-007c18425b30
DTSTART;VALUE=DATE:20260520
DTEND;VALUE=DATE:20260521
DESCRIPTION:
LOCATION:
SUMMARY:NO LATE START - 7:20 AM START TIME
END:VEVENT
BEGIN:VEVENT
DTSTAMP:20260421T163559Z
UID:496d39d0-76e8-4bbc-8acc-e64a863a9486
DTSTART;VALUE=DATE:20260520
DTEND;VALUE=DATE:20260521
DESCRIPTION:
LOCATION:
SUMMARY:TCD's last day of programs
END:VEVENT
BEGIN:VEVENT
DTSTAMP:20260421T163559Z
UID:e4ed0679-da24-4dd4-87f3-b99cd90d5422
DTSTART:20260520T064500
DTEND:20260520T094500
DESCRIPTION:
LOCATION:
SUMMARY:Cap & Gown Delivery - Fieldhouse
END:VEVENT
BEGIN:VEVENT
DTSTAMP:20260421T163559Z
UID:7dabd84c-fef9-4091-bd3c-2ec94203d00f
DTSTART:20260520T070000
DTEND:20260520T094500
DESCRIPTION:
LOCATION:
SUMMARY:Senior Farewell Assembly
END:VEVENT
BEGIN:VEVENT
DTSTAMP:20260421T163559Z
UID:f5bb6b33-2196-4e81-9624-6aa2d5aa7242
DTSTART:20260521T163000
DTEND:20260521T180000
DESCRIPTION:
LOCATION:Clifford A Johnson Elementary School\, 2S700 Continental Dr\, Warr
 enville\, IL 60555\, USA
SUMMARY:Mobile Market Sponsored by the Student Excellence Foundation - John
 son Elementary School
END:VEVENT
BEGIN:VEVENT
DTSTAMP:20260421T163559Z
UID:6ee92597-9956-481c-9ef1-e2d69d2db264
DTSTART;VALUE=DATE:20260523
DTEND;VALUE=DATE:20260524
DESCRIPTION:
LOCATION:
SUMMARY:High School Graduations
END:VEVENT
BEGIN:VEVENT
DTSTAMP:20260421T163559Z
UID:d02ea396-3d8d-4b53-ace4-4d254ade149e
DTSTART:20260523T150000
DTEND:20260523T170000
DESCRIPTION:
LOCATION:
SUMMARY:Graduation at COD
END:VEVENT
BEGIN:VEVENT
DTSTAMP:20260421T163559Z
UID:a7324065-ddfb-4db4-b385-d619dae36430
DTSTART;VALUE=DATE:20260526
DTEND;VALUE=DATE:20260527
DESCRIPTION:
LOCATION:
SUMMARY:Final Exam - Periods 1\,2\,4
END:VEVENT
BEGIN:VEVENT
DTSTAMP:20260421T163559Z
UID:4da979bf-6df1-4b95-a18c-b5adf0ef7b21
DTSTART;VALUE=DATE:20260527
DTEND;VALUE=DATE:20260528
DESCRIPTION:
LOCATION:
SUMMARY:Final Exams - Periods 3.7.5
END:VEVENT
BEGIN:VEVENT
DTSTAMP:20260421T163559Z
UID:a10713a2-217c-4a70-93d7-580d4bc0b2c6
DTSTART;VALUE=DATE:20260527
DTEND;VALUE=DATE:20260528
DESCRIPTION:
LOCATION:
SUMMARY:NO LATE START - 7:20 AM START TIME
END:VEVENT
BEGIN:VEVENT
DTSTAMP:20260421T163559Z
UID:96e71449-dc7e-4e7d-9bc0-88180eb9eb6d
DTSTART;VALUE=DATE:20260528
DTEND;VALUE=DATE:20260529
DESCRIPTION:
LOCATION:
SUMMARY:Final Exams - Period 8\,6
END:VEVENT
BEGIN:VEVENT
DTSTAMP:20260421T163559Z
UID:c8b93313-c74e-4d67-880d-d90f14a3c0c0
DTSTART;VALUE=DATE:20260528
DTEND;VALUE=DATE:20260529
DESCRIPTION:
LOCATION:
SUMMARY:Last Day of School - Assuming No Need for Emergency Days
END:VEVENT
BEGIN:VEVENT
DTSTAMP:20260421T163559Z
UID:5f6d85b8-b5e2-4fab-bbfa-7d9e043c4fb7
DTSTART:20260610T190000
DTEND:20260610T210000
DESCRIPTION:
LOCATION:Hubble Middle School\, 3S600 Herrick Rd\, Warrenville\, IL 60555\,
  USA
SUMMARY:Board of Education Meeting - Hubble Middle School
END:VEVENT
BEGIN:VEVENT
DTSTAMP:20260421T163559Z
UID:cf1d4a3b-ab45-4803-96ab-64c9f6ef7b7d
DTSTART:20260618T163000
DTEND:20260618T180000
DESCRIPTION:
LOCATION:Villagebrook Apartments\, 278 E St Charles Rd\, Carol Stream\, IL 
 60188\, USA
SUMMARY:CUSD 200 Mobile Market Sponsored by Student Excellence Foundation a
 t Villagebrook Apartments
END:VEVENT
BEGIN:VEVENT
DTSTAMP:20260421T163559Z
UID:32d04f33-8c3a-47a4-bc9d-7394d039d20b
DTSTART:20260730T163000
DTEND:20260730T180000
DESCRIPTION:
LOCATION:Clifford A Johnson Elementary School\, 2S700 Continental Dr\, Warr
 enville\, IL 60555\, USA
SUMMARY:Mobile Market Sponsored by the Student Excellence Foundation - John
 son Elementary School
END:VEVENT
BEGIN:VEVENT
DTSTAMP:20260421T163559Z
UID:e38dcce6-f7fc-426c-a3eb-f89ad12dcd01
DTSTART:20260820T163000
DTEND:20260820T180000
DESCRIPTION:
LOCATION:Villagebrook Apartments\, 278 E St Charles Rd\, Carol Stream\, IL 
 60188\, USA
SUMMARY:CUSD 200 Mobile Market Sponsored by Student Excellence Foundation a
 t Villagebrook Apartments
END:VEVENT
BEGIN:VEVENT
DTSTAMP:20260421T163559Z
UID:4d6ff1d2-cf2e-4f8a-838e-84dd5d5ba92d
DTSTART:20260917T163000
DTEND:20260917T180000
DESCRIPTION:
LOCATION:Clifford A Johnson Elementary School\, 2S700 Continental Dr\, Warr
 enville\, IL 60555\, USA
SUMMARY:Mobile Market Sponsored by the Student Excellence Foundation - John
 son Elementary School
END:VEVENT
BEGIN:VEVENT
DTSTAMP:20260421T163559Z
UID:a096a98d-3796-4343-91d9-75b5cdcb7169
DTSTART:20261015T163000
DTEND:20261015T180000
DESCRIPTION:
LOCATION:Villagebrook Apartments\, 278 E St Charles Rd\, Carol Stream\, IL 
 60188\, USA
SUMMARY:CUSD 200 Mobile Market Sponsored by Student Excellence Foundation a
 t Villagebrook Apartments
END:VEVENT
BEGIN:VEVENT
DTSTAMP:20260421T163559Z
UID:49ed25b1-4567-4f61-a8c5-4c2cc3db755d
DTSTART:20261119T163000
DTEND:20261119T180000
DESCRIPTION:
LOCATION:Clifford A Johnson Elementary School\, 2S700 Continental Dr\, Warr
 enville\, IL 60555\, USA
SUMMARY:Mobile Market Sponsored by the Student Excellence Foundation - John
 son Elementary School
END:VEVENT
BEGIN:VEVENT
DTSTAMP:20260421T163559Z
UID:7616569f-d2a0-4077-8617-963fab890aeb
DTSTART:20261217T163000
DTEND:20261217T180000
DESCRIPTION:
LOCATION:Villagebrook Apartments\, 278 E St Charles Rd\, Carol Stream\, IL 
 60188\, USA
SUMMARY:CUSD 200 Mobile Market Sponsored by Student Excellence Foundation a
 t Villagebrook Apartments
END:VEVENT
END:VCALENDAR
