BEGIN:VCALENDAR
VERSION:2.0
PRODID:icalendar-ruby
CALSCALE:GREGORIAN
BEGIN:VTIMEZONE
TZID:America/Chicago
BEGIN:DAYLIGHT
DTSTART:20260308T030000
TZOFFSETFROM:-0600
TZOFFSETTO:-0500
RRULE:FREQ=YEARLY;BYDAY=2SU;BYMONTH=3
TZNAME:CDT
END:DAYLIGHT
BEGIN:STANDARD
DTSTART:20261101T010000
TZOFFSETFROM:-0500
TZOFFSETTO:-0600
RRULE:FREQ=YEARLY;BYDAY=1SU;BYMONTH=11
TZNAME:CST
END:STANDARD
END:VTIMEZONE
BEGIN:VEVENT
DTSTAMP:20260422T125017Z
UID:e3613ada-2f67-4080-a09f-e135f678c116
DTSTART;VALUE=DATE:20260422
DTEND;VALUE=DATE:20260423
DESCRIPTION:
LOCATION:
SUMMARY:Administrative Professionals Day
END:VEVENT
BEGIN:VEVENT
DTSTAMP:20260422T125017Z
UID:90f49a5e-d114-403a-96ba-0adb69a0a79a
DTSTART:20260422T190000
DTEND:20260422T210000
DESCRIPTION:
LOCATION:130 W Park Ave\, Wheaton\, IL 60189\, USA
SUMMARY:Board of Education Regular Board Mtg & COW  - School Service Center
END:VEVENT
BEGIN:VEVENT
DTSTAMP:20260422T125017Z
UID:57efbf81-2609-4b0a-bb5a-dac59ffe0503
DTSTART:20260423T160000
DTEND:20260423T170000
DESCRIPTION:
LOCATION:Franklin Middle School\, 211 E Franklin St\, Wheaton\, IL 60187\, 
 USA
SUMMARY:Board of Education Facilities Committee Meeting - Franklin MS
END:VEVENT
BEGIN:VEVENT
DTSTAMP:20260422T125017Z
UID:9b567e3f-066b-40c1-b43d-316a95a0eee0
DTSTART;VALUE=DATE:20260427
DTEND;VALUE=DATE:20260428
DESCRIPTION:
LOCATION:
SUMMARY:Picture Day - Spring Group
END:VEVENT
BEGIN:VEVENT
DTSTAMP:20260422T125017Z
UID:80ee39c3-df4f-4933-969b-830436a6a710
DTSTART;VALUE=DATE:20260427
DTEND;VALUE=DATE:20260502
DESCRIPTION:
LOCATION:
SUMMARY:Screen Free Week
END:VEVENT
BEGIN:VEVENT
DTSTAMP:20260422T125017Z
UID:549385da-88bf-44de-893f-a5a85652bd83
DTSTART:20260427T190000
DTEND:20260427T203000
DESCRIPTION:
LOCATION:Wheaton Warrenville South High School\, 1993 Tiger trl\, Wheaton\,
  IL 60189\, USA
SUMMARY:Celebrate Our Stars Event - Student Excellence Foundation
END:VEVENT
BEGIN:VEVENT
DTSTAMP:20260422T125017Z
UID:a8b60b13-28f1-45b3-9d8b-8850ba46d6d6
DTSTART:20260428T180000
DTEND:20260428T190000
DESCRIPTION:
LOCATION:334 Wakeman Ave\, Wheaton\, IL 60187\, USA
SUMMARY:Fine Arts Night
END:VEVENT
BEGIN:VEVENT
DTSTAMP:20260422T125017Z
UID:e064714a-ff44-47a7-8540-1bc61cb77ab6
DTSTART;VALUE=DATE:20260430
DTEND;VALUE=DATE:20260501
DESCRIPTION:
LOCATION:
SUMMARY:Conservation Club
END:VEVENT
BEGIN:VEVENT
DTSTAMP:20260422T125017Z
UID:d5c1626d-e753-4ee0-a1b8-9e1ed955cd49
DTSTART:20260501T090500
DTEND:20260501T100000
DESCRIPTION:
LOCATION:LLC
SUMMARY:PTA Meeting in LLC
END:VEVENT
BEGIN:VEVENT
DTSTAMP:20260422T125017Z
UID:4ed92a3e-7442-4141-a53b-d2bc3b0beb27
DTSTART:20260501T170000
DTEND:20260501T190000
DESCRIPTION:
LOCATION:334 Wakeman Ave\, Wheaton\, IL 60187\, USA
SUMMARY:Fun Fair
END:VEVENT
BEGIN:VEVENT
DTSTAMP:20260422T125017Z
UID:4fe63207-2276-4f06-a11c-06670f51efb8
DTSTART;VALUE=DATE:20260504
DTEND;VALUE=DATE:20260505
DESCRIPTION:
LOCATION:
SUMMARY:Mr Lee's Science Magic - 1B
END:VEVENT
BEGIN:VEVENT
DTSTAMP:20260422T125017Z
UID:7572f9c5-82b7-4676-b61a-9ce15c5d3845
DTSTART;VALUE=DATE:20260505
DTEND;VALUE=DATE:20260506
DESCRIPTION:
LOCATION:211 E Franklin St\, Wheaton\, IL 60187\, USA
SUMMARY:5th Grade Parent Night @ Franklin
END:VEVENT
BEGIN:VEVENT
DTSTAMP:20260422T125017Z
UID:9ec3c544-ba8f-4285-8a56-d4954d42d2de
DTSTART;VALUE=DATE:20260505
DTEND;VALUE=DATE:20260506
DESCRIPTION:
LOCATION:
SUMMARY:Mr Lee's Science Magic - 1M
END:VEVENT
BEGIN:VEVENT
DTSTAMP:20260422T125017Z
UID:df203d94-ad11-434e-9099-345cb69fbb81
DTSTART;VALUE=DATE:20260507
DTEND;VALUE=DATE:20260508
DESCRIPTION:
LOCATION:
SUMMARY:Mr Lee's Science Magic - 2L
END:VEVENT
BEGIN:VEVENT
DTSTAMP:20260422T125017Z
UID:49d81f38-b9fc-4786-affe-19ddaf4c0c8d
DTSTART:20260507T094500
DTEND:20260507T114500
DESCRIPTION:
LOCATION:2015 Manchester Rd\, Wheaton\, IL 60187\, USA
SUMMARY:5th/PISA Field Trip - Dupage  Country Fairgrounds Pollinator
END:VEVENT
BEGIN:VEVENT
DTSTAMP:20260422T125017Z
UID:b4546055-7f1d-48b4-b621-f87c33d5a1a7
DTSTART;VALUE=DATE:20260508
DTEND;VALUE=DATE:20260509
DESCRIPTION:
LOCATION:
SUMMARY:Mr Lee's Science Magic - 2M
END:VEVENT
BEGIN:VEVENT
DTSTAMP:20260422T125017Z
UID:44814af4-1a1b-40c6-9857-adb03a5e3641
DTSTART:20260508T091500
DTEND:20260508T121500
DESCRIPTION:
LOCATION:Harrison Ave &\, Pierce Ave\, Wheaton\, IL 60187\, USA
SUMMARY:1st Grade Lincoln Marsh Field Trip
END:VEVENT
BEGIN:VEVENT
DTSTAMP:20260422T125017Z
UID:7ce4fef7-d7b8-4c22-9216-ab0fa1cada7a
DTSTART;VALUE=DATE:20260512
DTEND;VALUE=DATE:20260513
DESCRIPTION:
LOCATION:211 E Franklin St\, Wheaton\, IL 60187\, USA
SUMMARY:5th grade Step Up Day at Franklin
END:VEVENT
BEGIN:VEVENT
DTSTAMP:20260422T125017Z
UID:63a8bbd1-e12b-4486-9f41-6acfe5f33ebe
DTSTART:20260512T093000
DTEND:20260512T134500
DESCRIPTION:
LOCATION:1060 W Addison St\, Chicago\, IL 60613\, USA
SUMMARY:2nd/4th Grade Field Trip - Cubs Game
END:VEVENT
BEGIN:VEVENT
DTSTAMP:20260422T125017Z
UID:769ed5b1-5976-4032-9609-8af66a6a48e0
DTSTART:20260513T190000
DTEND:20260513T210000
DESCRIPTION:
LOCATION:130 W Park Ave\, Wheaton\, IL 60189\, USA
SUMMARY:Board of Education Meeting - School Service Center
END:VEVENT
BEGIN:VEVENT
DTSTAMP:20260422T125017Z
UID:6eaf3e24-ec0a-4854-b709-58c1e10691d0
DTSTART:20260514T091500
DTEND:20260514T134500
DESCRIPTION:
LOCATION:8400 31st St\, Brookfield\, IL 60513\, USA
SUMMARY:AMK/ADK/5th/PISA- Grade Field Trip - Brookfield Zoo
END:VEVENT
BEGIN:VEVENT
DTSTAMP:20260422T125017Z
UID:dc3db3c5-b407-4a0f-9f62-b659ce3fc9a2
DTSTART;VALUE=DATE:20260515
DTEND;VALUE=DATE:20260516
DESCRIPTION:
LOCATION:
SUMMARY:Mr Lee's Science Magic - 5W
END:VEVENT
BEGIN:VEVENT
DTSTAMP:20260422T125017Z
UID:5ad82c60-c4ab-4791-bc4a-8dd9cd93646e
DTSTART;VALUE=DATE:20260518
DTEND;VALUE=DATE:20260519
DESCRIPTION:
LOCATION:
SUMMARY:Patrol Picnic
END:VEVENT
BEGIN:VEVENT
DTSTAMP:20260422T125017Z
UID:caf74dde-efca-451c-ac62-bf127b43c94d
DTSTART;VALUE=DATE:20260519
DTEND;VALUE=DATE:20260520
DESCRIPTION:
LOCATION:
SUMMARY:5th Grade Wax Museum
END:VEVENT
BEGIN:VEVENT
DTSTAMP:20260422T125017Z
UID:fa1a9245-adc6-4efe-9c65-8b4c31b305fb
DTSTART;VALUE=DATE:20260521
DTEND;VALUE=DATE:20260522
DESCRIPTION:
LOCATION:
SUMMARY:Intramural Battle of the Books Assembly
END:VEVENT
BEGIN:VEVENT
DTSTAMP:20260422T125017Z
UID:68e4e860-e0f7-48f5-aa46-a4c8fa704a11
DTSTART:20260521T163000
DTEND:20260521T180000
DESCRIPTION:
LOCATION:Clifford A Johnson Elementary School\, 2S700 Continental Dr\, Warr
 enville\, IL 60555\, USA
SUMMARY:Mobile Market Sponsored by the Student Excellence Foundation - John
 son Elementary School
END:VEVENT
BEGIN:VEVENT
DTSTAMP:20260422T125017Z
UID:c1f26010-c6cb-444c-9af5-c92151c5c5ff
DTSTART;VALUE=DATE:20260522
DTEND;VALUE=DATE:20260523
DESCRIPTION:
LOCATION:
SUMMARY:Field Day
END:VEVENT
BEGIN:VEVENT
DTSTAMP:20260422T125017Z
UID:5cbf5f8a-4879-4c0f-b98a-7ff6f3da1946
DTSTART;VALUE=DATE:20260523
DTEND;VALUE=DATE:20260524
DESCRIPTION:
LOCATION:
SUMMARY:High School Graduations
END:VEVENT
BEGIN:VEVENT
DTSTAMP:20260422T125017Z
UID:620c8a11-1638-403c-8869-2343d11dfd08
DTSTART;VALUE=DATE:20260528
DTEND;VALUE=DATE:20260529
DESCRIPTION:
LOCATION:
SUMMARY:5th Grade Recognition Assembly & Party
END:VEVENT
BEGIN:VEVENT
DTSTAMP:20260422T125017Z
UID:fab33c04-5577-4073-b019-c422aa0c130b
DTSTART;VALUE=DATE:20260528
DTEND;VALUE=DATE:20260529
DESCRIPTION:
LOCATION:
SUMMARY:Last Day of School - Assuming No Need for Emergency Days
END:VEVENT
BEGIN:VEVENT
DTSTAMP:20260422T125017Z
UID:12ab9148-2c58-488e-a8b8-90073185d37e
DTSTART:20260603T180000
DTEND:20260603T190000
DESCRIPTION:
LOCATION:334 Wakeman Ave\, Wheaton\, IL 60187\, USA
SUMMARY:Kindergarten Playdates 
END:VEVENT
BEGIN:VEVENT
DTSTAMP:20260422T125017Z
UID:15ffbd25-a426-475f-861b-060004388fa0
DTSTART:20260610T190000
DTEND:20260610T210000
DESCRIPTION:
LOCATION:Hubble Middle School\, 3S600 Herrick Rd\, Warrenville\, IL 60555\,
  USA
SUMMARY:Board of Education Meeting - Hubble Middle School
END:VEVENT
BEGIN:VEVENT
DTSTAMP:20260422T125017Z
UID:582eede9-2ab5-4aa2-a222-9a9a57066a16
DTSTART:20260618T163000
DTEND:20260618T180000
DESCRIPTION:
LOCATION:Villagebrook Apartments\, 278 E St Charles Rd\, Carol Stream\, IL 
 60188\, USA
SUMMARY:CUSD 200 Mobile Market Sponsored by Student Excellence Foundation a
 t Villagebrook Apartments
END:VEVENT
BEGIN:VEVENT
DTSTAMP:20260422T125017Z
UID:9d320c5d-1e5a-48e4-8909-6f95b6cea4ed
DTSTART:20260709T180000
DTEND:20260709T190000
DESCRIPTION:
LOCATION:334 Wakeman Ave\, Wheaton\, IL 60187\, USA
SUMMARY:Kindergarten Playdate 
END:VEVENT
BEGIN:VEVENT
DTSTAMP:20260422T125017Z
UID:fffb82a9-a394-4478-97c0-927089d86479
DTSTART:20260730T163000
DTEND:20260730T180000
DESCRIPTION:
LOCATION:Clifford A Johnson Elementary School\, 2S700 Continental Dr\, Warr
 enville\, IL 60555\, USA
SUMMARY:Mobile Market Sponsored by the Student Excellence Foundation - John
 son Elementary School
END:VEVENT
BEGIN:VEVENT
DTSTAMP:20260422T125017Z
UID:1b90adfe-b4dc-4bf7-b604-1865b0b038d8
DTSTART:20260806T180000
DTEND:20260806T190000
DESCRIPTION:
LOCATION:334 Wakeman Ave\, Wheaton\, IL 60187\, USA
SUMMARY:Kindergarten Playdates 
END:VEVENT
BEGIN:VEVENT
DTSTAMP:20260422T125017Z
UID:078eb4a3-589d-4b79-883f-fe863ecac0bf
DTSTART:20260820T163000
DTEND:20260820T180000
DESCRIPTION:
LOCATION:Villagebrook Apartments\, 278 E St Charles Rd\, Carol Stream\, IL 
 60188\, USA
SUMMARY:CUSD 200 Mobile Market Sponsored by Student Excellence Foundation a
 t Villagebrook Apartments
END:VEVENT
BEGIN:VEVENT
DTSTAMP:20260422T125017Z
UID:d56c8d3c-8932-43d2-8ec8-7d4ccae96d45
DTSTART:20260917T163000
DTEND:20260917T180000
DESCRIPTION:
LOCATION:Clifford A Johnson Elementary School\, 2S700 Continental Dr\, Warr
 enville\, IL 60555\, USA
SUMMARY:Mobile Market Sponsored by the Student Excellence Foundation - John
 son Elementary School
END:VEVENT
BEGIN:VEVENT
DTSTAMP:20260422T125017Z
UID:14bafa5f-5523-4461-9d3e-6b056fbe8173
DTSTART:20261015T163000
DTEND:20261015T180000
DESCRIPTION:
LOCATION:Villagebrook Apartments\, 278 E St Charles Rd\, Carol Stream\, IL 
 60188\, USA
SUMMARY:CUSD 200 Mobile Market Sponsored by Student Excellence Foundation a
 t Villagebrook Apartments
END:VEVENT
BEGIN:VEVENT
DTSTAMP:20260422T125017Z
UID:7728aaf9-af55-4db8-9456-63d319e48831
DTSTART:20261119T163000
DTEND:20261119T180000
DESCRIPTION:
LOCATION:Clifford A Johnson Elementary School\, 2S700 Continental Dr\, Warr
 enville\, IL 60555\, USA
SUMMARY:Mobile Market Sponsored by the Student Excellence Foundation - John
 son Elementary School
END:VEVENT
BEGIN:VEVENT
DTSTAMP:20260422T125017Z
UID:ce584124-c3e6-46b5-a9b0-3f12aebb119f
DTSTART:20261217T163000
DTEND:20261217T180000
DESCRIPTION:
LOCATION:Villagebrook Apartments\, 278 E St Charles Rd\, Carol Stream\, IL 
 60188\, USA
SUMMARY:CUSD 200 Mobile Market Sponsored by Student Excellence Foundation a
 t Villagebrook Apartments
END:VEVENT
END:VCALENDAR
