BEGIN:VCALENDAR
VERSION:2.0
PRODID:icalendar-ruby
CALSCALE:GREGORIAN
BEGIN:VTIMEZONE
TZID:America/Chicago
BEGIN:DAYLIGHT
DTSTART:20260308T030000
TZOFFSETFROM:-0600
TZOFFSETTO:-0500
RRULE:FREQ=YEARLY;BYDAY=2SU;BYMONTH=3
TZNAME:CDT
END:DAYLIGHT
BEGIN:STANDARD
DTSTART:20261101T010000
TZOFFSETFROM:-0500
TZOFFSETTO:-0600
RRULE:FREQ=YEARLY;BYDAY=1SU;BYMONTH=11
TZNAME:CST
END:STANDARD
END:VTIMEZONE
BEGIN:VEVENT
DTSTAMP:20260425T151000Z
UID:1e40c62b-dd80-41e2-9435-8f6221516883
DTSTART:20260512T183000
DTEND:20260512T193000
DESCRIPTION:
LOCATION:204 N Main St\, Charleston\, MO 63834\, USA
SUMMARY:City Council Meeting
END:VEVENT
BEGIN:VEVENT
DTSTAMP:20260425T151000Z
UID:46dfdf99-2ee3-4251-b2aa-5c1d0da1991c
DTSTART:20260525T080000
DTEND:20260525T160000
DESCRIPTION:
LOCATION:
SUMMARY:CLOSED FOR MEMORIAL DAY
END:VEVENT
BEGIN:VEVENT
DTSTAMP:20260425T151000Z
UID:2b495cf1-b217-4eda-aebf-95b2cbe71b64
DTSTART:20260609T183000
DTEND:20260609T193000
DESCRIPTION:
LOCATION:204 N Main St\, Charleston\, MO 63834\, USA
SUMMARY:City Council Meeting
END:VEVENT
BEGIN:VEVENT
DTSTAMP:20260425T151000Z
UID:6444e650-ff77-4b15-9d9e-acda80e6da82
DTSTART:20260619T080000
DTEND:20260619T160000
DESCRIPTION:
LOCATION:
SUMMARY:CLOSED FOR JUNETEENTH
END:VEVENT
BEGIN:VEVENT
DTSTAMP:20260425T151000Z
UID:8f8b4100-5e2c-4fe9-8ab8-942b3df49f5d
DTSTART:20260703T080000
DTEND:20260703T160000
DESCRIPTION:
LOCATION:
SUMMARY:CLOSED FOR INDEPENDENCE DAY (OBSERVED)
END:VEVENT
BEGIN:VEVENT
DTSTAMP:20260425T151000Z
UID:2708556e-5b64-4b99-8407-b24b2e6cc133
DTSTART:20260714T183000
DTEND:20260714T193000
DESCRIPTION:
LOCATION:204 N Main St\, Charleston\, MO 63834\, USA
SUMMARY:City Council Meeting
END:VEVENT
BEGIN:VEVENT
DTSTAMP:20260425T151000Z
UID:5141e490-306b-4452-8f0d-2e43e0c391af
DTSTART:20260811T183000
DTEND:20260811T193000
DESCRIPTION:
LOCATION:204 N Main St\, Charleston\, MO 63834\, USA
SUMMARY:City Council Meeting
END:VEVENT
BEGIN:VEVENT
DTSTAMP:20260425T151000Z
UID:a1a9668d-e8f3-45e5-9403-8ceba9d79cbb
DTSTART:20260907T080000
DTEND:20260907T160000
DESCRIPTION:
LOCATION:
SUMMARY:CLOSED FOR LABOR DAY
END:VEVENT
BEGIN:VEVENT
DTSTAMP:20260425T151000Z
UID:4af7dabe-7cbe-4d94-a988-80e0bcfea541
DTSTART:20260908T183000
DTEND:20260908T193000
DESCRIPTION:
LOCATION:204 N Main St\, Charleston\, MO 63834\, USA
SUMMARY:City Council Meeting
END:VEVENT
BEGIN:VEVENT
DTSTAMP:20260425T151000Z
UID:e900148e-01ec-495c-bd2c-101ed765eb8d
DTSTART:20261012T080000
DTEND:20261012T160000
DESCRIPTION:
LOCATION:
SUMMARY:CLOSED FOR COLUMBUS DAY
END:VEVENT
BEGIN:VEVENT
DTSTAMP:20260425T151000Z
UID:35491c4b-7646-4e18-9c21-6566edeffad3
DTSTART:20261013T183000
DTEND:20261013T193000
DESCRIPTION:
LOCATION:204 N Main St\, Charleston\, MO 63834\, USA
SUMMARY:City Council Meeting
END:VEVENT
BEGIN:VEVENT
DTSTAMP:20260425T151000Z
UID:cb95c1f9-c1d7-4eae-94ca-c260f8c0018e
DTSTART:20261110T183000
DTEND:20261110T193000
DESCRIPTION:
LOCATION:204 N Main St\, Charleston\, MO 63834\, USA
SUMMARY:City Council Meeting
END:VEVENT
BEGIN:VEVENT
DTSTAMP:20260425T151000Z
UID:cef5ccb1-0005-47bb-a622-9d005d6acddd
DTSTART:20261111T080000
DTEND:20261111T160000
DESCRIPTION:
LOCATION:
SUMMARY:CLOSED FOR VETERANS DAY
END:VEVENT
BEGIN:VEVENT
DTSTAMP:20260425T151000Z
UID:6bf02019-bf9f-4551-99d4-7cd2f508d176
DTSTART:20261126T080000
DTEND:20261126T160000
DESCRIPTION:
LOCATION:
SUMMARY:CLOSED FOR THANKSGIVING
END:VEVENT
BEGIN:VEVENT
DTSTAMP:20260425T151000Z
UID:f2c91429-4bae-4312-a831-dbe0c6f3b09f
DTSTART:20261127T080000
DTEND:20261127T160000
DESCRIPTION:
LOCATION:
SUMMARY:CLOSED FOR THANKSGIVING
END:VEVENT
BEGIN:VEVENT
DTSTAMP:20260425T151000Z
UID:2af901f5-af29-4de0-8167-d79233d22283
DTSTART:20261208T183000
DTEND:20261208T193000
DESCRIPTION:
LOCATION:204 N Main St\, Charleston\, MO 63834\, USA
SUMMARY:City Council Meeting
END:VEVENT
BEGIN:VEVENT
DTSTAMP:20260425T151000Z
UID:a86aa5f1-6df6-4af4-bfe1-7b096d0e7507
DTSTART:20261225T080000
DTEND:20261225T160000
DESCRIPTION:
LOCATION:
SUMMARY:CLOSED FOR CHRISTMAS
END:VEVENT
END:VCALENDAR
