BEGIN:VCALENDAR
VERSION:2.0
PRODID:icalendar-ruby
CALSCALE:GREGORIAN
BEGIN:VTIMEZONE
TZID:America/Chicago
BEGIN:DAYLIGHT
DTSTART:20260308T030000
TZOFFSETFROM:-0600
TZOFFSETTO:-0500
RRULE:FREQ=YEARLY;BYDAY=2SU;BYMONTH=3
TZNAME:CDT
END:DAYLIGHT
BEGIN:STANDARD
DTSTART:20261101T010000
TZOFFSETFROM:-0500
TZOFFSETTO:-0600
RRULE:FREQ=YEARLY;BYDAY=1SU;BYMONTH=11
TZNAME:CST
END:STANDARD
END:VTIMEZONE
BEGIN:VEVENT
DTSTAMP:20260419T225452Z
UID:b17a0bb3-5f52-402a-b296-909cdb1e1c33
DTSTART:20260422T080000
DTEND:20260422T151500
DESCRIPTION:
LOCATION:
SUMMARY:Administrative Assistant's Day
END:VEVENT
BEGIN:VEVENT
DTSTAMP:20260419T225452Z
UID:8da397e8-98ba-4ba6-9dd8-29b183faf107
DTSTART:20260428T080000
DTEND:20260428T151500
DESCRIPTION:
LOCATION:
SUMMARY:School Bus Driver Day
END:VEVENT
BEGIN:VEVENT
DTSTAMP:20260419T225452Z
UID:85e5e790-cdb6-4546-a03e-17764fc751d8
DTSTART:20260501T080000
DTEND:20260501T151500
DESCRIPTION:
LOCATION:
SUMMARY:National Principals'' Day
END:VEVENT
BEGIN:VEVENT
DTSTAMP:20260419T225452Z
UID:565bf46f-1758-404e-a739-9b50436957b6
DTSTART:20260501T080000
DTEND:20260501T130000
DESCRIPTION:
LOCATION:
SUMMARY:School Lunch Hero Day
END:VEVENT
BEGIN:VEVENT
DTSTAMP:20260419T225452Z
UID:c03c0520-c66c-4836-939e-b589d2259ef7
DTSTART;VALUE=DATE:20260504
DTEND;VALUE=DATE:20260505
DESCRIPTION:
LOCATION:
SUMMARY:All Staff Appreciation Week
END:VEVENT
BEGIN:VEVENT
DTSTAMP:20260419T225452Z
UID:a9f6e642-e1ab-453e-887f-65e2d9f45c7d
DTSTART:20260504T083000
DTEND:20260504T143000
DESCRIPTION:
LOCATION:
SUMMARY:BOGO Book Fair
END:VEVENT
BEGIN:VEVENT
DTSTAMP:20260419T225452Z
UID:ca7f101b-ea7d-4d92-b85d-c407c58c2616
DTSTART;VALUE=DATE:20260505
DTEND;VALUE=DATE:20260506
DESCRIPTION:
LOCATION:
SUMMARY:All Staff Appreciation Week
END:VEVENT
BEGIN:VEVENT
DTSTAMP:20260419T225452Z
UID:25604cef-dfb5-45f8-a7a9-840379c65b6d
DTSTART:20260505T083000
DTEND:20260505T143000
DESCRIPTION:
LOCATION:
SUMMARY:BOGO Book Fair
END:VEVENT
BEGIN:VEVENT
DTSTAMP:20260419T225452Z
UID:58fd0e55-5319-4146-97b4-52986c725444
DTSTART;VALUE=DATE:20260506
DTEND;VALUE=DATE:20260507
DESCRIPTION:
LOCATION:
SUMMARY:All Staff Appreciation Week
END:VEVENT
BEGIN:VEVENT
DTSTAMP:20260419T225452Z
UID:5af3b6df-af1e-423d-999e-3f33d0f2af34
DTSTART:20260506T080000
DTEND:20260506T151500
DESCRIPTION:
LOCATION:
SUMMARY:National School Nurse Day
END:VEVENT
BEGIN:VEVENT
DTSTAMP:20260419T225452Z
UID:ede318b5-4159-4c94-af4a-ab3ef01cb57c
DTSTART:20260506T083000
DTEND:20260506T143000
DESCRIPTION:
LOCATION:
SUMMARY:BOGO Book Fair
END:VEVENT
BEGIN:VEVENT
DTSTAMP:20260419T225452Z
UID:4ce3641c-9817-423b-9054-26afefd2beb9
DTSTART;VALUE=DATE:20260507
DTEND;VALUE=DATE:20260508
DESCRIPTION:
LOCATION:
SUMMARY:All Staff Appreciation Week
END:VEVENT
BEGIN:VEVENT
DTSTAMP:20260419T225452Z
UID:80035a03-9dd9-4785-bbc6-dae6755cc18a
DTSTART:20260507T083000
DTEND:20260507T143000
DESCRIPTION:
LOCATION:
SUMMARY:BOGO Book Fair
END:VEVENT
BEGIN:VEVENT
DTSTAMP:20260419T225452Z
UID:65ba1dbe-6915-4080-86e2-a7729c9d97c6
DTSTART;VALUE=DATE:20260508
DTEND;VALUE=DATE:20260509
DESCRIPTION:
LOCATION:
SUMMARY:All Staff Appreciation Week
END:VEVENT
BEGIN:VEVENT
DTSTAMP:20260419T225452Z
UID:f8a5e55b-0e5e-4d38-9eb3-2ac3ddbdbb12
DTSTART:20260508T083000
DTEND:20260508T143000
DESCRIPTION:
LOCATION:
SUMMARY:BOGO Book Fair
END:VEVENT
BEGIN:VEVENT
DTSTAMP:20260419T225452Z
UID:87326b0e-47f6-4b8d-b405-a26408fb235c
DTSTART:20260518T080000
DTEND:20260518T151500
DESCRIPTION:
LOCATION:
SUMMARY:National Speech Language Pathologist Day
END:VEVENT
END:VCALENDAR
