BEGIN:VCALENDAR
VERSION:2.0
PRODID:icalendar-ruby
CALSCALE:GREGORIAN
BEGIN:VTIMEZONE
TZID:America/Chicago
BEGIN:DAYLIGHT
DTSTART:20260308T030000
TZOFFSETFROM:-0600
TZOFFSETTO:-0500
RRULE:FREQ=YEARLY;BYDAY=2SU;BYMONTH=3
TZNAME:CDT
END:DAYLIGHT
BEGIN:STANDARD
DTSTART:20261101T010000
TZOFFSETFROM:-0500
TZOFFSETTO:-0600
RRULE:FREQ=YEARLY;BYDAY=1SU;BYMONTH=11
TZNAME:CST
END:STANDARD
END:VTIMEZONE
BEGIN:VEVENT
DTSTAMP:20260425T151138Z
UID:6343f753-acf0-4769-888e-f6272296319a
DTSTART;VALUE=DATE:20260425
DTEND;VALUE=DATE:20260430
DESCRIPTION:
LOCATION:
SUMMARY:DECA-Atlanta
END:VEVENT
BEGIN:VEVENT
DTSTAMP:20260425T151138Z
UID:0775d0a2-34da-45de-a254-26afb4489155
DTSTART:20260425T190000
DTEND:20260425T230000
DESCRIPTION:
LOCATION:
SUMMARY:Prom- Bayou Music Center
END:VEVENT
BEGIN:VEVENT
DTSTAMP:20260425T151138Z
UID:4a9eecbe-72b1-4711-8d76-46b17647f06d
DTSTART:20260426T190000
DTEND:20260426T230000
DESCRIPTION:
LOCATION:
SUMMARY:Prom-Bayou Music Center
END:VEVENT
BEGIN:VEVENT
DTSTAMP:20260425T151138Z
UID:15d15095-1dc4-467d-ad1f-11d4aca0682d
DTSTART:20260428T180000
DTEND:20260428T200000
DESCRIPTION:
LOCATION:
SUMMARY:Summer Creek Press Banquet-Howard Cafe
END:VEVENT
BEGIN:VEVENT
DTSTAMP:20260425T151138Z
UID:3fc07494-81f5-4f95-bf8b-7a11f9dcc0b4
DTSTART:20260501T190000
DTEND:20260501T210000
DESCRIPTION:
LOCATION:
SUMMARY:SCHS Starlettes & Dance - Spring Show-PAC
END:VEVENT
BEGIN:VEVENT
DTSTAMP:20260425T151138Z
UID:3ec436c3-5d4d-4b4b-8615-40ef82bd761f
DTSTART:20260502T190000
DTEND:20260502T210000
DESCRIPTION:
LOCATION:
SUMMARY:SCHS Starlettes & Dance - Spring Show-PAC
END:VEVENT
BEGIN:VEVENT
DTSTAMP:20260425T151138Z
UID:ca536ccf-091b-4666-90a0-56939bf903dd
DTSTART:20260505T180000
DTEND:20260505T210000
DESCRIPTION:
LOCATION:
SUMMARY:Student Council Banquet- off campus
END:VEVENT
BEGIN:VEVENT
DTSTAMP:20260425T151138Z
UID:27fdd6e8-6843-4e21-91c4-8149d5a1ce1f
DTSTART:20260506T093000
DTEND:20260506T133000
DESCRIPTION:
LOCATION:TBD
SUMMARY:Integrated Athletics Districtwide Indoor Soccer Tournament (Locatio
 n TBD) 
END:VEVENT
BEGIN:VEVENT
DTSTAMP:20260425T151138Z
UID:8ad70c03-8d05-4de5-868e-70b1bfaa3a0e
DTSTART;VALUE=DATE:20260507
DTEND;VALUE=DATE:20260508
DESCRIPTION:
LOCATION:
SUMMARY:MS and HS Late Arrival
END:VEVENT
BEGIN:VEVENT
DTSTAMP:20260425T151138Z
UID:340a8aeb-9ac3-4c39-95ad-395fd5f03459
DTSTART:20260507T084500
DTEND:20260507T091500
DESCRIPTION:
LOCATION:
SUMMARY:Devos & Dawgs w/Young Life Howard Cafeteria
END:VEVENT
BEGIN:VEVENT
DTSTAMP:20260425T151138Z
UID:579b3fd2-56e4-41f5-965a-81a4f8b957ab
DTSTART:20260507T091500
DTEND:20260507T091500
DESCRIPTION:
LOCATION:
SUMMARY:Late Arrival - 9:15 release to class
END:VEVENT
BEGIN:VEVENT
DTSTAMP:20260425T151138Z
UID:52269e49-637e-45c8-92c7-2436ee93104d
DTSTART:20260507T150000
DTEND:20260507T173000
DESCRIPTION:
LOCATION:
SUMMARY:SNHS Meeting-Howard Cafeteria
END:VEVENT
BEGIN:VEVENT
DTSTAMP:20260425T151138Z
UID:333a974d-30d2-45e3-98e6-0f82174729f2
DTSTART:20260507T190000
DTEND:20260507T200000
DESCRIPTION:
LOCATION:
SUMMARY:SCHS Band Spring Concert-PAC
END:VEVENT
BEGIN:VEVENT
DTSTAMP:20260425T151138Z
UID:887557bd-caeb-4fab-a26f-429ef6e056bd
DTSTART:20260508T180000
DTEND:20260508T220000
DESCRIPTION:
LOCATION:
SUMMARY:SCHS Band Banquet-Cafeteria
END:VEVENT
BEGIN:VEVENT
DTSTAMP:20260425T151138Z
UID:695d821a-f239-4e20-9cfc-90bbeef45f7d
DTSTART:20260508T190000
DTEND:20260508T213000
DESCRIPTION:
LOCATION:
SUMMARY:SCHS Choir - Encore!-PAC/Black Box
END:VEVENT
BEGIN:VEVENT
DTSTAMP:20260425T151138Z
UID:f532bd74-a468-42f1-9a37-6d796522183e
DTSTART:20260509T070000
DTEND:20260509T130000
DESCRIPTION:
LOCATION:
SUMMARY:SCHS TSIA2 Testing
END:VEVENT
BEGIN:VEVENT
DTSTAMP:20260425T151138Z
UID:d35e144c-9301-477b-90e0-9a7dd19ab9a3
DTSTART:20260511T173000
DTEND:20260511T210000
DESCRIPTION:12th Grade @ 5:30 \n11th Grade @ 7
LOCATION:
SUMMARY:Awards 11/12- Gym's and PAC  12th Grade @ 5:30  11th Grade @ 7
END:VEVENT
BEGIN:VEVENT
DTSTAMP:20260425T151138Z
UID:221a4352-180c-404f-bd5d-39e929652cbc
DTSTART:20260512T173000
DTEND:20260512T210000
DESCRIPTION:<b>Tues.\, May 12\, 2026<br></b>9th Grade @ 5:30 <br>10th Grad
 e @ 7
LOCATION:
SUMMARY:Awards 9/10-Gym's and PAC (9th Grade @ 5:30)10th Grade @ 7
END:VEVENT
BEGIN:VEVENT
DTSTAMP:20260425T151138Z
UID:723e0109-daf9-4130-807e-75dd81fea4e0
DTSTART:20260513T170000
DTEND:20260513T195000
DESCRIPTION:
LOCATION:
SUMMARY:SNHS EOY Banquet-Howard Cafeteria
END:VEVENT
BEGIN:VEVENT
DTSTAMP:20260425T151138Z
UID:d68b4fdc-5aca-4dae-bb61-6a10c53d83b5
DTSTART:20260513T190000
DTEND:20260513T204500
DESCRIPTION:
LOCATION:
SUMMARY:NHS Inductions-PAC
END:VEVENT
BEGIN:VEVENT
DTSTAMP:20260425T151138Z
UID:03b99246-b359-425b-bd5e-ba36ebe9066b
DTSTART:20260514T163000
DTEND:20260514T190000
DESCRIPTION:
LOCATION:
SUMMARY:AVID Senior Banquet-Howard Cafe
END:VEVENT
BEGIN:VEVENT
DTSTAMP:20260425T151138Z
UID:17d5b80a-a49a-441d-9dc2-284b93f30ce5
DTSTART:20260514T183000
DTEND:20260514T210000
DESCRIPTION:
LOCATION:
SUMMARY:FFA Banquet-Cafeteria (large/small)
END:VEVENT
BEGIN:VEVENT
DTSTAMP:20260425T151138Z
UID:fc25186e-86bd-4c31-b9b7-4938f13aa49d
DTSTART:20260514T183000
DTEND:20260514T202000
DESCRIPTION:
LOCATION:
SUMMARY:Student Comp.  Concert - PAC
END:VEVENT
BEGIN:VEVENT
DTSTAMP:20260425T151138Z
UID:b06ed02a-80a8-4194-af23-9d9d1b1c6f92
DTSTART:20260514T183000
DTEND:20260514T200000
DESCRIPTION:
LOCATION:
SUMMARY:Student Comp.  Concert - PAC
END:VEVENT
BEGIN:VEVENT
DTSTAMP:20260425T151138Z
UID:e6f9c6d3-265f-489e-94e5-4f6ffaaaed54
DTSTART:20260515T173000
DTEND:20260515T183000
DESCRIPTION:
LOCATION:
SUMMARY:Tri-M Induction Ceremony-PAC
END:VEVENT
BEGIN:VEVENT
DTSTAMP:20260425T151138Z
UID:364ea2ca-c62a-4d3c-bc1c-cb2175b2bdf9
DTSTART:20260515T180000
DTEND:20260515T210000
DESCRIPTION:
LOCATION:
SUMMARY:Architecture/Tiny House Banquet -Cafeteria
END:VEVENT
BEGIN:VEVENT
DTSTAMP:20260425T151138Z
UID:4600794d-c3a0-498d-9d64-23cdf4b5ca9f
DTSTART:20260515T180000
DTEND:20260515T220000
DESCRIPTION:
LOCATION:
SUMMARY:Theatre Banquet
END:VEVENT
BEGIN:VEVENT
DTSTAMP:20260425T151138Z
UID:540ac46b-2463-4aaa-bbc6-1a836193639d
DTSTART:20260515T190000
DTEND:20260515T210000
DESCRIPTION:
LOCATION:
SUMMARY:SCHS Theater - Spring Show (Blackbox)
END:VEVENT
BEGIN:VEVENT
DTSTAMP:20260425T151138Z
UID:81d4c55f-b2fa-4f22-a97d-70f0b6d613e6
DTSTART;VALUE=DATE:20260519
DTEND;VALUE=DATE:20260520
DESCRIPTION:
LOCATION:
SUMMARY:Senior Walks (Elementary schools)
END:VEVENT
BEGIN:VEVENT
DTSTAMP:20260425T151138Z
UID:aac8cafa-29ec-4ff9-b882-9a6b768c4ef2
DTSTART:20260519T150000
DTEND:20260519T160000
DESCRIPTION:
LOCATION:
SUMMARY:STUCO Meeting- Howard cafe
END:VEVENT
BEGIN:VEVENT
DTSTAMP:20260425T151138Z
UID:02ac8431-3b94-45a7-b903-486d8128ae0a
DTSTART:20260519T170000
DTEND:20260519T180000
DESCRIPTION:
LOCATION:
SUMMARY:Tri-M Cord Ceremony-PAC
END:VEVENT
BEGIN:VEVENT
DTSTAMP:20260425T151138Z
UID:27efc8d7-838f-4c28-af55-0d5710e13468
DTSTART:20260519T190000
DTEND:20260519T210000
DESCRIPTION:
LOCATION:
SUMMARY:Humble ISD Fine Arts Signing Celebration-PAC
END:VEVENT
BEGIN:VEVENT
DTSTAMP:20260425T151138Z
UID:193647e5-b6c7-479e-916a-0ca888159cf9
DTSTART;VALUE=DATE:20260520
DTEND;VALUE=DATE:20260521
DESCRIPTION:
LOCATION:
SUMMARY:Seniors Walks (Middle Schools)
END:VEVENT
BEGIN:VEVENT
DTSTAMP:20260425T151138Z
UID:73d34b85-be2d-49ce-9454-cb08e0682025
DTSTART:20260520T190000
DTEND:20260520T215000
DESCRIPTION:
LOCATION:
SUMMARY:Lake Houston Middle School Choir Pop Show
END:VEVENT
BEGIN:VEVENT
DTSTAMP:20260425T151138Z
UID:799b1a5d-2309-4974-9e22-566af0901439
DTSTART:20260521T190000
DTEND:20260521T210000
DESCRIPTION:
LOCATION:
SUMMARY:SCHS Theater - Spring Show (Blackbox)
END:VEVENT
BEGIN:VEVENT
DTSTAMP:20260425T151138Z
UID:a2bf9c7f-2b6f-4e70-835a-b975086c880f
DTSTART:20260522T190000
DTEND:20260522T210000
DESCRIPTION:
LOCATION:
SUMMARY:SCHS Theater - Spring Show (Blackbox)
END:VEVENT
BEGIN:VEVENT
DTSTAMP:20260425T151138Z
UID:c1157bf6-0bce-4dfd-b0d4-55a1fbfcec1c
DTSTART:20260523T140000
DTEND:20260523T170000
DESCRIPTION:<p>We are excited to announce that Daikin Park\, home of the Ho
 uston Astros\, has been chosen as the venue for the SCHS Class of 2026 Gra
 duation! The ceremony will be held at 2 p.m. on Saturday\, May 23\, 2026.<
 /p>
LOCATION:Daikin Park 
SUMMARY:Class of 2026 Graduation
END:VEVENT
BEGIN:VEVENT
DTSTAMP:20260425T151138Z
UID:107f2175-eafc-4546-946e-958196a92904
DTSTART;VALUE=DATE:20260525
DTEND;VALUE=DATE:20260526
DESCRIPTION:
LOCATION:
SUMMARY:Memorial Day Holiday
END:VEVENT
BEGIN:VEVENT
DTSTAMP:20260425T151138Z
UID:abf3465e-61a2-4b37-85c6-f9e7357ea84c
DTSTART:20260526T170000
DTEND:20260526T210000
DESCRIPTION:
LOCATION:
SUMMARY:Volleyball Spring League- all Gyms
END:VEVENT
BEGIN:VEVENT
DTSTAMP:20260425T151138Z
UID:926cb19d-22e7-422c-8047-790c0acdb9d7
DTSTART:20260527T170000
DTEND:20260527T210000
DESCRIPTION:
LOCATION:
SUMMARY:Volleyball Spring League- all Gyms
END:VEVENT
BEGIN:VEVENT
DTSTAMP:20260425T151138Z
UID:4ac32f9c-2b4c-49e8-b599-839c9014c516
DTSTART;VALUE=DATE:20260528
DTEND;VALUE=DATE:20260529
DESCRIPTION:
LOCATION:
SUMMARY:Early Release for MS and HS
END:VEVENT
BEGIN:VEVENT
DTSTAMP:20260425T151138Z
UID:705fe56d-72ef-41a2-8710-d3060fcdb1e1
DTSTART:20260528T170000
DTEND:20260528T210000
DESCRIPTION:
LOCATION:
SUMMARY:Volleyball Spring League- all Gyms
END:VEVENT
BEGIN:VEVENT
DTSTAMP:20260425T151138Z
UID:164e12b2-db15-4cde-8023-87795d4ea8f0
DTSTART;VALUE=DATE:20260529
DTEND;VALUE=DATE:20260530
DESCRIPTION:
LOCATION:
SUMMARY:Last day of School-Early Release for All Students
END:VEVENT
BEGIN:VEVENT
DTSTAMP:20260425T151138Z
UID:3086a614-0bbe-4499-a57e-b9f4eb9c65d8
DTSTART;VALUE=DATE:20260601
DTEND;VALUE=DATE:20260603
DESCRIPTION:
LOCATION:
SUMMARY:Staff Workday
END:VEVENT
BEGIN:VEVENT
DTSTAMP:20260425T151138Z
UID:93cf6aa5-1884-4092-8923-89d12053fcb6
DTSTART:20260608T080000
DTEND:20260608T170000
DESCRIPTION:
LOCATION:
SUMMARY:Volleyball Summer Camp- all gyms
END:VEVENT
BEGIN:VEVENT
DTSTAMP:20260425T151138Z
UID:cf7ef694-b631-4bae-8dee-d8c49ffec41d
DTSTART:20260609T080000
DTEND:20260609T170000
DESCRIPTION:
LOCATION:
SUMMARY:Volleyball Summer Camp- all gyms
END:VEVENT
BEGIN:VEVENT
DTSTAMP:20260425T151138Z
UID:dbf546d1-8e00-4512-88e2-120c4c1191b3
DTSTART:20260610T080000
DTEND:20260610T170000
DESCRIPTION:
LOCATION:
SUMMARY:Volleyball Summer Camp- all gyms
END:VEVENT
BEGIN:VEVENT
DTSTAMP:20260425T151138Z
UID:c023e73d-b812-492d-93d7-9ed27033edb2
DTSTART:20260611T080000
DTEND:20260611T170000
DESCRIPTION:
LOCATION:
SUMMARY:Volleyball Summer Camp- all gyms
END:VEVENT
BEGIN:VEVENT
DTSTAMP:20260425T151138Z
UID:502bf0e1-8dcd-4d2e-9db8-422e85678966
DTSTART;VALUE=DATE:20260612
DTEND;VALUE=DATE:20260613
DESCRIPTION:
LOCATION:
SUMMARY:Humble ISD Closed/Summer Schedule
END:VEVENT
BEGIN:VEVENT
DTSTAMP:20260425T151138Z
UID:5ed06e64-6b73-4606-8461-a265bc6fe8cd
DTSTART:20260613T070000
DTEND:20260613T150000
DESCRIPTION:
LOCATION:
SUMMARY:ACT Testing SCHS
END:VEVENT
BEGIN:VEVENT
DTSTAMP:20260425T151138Z
UID:00e179e5-92a5-4add-9574-0a2cf5c8eaf9
DTSTART;VALUE=DATE:20260619
DTEND;VALUE=DATE:20260620
DESCRIPTION:
LOCATION:
SUMMARY:Humble ISD Closed/Summer Schedule
END:VEVENT
BEGIN:VEVENT
DTSTAMP:20260425T151138Z
UID:130ccc4c-d780-458c-b783-1854662ad0ce
DTSTART;VALUE=DATE:20260626
DTEND;VALUE=DATE:20260627
DESCRIPTION:
LOCATION:
SUMMARY:Humble ISD Closed/Summer Schedule
END:VEVENT
BEGIN:VEVENT
DTSTAMP:20260425T151138Z
UID:3bd0e28c-e37a-47b2-bb78-5e2231aa2b83
DTSTART:20260711T070000
DTEND:20260711T150000
DESCRIPTION:
LOCATION:
SUMMARY:ACT Testing SCHS
END:VEVENT
BEGIN:VEVENT
DTSTAMP:20260425T151138Z
UID:c5b226cd-4513-48c4-ba3a-75cffdb324f0
DTSTART:20260727T080000
DTEND:20260727T120000
DESCRIPTION:
LOCATION:
SUMMARY:FISH Volleyball Camp-all gyms
END:VEVENT
BEGIN:VEVENT
DTSTAMP:20260425T151138Z
UID:1b90a022-4ee2-4cd6-8ff5-518a9d4544b5
DTSTART:20260728T080000
DTEND:20260728T120000
DESCRIPTION:
LOCATION:
SUMMARY:FISH Volleyball Camp-all gyms
END:VEVENT
BEGIN:VEVENT
DTSTAMP:20260425T151138Z
UID:de77aabc-ae23-4929-b363-5e8911699483
DTSTART:20260729T080000
DTEND:20260729T120000
DESCRIPTION:
LOCATION:
SUMMARY:FISH Volleyball Camp-all gyms
END:VEVENT
BEGIN:VEVENT
DTSTAMP:20260425T151138Z
UID:34daa216-8c3a-4833-92f6-160d0f71bfe9
DTSTART:20260828T190000
DTEND:20260828T210000
DESCRIPTION:
LOCATION:
SUMMARY:Football SCHS vs Shadow Creek @ Freedom Field
END:VEVENT
BEGIN:VEVENT
DTSTAMP:20260425T151138Z
UID:f66cb60f-9e48-4a05-a58e-8a0a391add6d
DTSTART:20260904T190000
DTEND:20260904T210000
DESCRIPTION:
LOCATION:
SUMMARY:Football SCHS vs Strake Jesuit @ Turner Senior Night
END:VEVENT
BEGIN:VEVENT
DTSTAMP:20260425T151138Z
UID:6bf084d5-3e01-42c4-b2d4-6b8fe1ff794f
DTSTART:20260911T190000
DTEND:20260911T210000
DESCRIPTION:
LOCATION:
SUMMARY:Football SCHS vs North Crowley @ Crowley ISD Stadium
END:VEVENT
BEGIN:VEVENT
DTSTAMP:20260425T151138Z
UID:f1e38ebd-a971-4f9e-988f-be8fdd0a55ac
DTSTART:20260918T190000
DTEND:20260918T210000
DESCRIPTION:
LOCATION:
SUMMARY:Football SCHS vs Channelview @ Turner
END:VEVENT
BEGIN:VEVENT
DTSTAMP:20260425T151138Z
UID:c42bfd7a-ce06-4583-bb30-d4be1d9d42f7
DTSTART:20260925T190000
DTEND:20260925T210000
DESCRIPTION:
LOCATION:
SUMMARY:Football SCHS vs Humble @ Turner (Home) Homecoming
END:VEVENT
BEGIN:VEVENT
DTSTAMP:20260425T151138Z
UID:09cb52f0-f245-4a0d-8c23-a90f8f008f2d
DTSTART:20261002T190000
DTEND:20261002T210000
DESCRIPTION:
LOCATION:
SUMMARY:Football SCHS vs Kingwood @ Turner ( Away)
END:VEVENT
BEGIN:VEVENT
DTSTAMP:20260425T151138Z
UID:c924e207-ed84-4778-a858-c27c7705801c
DTSTART:20261009T190000
DTEND:20261009T210000
DESCRIPTION:
LOCATION:
SUMMARY:Football SCHS vs North Shore @ Turner 
END:VEVENT
BEGIN:VEVENT
DTSTAMP:20260425T151138Z
UID:4a06a6e2-8c31-4a17-ad4c-de089eddbac2
DTSTART;VALUE=DATE:20261012
DTEND;VALUE=DATE:20261017
DESCRIPTION:
LOCATION:
SUMMARY:Football SCHS BYE
END:VEVENT
BEGIN:VEVENT
DTSTAMP:20260425T151138Z
UID:df7c1acc-ad6d-4b58-97e8-d0d90609ff2a
DTSTART;VALUE=DATE:20261012
DTEND;VALUE=DATE:20261018
DESCRIPTION:
LOCATION:
SUMMARY:October Break
END:VEVENT
BEGIN:VEVENT
DTSTAMP:20260425T151138Z
UID:5b49ba33-5d49-4d24-874d-22fe3c002a36
DTSTART:20261023T190000
DTEND:20261023T210000
DESCRIPTION:
LOCATION:
SUMMARY:Football SCHS vs Crosby @ Cougar Stadium
END:VEVENT
BEGIN:VEVENT
DTSTAMP:20260425T151138Z
UID:cddcc5ad-8ed7-41c6-9563-cf9adfe7c61f
DTSTART:20261029T190000
DTEND:20261029T210000
DESCRIPTION:
LOCATION:
SUMMARY:Football SCHS vs C E King @ Truner
END:VEVENT
BEGIN:VEVENT
DTSTAMP:20260425T151138Z
UID:1f30f306-4879-4c15-b416-43983f56e737
DTSTART:20261106T190000
DTEND:20261106T210000
DESCRIPTION:
LOCATION:
SUMMARY:Football SCHS vs Atascocita @ Turner (Away)
END:VEVENT
END:VCALENDAR
