BEGIN:VCALENDAR
VERSION:2.0
PRODID:icalendar-ruby
CALSCALE:GREGORIAN
BEGIN:VTIMEZONE
TZID:America/New_York
BEGIN:DAYLIGHT
DTSTART:20260308T030000
TZOFFSETFROM:-0500
TZOFFSETTO:-0400
RRULE:FREQ=YEARLY;BYDAY=2SU;BYMONTH=3
TZNAME:EDT
END:DAYLIGHT
BEGIN:STANDARD
DTSTART:20261101T010000
TZOFFSETFROM:-0400
TZOFFSETTO:-0500
RRULE:FREQ=YEARLY;BYDAY=1SU;BYMONTH=11
TZNAME:EST
END:STANDARD
END:VTIMEZONE
BEGIN:VEVENT
DTSTAMP:20260421T192604Z
UID:d5464b90-85b2-4e91-b3fa-e36e8140a576
DTSTART;VALUE=DATE:20260421
DTEND;VALUE=DATE:20260422
DESCRIPTION:
LOCATION:
SUMMARY:STUDENT HOLIDAY: SPECIAL ELECTION
END:VEVENT
BEGIN:VEVENT
DTSTAMP:20260421T192604Z
UID:5fb202fd-a653-4122-899a-3086003b5603
DTSTART:20260424T081500
DTEND:20260424T084500
DESCRIPTION:
LOCATION:
SUMMARY:Cougar Spotlight
END:VEVENT
BEGIN:VEVENT
DTSTAMP:20260421T192604Z
UID:56c57ed7-7891-413f-ab5f-021dae40a7e7
DTSTART:20260507T180000
DTEND:20260507T200000
DESCRIPTION:Auditorium\n\n$5 - Students\n$10 - Adults
LOCATION:Carver Middle School\, 3800 Cougar Trail\, Chester\, VA 23831\, US
 A
SUMMARY:The Never Ending Story
END:VEVENT
BEGIN:VEVENT
DTSTAMP:20260421T192604Z
UID:854d1a30-a69a-45aa-a0da-657031f721dc
DTSTART:20260508T180000
DTEND:20260508T200000
DESCRIPTION:Auditorium\n\n$5 - Students\n$10 - Adults
LOCATION:Carver Middle School\, 3800 Cougar Trail\, Chester\, VA 23831\, US
 A
SUMMARY:The Never Ending Story
END:VEVENT
BEGIN:VEVENT
DTSTAMP:20260421T192604Z
UID:40e95a36-5666-4a82-974c-9cb32b4e36e4
DTSTART:20260509T140000
DTEND:20260509T160000
DESCRIPTION:Auditorium\n\n$5 - Students\n$10 - Adults
LOCATION:Carver Middle School\, 3800 Cougar Trail\, Chester\, VA 23831\, US
 A
SUMMARY:The Never Ending Story
END:VEVENT
BEGIN:VEVENT
DTSTAMP:20260421T192604Z
UID:d8bfd88f-b6e4-41f1-967f-8733d888b6dc
DTSTART:20260509T180000
DTEND:20260509T200000
DESCRIPTION:Auditorium\n\n$5 - Students\n$10 - Adults
LOCATION:Carver Middle School\, 3800 Cougar Trail\, Chester\, VA 23831\, US
 A
SUMMARY:The Never Ending Story
END:VEVENT
BEGIN:VEVENT
DTSTAMP:20260421T192604Z
UID:55a3e694-122b-4c2b-8cb5-fc690b197bdb
DTSTART:20260513T190000
DTEND:20260513T203000
DESCRIPTION:Location: Auditorium
LOCATION:Carver Middle School\, 3800 Cougar Trail\, Chester\, VA 23831\, US
 A
SUMMARY:NJHS Induction Ceremony
END:VEVENT
BEGIN:VEVENT
DTSTAMP:20260421T192604Z
UID:24eaa1e5-f4be-4fc9-9905-010cff857f9d
DTSTART:20260514T180000
DTEND:20260514T193000
DESCRIPTION:Auditorium\n\n$5 - Students\n$10 - Adults
LOCATION:Carver Middle School\, 3800 Cougar Trail\, Chester\, VA 23831\, US
 A
SUMMARY:Orchestra/Guitar Concert
END:VEVENT
BEGIN:VEVENT
DTSTAMP:20260421T192604Z
UID:17972d48-b6f2-4b51-ade5-44f885a223e9
DTSTART:20260519T180000
DTEND:20260519T193000
DESCRIPTION:Auditorium\n\n$5 - Students\n$10 - Adults
LOCATION:Carver Middle School\, 3800 Cougar Trail\, Chester\, VA 23831\, US
 A
SUMMARY:Chorus Concert
END:VEVENT
BEGIN:VEVENT
DTSTAMP:20260421T192604Z
UID:e0c17063-7cfa-4111-9bad-ceac62594c78
DTSTART:20260520T081500
DTEND:20260520T084500
DESCRIPTION:
LOCATION:
SUMMARY:Cougar Spotlight
END:VEVENT
BEGIN:VEVENT
DTSTAMP:20260421T192604Z
UID:b5f394b2-85f6-450c-b0c6-3c1934185c65
DTSTART:20260521T180000
DTEND:20260521T193000
DESCRIPTION:Auditorium\n\n$5 - Students\n$10 - Adults
LOCATION:Carver Middle School\, 3800 Cougar Trail\, Chester\, VA 23831\, US
 A
SUMMARY:Band Concert
END:VEVENT
BEGIN:VEVENT
DTSTAMP:20260421T192604Z
UID:506bb61f-ebd0-44d1-9389-1a607fcdab05
DTSTART;VALUE=DATE:20260525
DTEND;VALUE=DATE:20260526
DESCRIPTION:
LOCATION:
SUMMARY:STAFF/STUDENT HOLIDAY
END:VEVENT
BEGIN:VEVENT
DTSTAMP:20260421T192604Z
UID:cb55b039-55b2-4361-988a-d49c0503c5f9
DTSTART:20260527T180000
DTEND:20260527T200000
DESCRIPTION:
LOCATION:Carver Middle School\, 3800 Cougar Trail\, Chester\, VA 23831\, US
 A
SUMMARY:8th Grade Dance
END:VEVENT
BEGIN:VEVENT
DTSTAMP:20260421T192604Z
UID:abe49d74-3385-470c-9d9e-2360144284b2
DTSTART;VALUE=DATE:20260529
DTEND;VALUE=DATE:20260530
DESCRIPTION:
LOCATION:
SUMMARY:3-HOUR EARLY RELEASE
END:VEVENT
END:VCALENDAR
