BEGIN:VCALENDAR
VERSION:2.0
PRODID:icalendar-ruby
CALSCALE:GREGORIAN
BEGIN:VTIMEZONE
TZID:America/Denver
BEGIN:DAYLIGHT
DTSTART:20260308T030000
TZOFFSETFROM:-0700
TZOFFSETTO:-0600
RRULE:FREQ=YEARLY;BYDAY=2SU;BYMONTH=3
TZNAME:MDT
END:DAYLIGHT
BEGIN:STANDARD
DTSTART:20261101T010000
TZOFFSETFROM:-0600
TZOFFSETTO:-0700
RRULE:FREQ=YEARLY;BYDAY=1SU;BYMONTH=11
TZNAME:MST
END:STANDARD
END:VTIMEZONE
BEGIN:VEVENT
DTSTAMP:20260422T194612Z
UID:599d4029-c926-4323-a4e5-6223736921c6
DTSTART:20260423T180000
DTEND:20260423T190000
DESCRIPTION:
LOCATION:
SUMMARY:6th Graders Welcome
END:VEVENT
BEGIN:VEVENT
DTSTAMP:20260422T194612Z
UID:09507a94-67e7-46ff-be4e-a5cac77d1d7f
DTSTART;VALUE=DATE:20260427
DTEND;VALUE=DATE:20260428
DESCRIPTION:
LOCATION:
SUMMARY:Start RISE Testing
END:VEVENT
BEGIN:VEVENT
DTSTAMP:20260422T194612Z
UID:8a4e09e0-7f2a-4bf2-b3d1-6331469de86e
DTSTART:20260428T124500
DTEND:20260428T134500
DESCRIPTION:
LOCATION:
SUMMARY:Rehearsal 12:45
END:VEVENT
BEGIN:VEVENT
DTSTAMP:20260422T194612Z
UID:63598fa3-817b-4eba-a5ed-2943ce864c66
DTSTART;VALUE=DATE:20260501
DTEND;VALUE=DATE:20260502
DESCRIPTION:
LOCATION:
SUMMARY:Spring concert
END:VEVENT
BEGIN:VEVENT
DTSTAMP:20260422T194612Z
UID:37a0eca4-f136-4f36-9138-c8cf6d0344f0
DTSTART:20260505T080000
DTEND:20260505T083000
DESCRIPTION:
LOCATION:
SUMMARY:Acadience Testing
END:VEVENT
BEGIN:VEVENT
DTSTAMP:20260422T194612Z
UID:4e5295d8-8c37-42ae-9fa6-5cddf08e5758
DTSTART:20260506T080000
DTEND:20260506T083000
DESCRIPTION:
LOCATION:
SUMMARY:Acadience Testing
END:VEVENT
BEGIN:VEVENT
DTSTAMP:20260422T194612Z
UID:6adb2332-a393-4211-92cd-e7bef2e013c0
DTSTART:20260511T110000
DTEND:20260511T120000
DESCRIPTION:
LOCATION:
SUMMARY:Dare grad 11am
END:VEVENT
BEGIN:VEVENT
DTSTAMP:20260422T194612Z
UID:8f097a20-5b0e-4662-b811-61fe978651ca
DTSTART;VALUE=DATE:20260513
DTEND;VALUE=DATE:20260514
DESCRIPTION:
LOCATION:
SUMMARY:4th grade field trip 
END:VEVENT
BEGIN:VEVENT
DTSTAMP:20260422T194612Z
UID:db5041c2-d07e-4271-b055-9fb8533c4c8e
DTSTART;VALUE=DATE:20260519
DTEND;VALUE=DATE:20260520
DESCRIPTION:
LOCATION:
SUMMARY:Farm Day
END:VEVENT
BEGIN:VEVENT
DTSTAMP:20260422T194612Z
UID:6321f1e2-8423-48aa-9b8f-916bd25f1d5e
DTSTART;VALUE=DATE:20260520
DTEND;VALUE=DATE:20260521
DESCRIPTION:
LOCATION:
SUMMARY:Lagoon 6th grade
END:VEVENT
BEGIN:VEVENT
DTSTAMP:20260422T194612Z
UID:62754261-90f6-4b6c-ac1d-89e468434853
DTSTART;VALUE=DATE:20260922
DTEND;VALUE=DATE:20260923
DESCRIPTION:
LOCATION:
SUMMARY:Picture Day 
END:VEVENT
BEGIN:VEVENT
DTSTAMP:20260422T194612Z
UID:bfe9fce2-061f-48bc-b19b-9ac5275d0fc3
DTSTART;VALUE=DATE:20261027
DTEND;VALUE=DATE:20261028
DESCRIPTION:
LOCATION:
SUMMARY:Picture retake 
END:VEVENT
BEGIN:VEVENT
DTSTAMP:20260422T194612Z
UID:c175c5a8-9c3e-4e3f-a08e-ff83d2b90980
DTSTART;VALUE=DATE:20270218
DTEND;VALUE=DATE:20270219
DESCRIPTION:
LOCATION:
SUMMARY:Spring pictures
END:VEVENT
END:VCALENDAR
