BEGIN:VCALENDAR
VERSION:2.0
PRODID:icalendar-ruby
CALSCALE:GREGORIAN
BEGIN:VTIMEZONE
TZID:America/New_York
BEGIN:DAYLIGHT
DTSTART:20260308T030000
TZOFFSETFROM:-0500
TZOFFSETTO:-0400
RRULE:FREQ=YEARLY;BYDAY=2SU;BYMONTH=3
TZNAME:EDT
END:DAYLIGHT
BEGIN:STANDARD
DTSTART:20261101T010000
TZOFFSETFROM:-0400
TZOFFSETTO:-0500
RRULE:FREQ=YEARLY;BYDAY=1SU;BYMONTH=11
TZNAME:EST
END:STANDARD
END:VTIMEZONE
BEGIN:VEVENT
DTSTAMP:20260420T141718Z
UID:fc19ca24-13da-4d2c-9e11-6e21381a2eef
DTSTART:20260424T200000
DTEND:20260424T230000
DESCRIPTION:<p>Makoy Center </p>
LOCATION:5462 Center St\, Hilliard\, OH 43026\, USA
SUMMARY:Prom
END:VEVENT
BEGIN:VEVENT
DTSTAMP:20260420T141718Z
UID:2da75566-f8b7-4dd0-aa33-42bd7ae2278f
DTSTART:20260427T183000
DTEND:20260427T193000
DESCRIPTION:
LOCATION:Teays Valley High School Community Room
SUMMARY:TVHS Board of Education Meeting
END:VEVENT
BEGIN:VEVENT
DTSTAMP:20260420T141718Z
UID:f843867e-cf82-42d3-810c-7cbff10c3d7b
DTSTART;VALUE=DATE:20260515
DTEND;VALUE=DATE:20260516
DESCRIPTION:<p>Last day for seniors:</p><ul><li><p>Chromebook return in Aux
  Gym</p></li><li><p>Fees paid to Mrs. Jett/Mrs. Foster</p></li><li><p>Seni
 or cookout in Aux Gym</p></li></ul>
LOCATION:
SUMMARY:Seniors Information (see event details)
END:VEVENT
BEGIN:VEVENT
DTSTAMP:20260420T141718Z
UID:ef93fb6c-4ad7-45dc-8bcd-df858562b26c
DTSTART:20260515T093000
DTEND:20260515T103000
DESCRIPTION:<p>You will board the proper bus to your elementary school (TV 
 Only)</p><p>Wear cap and gown</p>
LOCATION:
SUMMARY:Senior Clap Out -Elementary Schools
END:VEVENT
BEGIN:VEVENT
DTSTAMP:20260420T141718Z
UID:d562f739-dd7b-42b5-baa0-d7313acd2f88
DTSTART:20260518T183000
DTEND:20260518T193000
DESCRIPTION:
LOCATION:Teays Valley High School Community Room
SUMMARY:TVHS Board of Education Meeting
END:VEVENT
BEGIN:VEVENT
DTSTAMP:20260420T141718Z
UID:46bdd52f-f7f5-47b8-806e-0aa5da5eea8c
DTSTART:20260520T080000
DTEND:20260520T090000
DESCRIPTION:
LOCATION:Teays Valley Auditorium
SUMMARY:Senior Awards Ceremony
END:VEVENT
BEGIN:VEVENT
DTSTAMP:20260420T141718Z
UID:29f5c798-cb24-458c-a64a-2274f844b619
DTSTART:20260521T083000
DTEND:20260521T093000
DESCRIPTION:
LOCATION:Teays Valley-Main Gym
SUMMARY:Graduation Practice
END:VEVENT
BEGIN:VEVENT
DTSTAMP:20260420T141718Z
UID:c41f0362-d628-4b55-863f-3c478fd4cfb8
DTSTART:20260521T183000
DTEND:20260521T193000
DESCRIPTION:<p>Please report to your designated parking lot (more informati
 on will be provided regarding which lot).</p>
LOCATION:
SUMMARY:Graduation Parade
END:VEVENT
BEGIN:VEVENT
DTSTAMP:20260420T141718Z
UID:c3d1d600-929a-4164-8645-b1c6f8486f09
DTSTART:20260522T173000
DTEND:20260522T180000
DESCRIPTION:<p>Optional-Student Led</p>
LOCATION:Teays Valley-Auditorium
SUMMARY:Baccalaureate (Student Led)
END:VEVENT
BEGIN:VEVENT
DTSTAMP:20260420T141718Z
UID:0fc18769-e1bf-4810-89b9-cfd04c501985
DTSTART:20260522T190000
DTEND:20260522T203000
DESCRIPTION:<p>@ Viking Stadium</p>
LOCATION:3887 OH-752\, Ashville\, OH 43103\, USA
SUMMARY:Commencement
END:VEVENT
BEGIN:VEVENT
DTSTAMP:20260420T141718Z
UID:f543e63e-9e84-46e9-93a4-d98a94e1936d
DTSTART;VALUE=DATE:20260525
DTEND;VALUE=DATE:20260526
DESCRIPTION:
LOCATION:
SUMMARY:No School-Memorial Day
END:VEVENT
BEGIN:VEVENT
DTSTAMP:20260420T141718Z
UID:7870d475-a28c-4822-b02f-9cb58c575a1e
DTSTART;VALUE=DATE:20260528
DTEND;VALUE=DATE:20260529
DESCRIPTION:
LOCATION:
SUMMARY:Last Day of School-Students
END:VEVENT
BEGIN:VEVENT
DTSTAMP:20260420T141718Z
UID:b6f5e54d-d673-46a6-a5da-12f290a614a8
DTSTART;VALUE=DATE:20260529
DTEND;VALUE=DATE:20260530
DESCRIPTION:
LOCATION:
SUMMARY:Last workday-Staff
END:VEVENT
BEGIN:VEVENT
DTSTAMP:20260420T141718Z
UID:85c5fc9b-9618-4483-b241-a05dc675a69f
DTSTART:20260630T080000
DTEND:20260630T090000
DESCRIPTION:
LOCATION:Teays Valley High School-District Office
SUMMARY:TVHS Board of Education Meeting
END:VEVENT
BEGIN:VEVENT
DTSTAMP:20260420T141718Z
UID:7f1ce582-6c04-401f-8b24-159c264bf8a2
DTSTART:20260727T183000
DTEND:20260727T193000
DESCRIPTION:
LOCATION:Teays Valley High School Community Room
SUMMARY:TVHS Board of Education Meeting
END:VEVENT
BEGIN:VEVENT
DTSTAMP:20260420T141718Z
UID:9c8e8379-68e2-4b36-a184-eb7e48727881
DTSTART;VALUE=DATE:20260812
DTEND;VALUE=DATE:20260813
DESCRIPTION:
LOCATION:
SUMMARY:First day of HS for Grade 9
END:VEVENT
BEGIN:VEVENT
DTSTAMP:20260420T141718Z
UID:c79fb5ae-d136-4d5d-b6d8-823ebfea8acd
DTSTART;VALUE=DATE:20260813
DTEND;VALUE=DATE:20260814
DESCRIPTION:
LOCATION:
SUMMARY:First day of HS for Grades 10-12
END:VEVENT
BEGIN:VEVENT
DTSTAMP:20260420T141718Z
UID:dbdb8d7c-ae4a-47a1-8d74-103efa876e67
DTSTART:20260824T183000
DTEND:20260824T193000
DESCRIPTION:
LOCATION:Teays Valley High School Community Room
SUMMARY:TVHS Board of Education Meeting
END:VEVENT
BEGIN:VEVENT
DTSTAMP:20260420T141718Z
UID:513ff743-e5c3-48e5-a43d-cb27e9eb5484
DTSTART:20260827T160000
DTEND:20260827T190000
DESCRIPTION:
LOCATION:
SUMMARY:High School-Open House
END:VEVENT
BEGIN:VEVENT
DTSTAMP:20260420T141718Z
UID:85a567d2-49df-4b5a-98fb-149d31ea19fe
DTSTART;VALUE=DATE:20260907
DTEND;VALUE=DATE:20260908
DESCRIPTION:
LOCATION:
SUMMARY:No School-Labor Day
END:VEVENT
BEGIN:VEVENT
DTSTAMP:20260420T141718Z
UID:ed481698-643f-48ac-8901-ff3a4ccfaa9d
DTSTART:20260924T150000
DTEND:20260924T180000
DESCRIPTION:
LOCATION:
SUMMARY:HS Parent Teacher Conferences
END:VEVENT
BEGIN:VEVENT
DTSTAMP:20260420T141718Z
UID:936d43e1-d3bf-4b89-be7c-bc0263104c01
DTSTART:20260928T183000
DTEND:20260928T193000
DESCRIPTION:
LOCATION:Teays Valley High School Community Room
SUMMARY:TVHS Board of Education Meeting
END:VEVENT
BEGIN:VEVENT
DTSTAMP:20260420T141718Z
UID:5c3c74a0-ca26-4b1c-836b-012d5a662e4f
DTSTART;VALUE=DATE:20261016
DTEND;VALUE=DATE:20261017
DESCRIPTION:
LOCATION:
SUMMARY:End of 1st Quarter
END:VEVENT
BEGIN:VEVENT
DTSTAMP:20260420T141718Z
UID:f58c8a89-5907-419a-9123-8d4929786985
DTSTART;VALUE=DATE:20261019
DTEND;VALUE=DATE:20261020
DESCRIPTION:
LOCATION:
SUMMARY:No School-Teacher Workday
END:VEVENT
BEGIN:VEVENT
DTSTAMP:20260420T141718Z
UID:6107a125-3d97-4ba2-8001-0e604969cf34
DTSTART;VALUE=DATE:20261020
DTEND;VALUE=DATE:20261024
DESCRIPTION:
LOCATION:
SUMMARY:No School
END:VEVENT
BEGIN:VEVENT
DTSTAMP:20260420T141718Z
UID:2428510c-2b02-4a72-8618-ac00e7df759f
DTSTART:20261026T183000
DTEND:20261026T193000
DESCRIPTION:
LOCATION:Teays Valley High School Community Room
SUMMARY:TVHS Board of Education Meeting
END:VEVENT
BEGIN:VEVENT
DTSTAMP:20260420T141718Z
UID:0591369b-36ab-47ed-9f95-7d3b3c7211b9
DTSTART:20261116T183000
DTEND:20261116T193000
DESCRIPTION:
LOCATION:Teays Valley High School Community Room
SUMMARY:TVHS Board of Education Meeting
END:VEVENT
BEGIN:VEVENT
DTSTAMP:20260420T141718Z
UID:7a7f4946-ab5a-42e9-9a7f-a33d0ef533da
DTSTART;VALUE=DATE:20261125
DTEND;VALUE=DATE:20261128
DESCRIPTION:
LOCATION:
SUMMARY:No School-Thanksgiving Break
END:VEVENT
BEGIN:VEVENT
DTSTAMP:20260420T141718Z
UID:456f6fc4-cefc-4e97-b375-3a1cb0302dd5
DTSTART:20261214T183000
DTEND:20261214T193000
DESCRIPTION:
LOCATION:Teays Valley High School Community Room
SUMMARY:TVHS Board of Education Meeting
END:VEVENT
BEGIN:VEVENT
DTSTAMP:20260420T141718Z
UID:0aa34126-38e1-4ab3-9116-8cb52e655f3a
DTSTART;VALUE=DATE:20261218
DTEND;VALUE=DATE:20261219
DESCRIPTION:
LOCATION:
SUMMARY:End of 2nd Quarter
END:VEVENT
BEGIN:VEVENT
DTSTAMP:20260420T141718Z
UID:ffd1c71e-a549-4e37-96cc-55ec0940882a
DTSTART;VALUE=DATE:20261221
DTEND;VALUE=DATE:20270101
DESCRIPTION:
LOCATION:
SUMMARY:No School-Winter Break
END:VEVENT
BEGIN:VEVENT
DTSTAMP:20260420T141718Z
UID:8e8185e1-b9ad-40b0-96c1-29836d5341e3
DTSTART;VALUE=DATE:20270101
DTEND;VALUE=DATE:20270102
DESCRIPTION:
LOCATION:
SUMMARY:No School-New Year's Day
END:VEVENT
BEGIN:VEVENT
DTSTAMP:20260420T141718Z
UID:ec9eedf1-2507-4358-8b40-9eba03a52be3
DTSTART;VALUE=DATE:20270104
DTEND;VALUE=DATE:20270105
DESCRIPTION:
LOCATION:
SUMMARY:No School-Teacher Workday
END:VEVENT
BEGIN:VEVENT
DTSTAMP:20260420T141718Z
UID:0528fd4e-623a-4572-8b3d-e48504c7a1d1
DTSTART;VALUE=DATE:20270105
DTEND;VALUE=DATE:20270106
DESCRIPTION:
LOCATION:
SUMMARY:Students Return to School
END:VEVENT
BEGIN:VEVENT
DTSTAMP:20260420T141718Z
UID:30f16878-bb20-448c-867e-d162ed411c7f
DTSTART;VALUE=DATE:20270118
DTEND;VALUE=DATE:20270119
DESCRIPTION:
LOCATION:
SUMMARY:No School-Martin Luther King Jr. Day
END:VEVENT
BEGIN:VEVENT
DTSTAMP:20260420T141718Z
UID:0560b2bd-f5a8-4143-ade9-052216815974
DTSTART;VALUE=DATE:20270212
DTEND;VALUE=DATE:20270213
DESCRIPTION:
LOCATION:
SUMMARY:No School-President's Day
END:VEVENT
BEGIN:VEVENT
DTSTAMP:20260420T141718Z
UID:9d7c403c-bc69-4e0e-a3c2-efbb82fa3e6c
DTSTART;VALUE=DATE:20270215
DTEND;VALUE=DATE:20270216
DESCRIPTION:
LOCATION:
SUMMARY:No School-President's Day
END:VEVENT
BEGIN:VEVENT
DTSTAMP:20260420T141718Z
UID:55f49d17-6db9-4d8d-b77a-9303b72cac44
DTSTART:20270218T160000
DTEND:20270218T190000
DESCRIPTION:
LOCATION:
SUMMARY:HS Parent Teacher Conferences
END:VEVENT
BEGIN:VEVENT
DTSTAMP:20260420T141718Z
UID:e8cdd703-604e-48e1-84cd-aa8cdd927ae4
DTSTART;VALUE=DATE:20270311
DTEND;VALUE=DATE:20270312
DESCRIPTION:
LOCATION:
SUMMARY:End of 3rd Quarter
END:VEVENT
BEGIN:VEVENT
DTSTAMP:20260420T141718Z
UID:eaf1ca7f-60f3-452f-8806-0ec953bb8369
DTSTART;VALUE=DATE:20270312
DTEND;VALUE=DATE:20270313
DESCRIPTION:
LOCATION:
SUMMARY:No School-Teacher Workday
END:VEVENT
BEGIN:VEVENT
DTSTAMP:20260420T141718Z
UID:1ba1bf78-b416-44be-9d84-e0885933cd0a
DTSTART;VALUE=DATE:20270322
DTEND;VALUE=DATE:20270330
DESCRIPTION:
LOCATION:
SUMMARY:No School-Spring Break
END:VEVENT
BEGIN:VEVENT
DTSTAMP:20260420T141718Z
UID:0b5c5869-c1cb-45b4-adac-8fab62b0728a
DTSTART;VALUE=DATE:20270527
DTEND;VALUE=DATE:20270528
DESCRIPTION:
LOCATION:
SUMMARY:End of 4th Quarter
END:VEVENT
BEGIN:VEVENT
DTSTAMP:20260420T141718Z
UID:fd5edfed-4f9e-42c1-8c5b-72d9ed22b3d7
DTSTART;VALUE=DATE:20270527
DTEND;VALUE=DATE:20270528
DESCRIPTION:
LOCATION:
SUMMARY:Last Day for Students
END:VEVENT
BEGIN:VEVENT
DTSTAMP:20260420T141718Z
UID:7ffd6d66-d368-4aec-b1a0-da7e39306fd7
DTSTART;VALUE=DATE:20270528
DTEND;VALUE=DATE:20270529
DESCRIPTION:
LOCATION:
SUMMARY:Last Workday 
END:VEVENT
END:VCALENDAR
