BEGIN:VCALENDAR
VERSION:2.0
PRODID:icalendar-ruby
CALSCALE:GREGORIAN
BEGIN:VTIMEZONE
TZID:America/New_York
BEGIN:DAYLIGHT
DTSTART:20260308T030000
TZOFFSETFROM:-0500
TZOFFSETTO:-0400
RRULE:FREQ=YEARLY;BYDAY=2SU;BYMONTH=3
TZNAME:EDT
END:DAYLIGHT
BEGIN:STANDARD
DTSTART:20261101T010000
TZOFFSETFROM:-0400
TZOFFSETTO:-0500
RRULE:FREQ=YEARLY;BYDAY=1SU;BYMONTH=11
TZNAME:EST
END:STANDARD
END:VTIMEZONE
BEGIN:VEVENT
DTSTAMP:20260420T080329Z
UID:71518637-1de4-450b-bd70-adde97101488
DTSTART:20260423T183000
DTEND:20260423T193000
DESCRIPTION:
LOCATION:
SUMMARY:Overlook PTO Meeting 
END:VEVENT
BEGIN:VEVENT
DTSTAMP:20260420T080329Z
UID:30aa8d4b-6ab2-4ee5-86b5-a9cc6cfe4909
DTSTART:20260507T180000
DTEND:20260507T190000
DESCRIPTION:
LOCATION:
SUMMARY:Overlook Building Blocks For Success - KG Readiness - PK Event 
END:VEVENT
BEGIN:VEVENT
DTSTAMP:20260420T080329Z
UID:fcc41d1d-08d1-4c77-8b05-1d2e2a4b9a01
DTSTART;VALUE=DATE:20260515
DTEND;VALUE=DATE:20260516
DESCRIPTION:
LOCATION:
SUMMARY:Overlook Field Day
END:VEVENT
BEGIN:VEVENT
DTSTAMP:20260420T080329Z
UID:6ac73db2-6c6c-41cd-8b81-ea4400eff5c3
DTSTART:20260518T190000
DTEND:20260518T200000
DESCRIPTION:
LOCATION:Abington Senior High School\, 900 Highland Ave\, Abington\, PA 190
 01\, USA
SUMMARY:Overlook Spring Concert
END:VEVENT
BEGIN:VEVENT
DTSTAMP:20260420T080329Z
UID:a4dc9be8-67d3-418a-8098-3995e20492f9
DTSTART:20260520T183000
DTEND:20260520T193000
DESCRIPTION:
LOCATION:
SUMMARY:Overlook PTO Meeting 
END:VEVENT
BEGIN:VEVENT
DTSTAMP:20260420T080329Z
UID:8ba55848-0daf-4e90-9a35-0f7784207b90
DTSTART;VALUE=DATE:20260521
DTEND;VALUE=DATE:20260522
DESCRIPTION:
LOCATION:
SUMMARY:Overlook Field Day (Rain Date)
END:VEVENT
BEGIN:VEVENT
DTSTAMP:20260420T080329Z
UID:8330d7be-2339-4257-83fc-34c0575868fd
DTSTART:20260608T180000
DTEND:20260608T190000
DESCRIPTION:
LOCATION:
SUMMARY:Overlook Title I Event - Preventing the Summer Slide 
END:VEVENT
BEGIN:VEVENT
DTSTAMP:20260420T080329Z
UID:5a0f9086-5d82-407e-83b4-0ed82ff45cb0
DTSTART:20260616T130000
DTEND:20260616T140000
DESCRIPTION:
LOCATION:
SUMMARY:Overlook 5th Grade Closing Ceremony 
END:VEVENT
END:VCALENDAR
