BEGIN:VCALENDAR
VERSION:2.0
PRODID:icalendar-ruby
CALSCALE:GREGORIAN
BEGIN:VTIMEZONE
TZID:America/Chicago
BEGIN:DAYLIGHT
DTSTART:20260308T030000
TZOFFSETFROM:-0600
TZOFFSETTO:-0500
RRULE:FREQ=YEARLY;BYDAY=2SU;BYMONTH=3
TZNAME:CDT
END:DAYLIGHT
BEGIN:STANDARD
DTSTART:20261101T010000
TZOFFSETFROM:-0500
TZOFFSETTO:-0600
RRULE:FREQ=YEARLY;BYDAY=1SU;BYMONTH=11
TZNAME:CST
END:STANDARD
END:VTIMEZONE
BEGIN:VEVENT
DTSTAMP:20260425T025633Z
UID:2c7562d9-07a2-4e57-b897-b9a0fd76efe5
DTSTART;VALUE=DATE:20260424
DTEND;VALUE=DATE:20260425
DESCRIPTION:
LOCATION:
SUMMARY:DMS Girls Golf at El Reno
END:VEVENT
BEGIN:VEVENT
DTSTAMP:20260425T025633Z
UID:66b361f3-d0f0-4ac2-9c60-3fce94f510ef
DTSTART;VALUE=DATE:20260424
DTEND;VALUE=DATE:20260425
DESCRIPTION:
LOCATION:
SUMMARY:DMS Tennis at Shawnee (Boys)
END:VEVENT
BEGIN:VEVENT
DTSTAMP:20260425T025633Z
UID:8d2dd3ce-8a69-495a-bdea-f927deca21f7
DTSTART;VALUE=DATE:20260424
DTEND;VALUE=DATE:20260425
DESCRIPTION:
LOCATION:
SUMMARY:HS Track @ Edmond Memorial Invitational
END:VEVENT
BEGIN:VEVENT
DTSTAMP:20260425T025633Z
UID:431c562b-b553-4f73-bdb3-3792974f1be7
DTSTART:20260424T160000
DTEND:20260424T213000
DESCRIPTION:
LOCATION:
SUMMARY:Soccer vs. Lawton High  - VG 6:00 & VB 8:00 p.m. (Senior Night)
END:VEVENT
BEGIN:VEVENT
DTSTAMP:20260425T025633Z
UID:863a0291-3ef4-40c3-babb-8c49fcfe3f0c
DTSTART:20260424T163000
DTEND:20260424T193000
DESCRIPTION:
LOCATION:
SUMMARY:HS Baseball JV II\, JV II vs Marlow @ 4:30 p.m.
END:VEVENT
BEGIN:VEVENT
DTSTAMP:20260425T025633Z
UID:21c77883-9cd3-41c8-b31c-91309a4501be
DTSTART;VALUE=DATE:20260425
DTEND;VALUE=DATE:20260426
DESCRIPTION:
LOCATION:
SUMMARY:DMS Tennis at Shawnee (Girls)
END:VEVENT
BEGIN:VEVENT
DTSTAMP:20260425T025633Z
UID:9b8b50e8-1c27-4750-a67d-fc20200bf979
DTSTART;VALUE=DATE:20260425
DTEND;VALUE=DATE:20260426
DESCRIPTION:
LOCATION:
SUMMARY:HS Tennis B/G - @ DHS - SOI by BancFirst
END:VEVENT
BEGIN:VEVENT
DTSTAMP:20260425T025633Z
UID:15c0297c-f0c9-4a1f-b401-776e9b17bff1
DTSTART:20260426T140000
DTEND:20260426T160000
DESCRIPTION:
LOCATION:
SUMMARY:Little League - Softball (Softball Field/In Door Cages)
END:VEVENT
BEGIN:VEVENT
DTSTAMP:20260425T025633Z
UID:5e4332fc-1cc7-412c-9bea-dd37cdfaf56a
DTSTART;VALUE=DATE:20260427
DTEND;VALUE=DATE:20260428
DESCRIPTION:
LOCATION:
SUMMARY:HS Golf Boys V @ Duncan G & TC  - 5A West Regional- TBD
END:VEVENT
BEGIN:VEVENT
DTSTAMP:20260425T025633Z
UID:6ad6ebc5-ceda-4aeb-9d52-692a6bc061f4
DTSTART:20260427T170000
DTEND:20260427T180000
DESCRIPTION:
LOCATION:
SUMMARY:DMS Baseball at Elgin
END:VEVENT
BEGIN:VEVENT
DTSTAMP:20260425T025633Z
UID:94b9371d-d467-40eb-831f-012662b0c3ed
DTSTART:20260427T170000
DTEND:20260427T210000
DESCRIPTION:
LOCATION:
SUMMARY:HS Baseball vs Elgin V\, JV @ 5:00 p.m.
END:VEVENT
BEGIN:VEVENT
DTSTAMP:20260425T025633Z
UID:d815e84c-ebc0-4a7e-9043-dd0b6b3b9bcf
DTSTART:20260428T170000
DTEND:20260428T180000
DESCRIPTION:
LOCATION:
SUMMARY:DMS Baseball at Cache
END:VEVENT
BEGIN:VEVENT
DTSTAMP:20260425T025633Z
UID:de99ce40-b223-4934-beda-eb85f5e2bb02
DTSTART:20260429T150000
DTEND:20260429T170000
DESCRIPTION:
LOCATION:
SUMMARY:HS Baseball V vs Mac @ 3:00 p.m.
END:VEVENT
BEGIN:VEVENT
DTSTAMP:20260425T025633Z
UID:e3dc45bd-5537-4874-bbb9-3ce2ede012cc
DTSTART:20260429T173000
DTEND:20260429T190000
DESCRIPTION:
LOCATION:
SUMMARY:Little League - Softball (Softball Field/In Door Cages)
END:VEVENT
BEGIN:VEVENT
DTSTAMP:20260425T025633Z
UID:748cf10a-a4dc-4777-b9c3-089d324fb8de
DTSTART;VALUE=DATE:20260430
DTEND;VALUE=DATE:20260501
DESCRIPTION:Tarp will need to be put down on the floors
LOCATION:
SUMMARY:5th grade Industry Tours  (Front and Back Gym)
END:VEVENT
BEGIN:VEVENT
DTSTAMP:20260425T025633Z
UID:539d906e-4a31-4100-a2c2-d171aecb062b
DTSTART:20260430T170000
DTEND:20260430T200000
DESCRIPTION:
LOCATION:
SUMMARY:HS Baseball JV II\, JV II @ Moore @ 5:00 p.m.
END:VEVENT
BEGIN:VEVENT
DTSTAMP:20260425T025633Z
UID:352a6e5a-7327-4066-a83d-1bf15b6711fd
DTSTART:20260430T173000
DTEND:20260430T200000
DESCRIPTION:
LOCATION:
SUMMARY:HS Baseball V vs Moore @ 5:30 p.m.
END:VEVENT
BEGIN:VEVENT
DTSTAMP:20260425T025633Z
UID:7193659e-037f-4cdc-b333-5343dae5f0f2
DTSTART;VALUE=DATE:20260501
DTEND;VALUE=DATE:20260502
DESCRIPTION:
LOCATION:
SUMMARY:HS Tennis B/G @ DHS - SW Conference Championships
END:VEVENT
BEGIN:VEVENT
DTSTAMP:20260425T025633Z
UID:064fd0de-455c-480c-b7a7-be7ae9e7a5ba
DTSTART;VALUE=DATE:20260501
DTEND;VALUE=DATE:20260502
DESCRIPTION:
LOCATION:
SUMMARY:HS Track @ Duncan HS Halliburton Stadium - Quanah Cox Relays @ 1:00
  p.m.
END:VEVENT
BEGIN:VEVENT
DTSTAMP:20260425T025633Z
UID:abb9a4c9-bcff-4c60-8dcb-ae92fc288bce
DTSTART:20260501T170000
DTEND:20260501T200000
DESCRIPTION:
LOCATION:
SUMMARY:HS Baseball JV II\, JV II @ Westmoore @ 5:00 p.m.
END:VEVENT
BEGIN:VEVENT
DTSTAMP:20260425T025633Z
UID:2c098cb2-588c-4516-aef4-9a0d9714214e
DTSTART:20260501T180000
DTEND:20260501T200000
DESCRIPTION:
LOCATION:
SUMMARY:HS Baseball V vs. Westmoore @ 6:00 p.m.
END:VEVENT
BEGIN:VEVENT
DTSTAMP:20260425T025633Z
UID:22305f21-37fc-40b3-a7c5-36e692d688c3
DTSTART:20260503T140000
DTEND:20260503T160000
DESCRIPTION:
LOCATION:
SUMMARY:Little League - Softball (Softball Field/In Door Cages)
END:VEVENT
BEGIN:VEVENT
DTSTAMP:20260425T025633Z
UID:711c0e1f-06b2-49db-aaf3-698b7d60cae3
DTSTART;VALUE=DATE:20260504
DTEND;VALUE=DATE:20260506
DESCRIPTION:
LOCATION:
SUMMARY:HS Golf Girls - 5A State Tournament @ Shangrila
END:VEVENT
BEGIN:VEVENT
DTSTAMP:20260425T025633Z
UID:f8010c3e-876f-4113-8035-221e95b7536a
DTSTART;VALUE=DATE:20260504
DTEND;VALUE=DATE:20260505
DESCRIPTION:
LOCATION:
SUMMARY:HS Tennis - Girls @ DHS - Girls Regionals
END:VEVENT
BEGIN:VEVENT
DTSTAMP:20260425T025633Z
UID:9f177dff-8afc-4287-aa08-4c7cf32ea689
DTSTART:20260504T170000
DTEND:20260504T200000
DESCRIPTION:
LOCATION:
SUMMARY:HS Baseball JV II\, JV II @ Southmoore @ 5:00 p.m.
END:VEVENT
BEGIN:VEVENT
DTSTAMP:20260425T025633Z
UID:070d7858-dd83-4f34-94de-b8543c3982e1
DTSTART:20260504T180000
DTEND:20260504T200000
DESCRIPTION:
LOCATION:
SUMMARY:HS Baseball V vs Southmoore @ 6:00 p.m
END:VEVENT
BEGIN:VEVENT
DTSTAMP:20260425T025633Z
UID:44c0a3a9-ce46-48be-ae52-60954e7d3c1c
DTSTART;VALUE=DATE:20260505
DTEND;VALUE=DATE:20260506
DESCRIPTION:
LOCATION:
SUMMARY:DMS Tennis (Girls) at Junior High State (Tulsa Union)
END:VEVENT
BEGIN:VEVENT
DTSTAMP:20260425T025633Z
UID:1a712106-100c-4f30-bfb1-c62e7943b041
DTSTART:20260506T141500
DTEND:20260506T151500
DESCRIPTION:
LOCATION:
SUMMARY:College Signing Day - HS Gym
END:VEVENT
BEGIN:VEVENT
DTSTAMP:20260425T025633Z
UID:28ae925a-f31b-4e9a-bd33-0a7a7e86fe9a
DTSTART:20260506T173000
DTEND:20260506T190000
DESCRIPTION:
LOCATION:
SUMMARY:Little League - Softball (Softball Field/In Door Cages)
END:VEVENT
BEGIN:VEVENT
DTSTAMP:20260425T025633Z
UID:eef7742c-fbf4-4262-a0c6-934b4dc76709
DTSTART;VALUE=DATE:20260507
DTEND;VALUE=DATE:20260510
DESCRIPTION:
LOCATION:
SUMMARY:HS Baseball Regional Tournament TBD
END:VEVENT
BEGIN:VEVENT
DTSTAMP:20260425T025633Z
UID:0a716f73-62b1-4980-9917-efa0962e4cf0
DTSTART;VALUE=DATE:20260508
DTEND;VALUE=DATE:20260509
DESCRIPTION:
LOCATION:
SUMMARY:HS Tennis - Girls State Tournament @ OKC Tennis Center
END:VEVENT
BEGIN:VEVENT
DTSTAMP:20260425T025633Z
UID:50d062fc-42b2-44c1-bb2d-15778f6a99ab
DTSTART;VALUE=DATE:20260509
DTEND;VALUE=DATE:20260510
DESCRIPTION:
LOCATION:
SUMMARY:HS Track - Regionals - TBA
END:VEVENT
BEGIN:VEVENT
DTSTAMP:20260425T025633Z
UID:2fa1f171-aa58-481f-9bcd-8f37adbb6131
DTSTART:20260510T140000
DTEND:20260510T160000
DESCRIPTION:
LOCATION:
SUMMARY:Little League - Softball (Softball Field/In Door Cages)
END:VEVENT
BEGIN:VEVENT
DTSTAMP:20260425T025633Z
UID:76a2dc7e-78d6-4b17-86ff-eb39f32ac47e
DTSTART;VALUE=DATE:20260511
DTEND;VALUE=DATE:20260512
DESCRIPTION:
LOCATION:
SUMMARY:HS Tennis - Boy @ DHS - Boys Regionals
END:VEVENT
BEGIN:VEVENT
DTSTAMP:20260425T025633Z
UID:85650d80-b668-4b32-80fb-ba459d4e2eed
DTSTART;VALUE=DATE:20260512
DTEND;VALUE=DATE:20260513
DESCRIPTION:
LOCATION:
SUMMARY:DMS Tennis (Boys) at Junior High State (Tulsa Union)
END:VEVENT
BEGIN:VEVENT
DTSTAMP:20260425T025633Z
UID:c314267d-0fa8-49a9-9f1c-e86d20dc22e4
DTSTART;VALUE=DATE:20260513
DTEND;VALUE=DATE:20260516
DESCRIPTION:
LOCATION:
SUMMARY:Unified Softball - Stillwater
END:VEVENT
BEGIN:VEVENT
DTSTAMP:20260425T025633Z
UID:6b270307-3233-4009-84bd-ad110b137e6d
DTSTART:20260513T173000
DTEND:20260513T190000
DESCRIPTION:
LOCATION:
SUMMARY:Little League - Softball (Softball Field/In Door Cages)
END:VEVENT
BEGIN:VEVENT
DTSTAMP:20260425T025633Z
UID:b3b11c30-4272-4ce9-b6b7-54ba4ea6c20f
DTSTART;VALUE=DATE:20260514
DTEND;VALUE=DATE:20260517
DESCRIPTION:
LOCATION:
SUMMARY:HS Baseball State Tournament TBD
END:VEVENT
BEGIN:VEVENT
DTSTAMP:20260425T025633Z
UID:54dc585c-b881-4871-a0e7-1ceb78363121
DTSTART;VALUE=DATE:20260515
DTEND;VALUE=DATE:20260517
DESCRIPTION:
LOCATION:
SUMMARY:HS Tennis - Boys State Tournament @ OKC Tennis Center
END:VEVENT
BEGIN:VEVENT
DTSTAMP:20260425T025633Z
UID:c619dcf4-f889-4e95-a8c4-c0a678f523ff
DTSTART;VALUE=DATE:20260515
DTEND;VALUE=DATE:20260516
DESCRIPTION:
LOCATION:
SUMMARY:HS Track - State - TBA
END:VEVENT
BEGIN:VEVENT
DTSTAMP:20260425T025633Z
UID:7bdb109a-e8c0-4c20-8a7b-0ca1e38f4ddb
DTSTART:20260517T140000
DTEND:20260517T160000
DESCRIPTION:
LOCATION:
SUMMARY:Little League - Softball (Softball Field/In Door Cages)
END:VEVENT
BEGIN:VEVENT
DTSTAMP:20260425T025633Z
UID:cd17f48a-0639-4af4-8719-8ac1faa58870
DTSTART:20260520T173000
DTEND:20260520T190000
DESCRIPTION:
LOCATION:
SUMMARY:Little League - Softball (Softball Field/In Door Cages)
END:VEVENT
BEGIN:VEVENT
DTSTAMP:20260425T025633Z
UID:68377063-08c0-4182-8b3f-ed5c5ab40544
DTSTART:20260601T090000
DTEND:20260603T140000
DESCRIPTION:
LOCATION:
SUMMARY:Boys Basketball Camp - K-3rd Grade (9-11 AM) and 4th-6th Grade (12-
 2PM)  (Front/Back Gym)
END:VEVENT
BEGIN:VEVENT
DTSTAMP:20260425T025633Z
UID:8c562e88-443f-4797-9b6b-0588933adc99
DTSTART;VALUE=DATE:20260608
DTEND;VALUE=DATE:20260611
DESCRIPTION:
LOCATION:
SUMMARY:Boys Basketball Camp - 8:00 a.m.  - 8:00 p.m. (Front and Back Gym)
END:VEVENT
BEGIN:VEVENT
DTSTAMP:20260425T025633Z
UID:2397d002-3730-4e1c-adb7-a5f55a830dd9
DTSTART:20260708T080000
DTEND:20260708T170000
DESCRIPTION:
LOCATION:
SUMMARY:SC Sheriff's Office (Patrol morning & Jail afternoon) @ Hoover Gym
END:VEVENT
BEGIN:VEVENT
DTSTAMP:20260425T025633Z
UID:f7dbe106-0297-49c1-802f-79ec5c4866da
DTSTART:20260823T110000
DTEND:20260823T230000
DESCRIPTION:
LOCATION:
SUMMARY:Powder Puff Fundraiser @ Football stadium (Spirit Booster Club) 
END:VEVENT
END:VCALENDAR
