BEGIN:VCALENDAR
VERSION:2.0
PRODID:icalendar-ruby
CALSCALE:GREGORIAN
BEGIN:VTIMEZONE
TZID:America/Chicago
BEGIN:DAYLIGHT
DTSTART:20260308T030000
TZOFFSETFROM:-0600
TZOFFSETTO:-0500
RRULE:FREQ=YEARLY;BYDAY=2SU;BYMONTH=3
TZNAME:CDT
END:DAYLIGHT
BEGIN:STANDARD
DTSTART:20261101T010000
TZOFFSETFROM:-0500
TZOFFSETTO:-0600
RRULE:FREQ=YEARLY;BYDAY=1SU;BYMONTH=11
TZNAME:CST
END:STANDARD
END:VTIMEZONE
BEGIN:VEVENT
DTSTAMP:20260425T161641Z
UID:3981945b-7d4d-4d5c-88b7-5592fa6f0e3a
DTSTART:20260425T090000
DTEND:20260425T110000
DESCRIPTION:
LOCATION:
SUMMARY:Saturday Camp (tutorials)
END:VEVENT
BEGIN:VEVENT
DTSTAMP:20260425T161641Z
UID:b198c9bb-b708-4533-86fb-db8334a558d2
DTSTART:20260427T080000
DTEND:20260501T090000
DESCRIPTION:
LOCATION:
SUMMARY:End of Year Testing (Grades K-5)
END:VEVENT
BEGIN:VEVENT
DTSTAMP:20260425T161641Z
UID:52bf0997-1abe-4601-97fa-ab1cc7bb84a1
DTSTART;VALUE=DATE:20260428
DTEND;VALUE=DATE:20260429
DESCRIPTION:
LOCATION:
SUMMARY:STAAR Math (Grades 3-5)
END:VEVENT
BEGIN:VEVENT
DTSTAMP:20260425T161641Z
UID:d5042e98-e0dc-4a93-a75d-4e414e7a178a
DTSTART;VALUE=DATE:20260501
DTEND;VALUE=DATE:20260502
DESCRIPTION:
LOCATION:
SUMMARY: Field Day
END:VEVENT
BEGIN:VEVENT
DTSTAMP:20260425T161641Z
UID:1589a576-9401-4c2c-b4cf-a92968790555
DTSTART:20260508T160000
DTEND:20260508T180000
DESCRIPTION:
LOCATION:
SUMMARY:5th Grade Grad Rehearsal 
END:VEVENT
BEGIN:VEVENT
DTSTAMP:20260425T161641Z
UID:8da63b02-98c0-4666-a9ee-b66ed66f4691
DTSTART:20260518T160000
DTEND:20260518T180000
DESCRIPTION:
LOCATION:
SUMMARY:5th Grade Graduation
END:VEVENT
END:VCALENDAR
