BEGIN:VCALENDAR
VERSION:2.0
PRODID:icalendar-ruby
CALSCALE:GREGORIAN
BEGIN:VTIMEZONE
TZID:America/New_York
BEGIN:DAYLIGHT
DTSTART:20260308T030000
TZOFFSETFROM:-0500
TZOFFSETTO:-0400
RRULE:FREQ=YEARLY;BYDAY=2SU;BYMONTH=3
TZNAME:EDT
END:DAYLIGHT
BEGIN:STANDARD
DTSTART:20261101T010000
TZOFFSETFROM:-0400
TZOFFSETTO:-0500
RRULE:FREQ=YEARLY;BYDAY=1SU;BYMONTH=11
TZNAME:EST
END:STANDARD
END:VTIMEZONE
BEGIN:VEVENT
DTSTAMP:20260426T030001Z
UID:74898a83-4d70-48a3-8337-b4d6dab28059
DTSTART:20260425T200000
DTEND:20260425T230000
DESCRIPTION:
LOCATION:710 S Main St Ste 149\, Harrisonburg\, VA 22801\, USA
SUMMARY:Prom @ Hotel Madison
END:VEVENT
BEGIN:VEVENT
DTSTAMP:20260426T030001Z
UID:722fc7e7-64c3-4f56-abe1-686d94f57301
DTSTART;VALUE=DATE:20260430
DTEND;VALUE=DATE:20260501
DESCRIPTION:
LOCATION:
SUMMARY:Interim Reports Issued
END:VEVENT
BEGIN:VEVENT
DTSTAMP:20260426T030001Z
UID:f4a2571d-9efb-4922-baa6-6f95b19c834d
DTSTART:20260430T080000
DTEND:20260430T150000
DESCRIPTION:
LOCATION:
SUMMARY:FFA AgVenture Day
END:VEVENT
BEGIN:VEVENT
DTSTAMP:20260426T030001Z
UID:45eecbaf-2c02-424b-b08c-e48865a53945
DTSTART;VALUE=DATE:20260501
DTEND;VALUE=DATE:20260502
DESCRIPTION:<p>Due to a special election being held in Virginia\, April 21 
 was changed from a school day to a teacher workday.  Therefore\, May 1st w
 as changed from a workday to a regular school day.</p>
LOCATION:
SUMMARY:Regular School Day - ODD
END:VEVENT
BEGIN:VEVENT
DTSTAMP:20260426T030001Z
UID:ecf83182-640b-4f96-8110-a4da7d28fae7
DTSTART:20260514T190000
DTEND:20260514T210000
DESCRIPTION:
LOCATION:
SUMMARY:Spring Band Concert
END:VEVENT
BEGIN:VEVENT
DTSTAMP:20260426T030001Z
UID:09a2c6da-0a0e-465c-8a9e-76b2ab56c6ff
DTSTART:20260518T110000
DTEND:20260518T121500
DESCRIPTION:
LOCATION:
SUMMARY:Sophomore Ring Delivery
END:VEVENT
BEGIN:VEVENT
DTSTAMP:20260426T030001Z
UID:e6c753f5-62e7-4d33-8370-481c0364c037
DTSTART:20260520T190000
DTEND:20260520T200000
DESCRIPTION:
LOCATION:420 College View Dr\, Bridgewater\, VA 22812\, USA
SUMMARY:Baccalaureate for Seniors & Family
END:VEVENT
BEGIN:VEVENT
DTSTAMP:20260426T030001Z
UID:f9afce09-462a-4b9a-a380-253171bbe232
DTSTART:20260522T083000
DTEND:20260522T110000
DESCRIPTION:
LOCATION:
SUMMARY:Senior Awards Assembly
END:VEVENT
BEGIN:VEVENT
DTSTAMP:20260426T030001Z
UID:276fe882-45ac-402e-8355-b546b7fa5524
DTSTART;VALUE=DATE:20260525
DTEND;VALUE=DATE:20260526
DESCRIPTION:
LOCATION:
SUMMARY:No School - Memorial Day
END:VEVENT
BEGIN:VEVENT
DTSTAMP:20260426T030001Z
UID:55710bba-f067-40b6-9ac2-7755db8e39d3
DTSTART:20260530T093000
DTEND:20260530T110000
DESCRIPTION:
LOCATION:645 University Blvd\, Harrisonburg\, VA 22801\, USA
SUMMARY:TAHS Graduation
END:VEVENT
BEGIN:VEVENT
DTSTAMP:20260426T030001Z
UID:74badef4-dd4b-439f-bc95-53607e10d8d0
DTSTART;VALUE=DATE:20260603
DTEND;VALUE=DATE:20260604
DESCRIPTION:
LOCATION:
SUMMARY:1:05 Dismissal - Last Day of School
END:VEVENT
BEGIN:VEVENT
DTSTAMP:20260426T030001Z
UID:52a2193d-530e-4638-ac2c-682efec2c253
DTSTART;VALUE=DATE:20260604
DTEND;VALUE=DATE:20260606
DESCRIPTION:
LOCATION:
SUMMARY:Teacher Workday
END:VEVENT
BEGIN:VEVENT
DTSTAMP:20260426T030001Z
UID:6f406d4f-4417-4690-9c11-e09d7c222012
DTSTART;VALUE=DATE:20260619
DTEND;VALUE=DATE:20260620
DESCRIPTION:
LOCATION:
SUMMARY:Division Holiday - Juneteenth
END:VEVENT
BEGIN:VEVENT
DTSTAMP:20260426T030001Z
UID:49528bc3-c9ae-4a90-ba2a-4b6c485a819f
DTSTART;VALUE=DATE:20260703
DTEND;VALUE=DATE:20260704
DESCRIPTION:
LOCATION:
SUMMARY:Division Holiday - 4th of July
END:VEVENT
BEGIN:VEVENT
DTSTAMP:20260426T030001Z
UID:d019e2dc-7df1-4087-ab5a-40ab6bc5aaba
DTSTART;VALUE=DATE:20260706
DTEND;VALUE=DATE:20260725
DESCRIPTION:
LOCATION:
SUMMARY:Summer School
END:VEVENT
END:VCALENDAR
