BEGIN:VCALENDAR
VERSION:2.0
PRODID:icalendar-ruby
CALSCALE:GREGORIAN
BEGIN:VTIMEZONE
TZID:America/New_York
BEGIN:DAYLIGHT
DTSTART:20260308T030000
TZOFFSETFROM:-0500
TZOFFSETTO:-0400
RRULE:FREQ=YEARLY;BYDAY=2SU;BYMONTH=3
TZNAME:EDT
END:DAYLIGHT
BEGIN:STANDARD
DTSTART:20261101T010000
TZOFFSETFROM:-0400
TZOFFSETTO:-0500
RRULE:FREQ=YEARLY;BYDAY=1SU;BYMONTH=11
TZNAME:EST
END:STANDARD
END:VTIMEZONE
BEGIN:VEVENT
DTSTAMP:20260424T135711Z
UID:842efc06-2714-44b6-bcfc-f025ab1f1eee
DTSTART;VALUE=DATE:20260501
DTEND;VALUE=DATE:20260506
DESCRIPTION:
LOCATION:
SUMMARY:Teacher Appreciation Week
END:VEVENT
BEGIN:VEVENT
DTSTAMP:20260424T135711Z
UID:e469fdef-9683-41ac-9fe0-c29a57e58838
DTSTART;VALUE=DATE:20270501
DTEND;VALUE=DATE:20270506
DESCRIPTION:
LOCATION:
SUMMARY:Teacher Appreciation Week
END:VEVENT
BEGIN:VEVENT
DTSTAMP:20260424T135711Z
UID:92d83792-3841-49a9-985d-6721fc4de664
DTSTART;VALUE=DATE:20280501
DTEND;VALUE=DATE:20280506
DESCRIPTION:
LOCATION:
SUMMARY:Teacher Appreciation Week
END:VEVENT
BEGIN:VEVENT
DTSTAMP:20260424T135711Z
UID:8130a52b-6aa9-49af-b865-c13a522f5546
DTSTART;VALUE=DATE:20290501
DTEND;VALUE=DATE:20290506
DESCRIPTION:
LOCATION:
SUMMARY:Teacher Appreciation Week
END:VEVENT
BEGIN:VEVENT
DTSTAMP:20260424T135711Z
UID:61cbfd53-15d6-409f-bd9b-9ff5b8454f40
DTSTART;VALUE=DATE:20300501
DTEND;VALUE=DATE:20300506
DESCRIPTION:
LOCATION:
SUMMARY:Teacher Appreciation Week
END:VEVENT
BEGIN:VEVENT
DTSTAMP:20260424T135711Z
UID:4e412fd7-af89-446a-af98-747bb6a51533
DTSTART;VALUE=DATE:20310501
DTEND;VALUE=DATE:20310506
DESCRIPTION:
LOCATION:
SUMMARY:Teacher Appreciation Week
END:VEVENT
BEGIN:VEVENT
DTSTAMP:20260424T135711Z
UID:c391ccb1-32f5-44c0-ac70-7637c7977489
DTSTART;VALUE=DATE:20320501
DTEND;VALUE=DATE:20320506
DESCRIPTION:
LOCATION:
SUMMARY:Teacher Appreciation Week
END:VEVENT
BEGIN:VEVENT
DTSTAMP:20260424T135711Z
UID:11e564b5-81cd-41e7-9d53-e637dad80c83
DTSTART;VALUE=DATE:20330501
DTEND;VALUE=DATE:20330506
DESCRIPTION:
LOCATION:
SUMMARY:Teacher Appreciation Week
END:VEVENT
BEGIN:VEVENT
DTSTAMP:20260424T135711Z
UID:3a42dea9-0a41-41fc-a2a6-1b9eda15cce0
DTSTART;VALUE=DATE:20340501
DTEND;VALUE=DATE:20340506
DESCRIPTION:
LOCATION:
SUMMARY:Teacher Appreciation Week
END:VEVENT
BEGIN:VEVENT
DTSTAMP:20260424T135711Z
UID:14010b25-adc8-4234-8f8a-4e746700aec0
DTSTART;VALUE=DATE:20350501
DTEND;VALUE=DATE:20350506
DESCRIPTION:
LOCATION:
SUMMARY:Teacher Appreciation Week
END:VEVENT
BEGIN:VEVENT
DTSTAMP:20260424T135711Z
UID:cd2faea1-c246-4d42-9dbb-757eca4a8fed
DTSTART;VALUE=DATE:20360501
DTEND;VALUE=DATE:20360506
DESCRIPTION:
LOCATION:
SUMMARY:Teacher Appreciation Week
END:VEVENT
BEGIN:VEVENT
DTSTAMP:20260424T135711Z
UID:a219baf5-fc83-40d6-ae41-a38db19712ba
DTSTART;VALUE=DATE:20370501
DTEND;VALUE=DATE:20370506
DESCRIPTION:
LOCATION:
SUMMARY:Teacher Appreciation Week
END:VEVENT
BEGIN:VEVENT
DTSTAMP:20260424T135711Z
UID:e70440ac-d9c0-4ccb-95b9-1078095a980d
DTSTART;VALUE=DATE:20380501
DTEND;VALUE=DATE:20380506
DESCRIPTION:
LOCATION:
SUMMARY:Teacher Appreciation Week
END:VEVENT
BEGIN:VEVENT
DTSTAMP:20260424T135711Z
UID:757ae6db-568d-4cd4-ad11-d2f912b86d90
DTSTART;VALUE=DATE:20390501
DTEND;VALUE=DATE:20390506
DESCRIPTION:
LOCATION:
SUMMARY:Teacher Appreciation Week
END:VEVENT
BEGIN:VEVENT
DTSTAMP:20260424T135711Z
UID:2f98cdd1-2dae-4a03-9072-19b764ae2666
DTSTART;VALUE=DATE:20400501
DTEND;VALUE=DATE:20400506
DESCRIPTION:
LOCATION:
SUMMARY:Teacher Appreciation Week
END:VEVENT
BEGIN:VEVENT
DTSTAMP:20260424T135711Z
UID:870b8965-a9e0-4b51-ac92-830fe2c9b188
DTSTART;VALUE=DATE:20410501
DTEND;VALUE=DATE:20410506
DESCRIPTION:
LOCATION:
SUMMARY:Teacher Appreciation Week
END:VEVENT
BEGIN:VEVENT
DTSTAMP:20260424T135711Z
UID:f9829483-6779-436e-af99-c57bb32f4b71
DTSTART;VALUE=DATE:20420501
DTEND;VALUE=DATE:20420506
DESCRIPTION:
LOCATION:
SUMMARY:Teacher Appreciation Week
END:VEVENT
BEGIN:VEVENT
DTSTAMP:20260424T135711Z
UID:36baefcd-4888-492b-9d24-795cfa3f7c4d
DTSTART;VALUE=DATE:20430501
DTEND;VALUE=DATE:20430506
DESCRIPTION:
LOCATION:
SUMMARY:Teacher Appreciation Week
END:VEVENT
BEGIN:VEVENT
DTSTAMP:20260424T135711Z
UID:5f64e24f-02d6-4455-b14c-382035470b40
DTSTART;VALUE=DATE:20440501
DTEND;VALUE=DATE:20440506
DESCRIPTION:
LOCATION:
SUMMARY:Teacher Appreciation Week
END:VEVENT
BEGIN:VEVENT
DTSTAMP:20260424T135711Z
UID:849a95ee-6fef-4428-8ce7-f27eea5c84ae
DTSTART;VALUE=DATE:20450501
DTEND;VALUE=DATE:20450506
DESCRIPTION:
LOCATION:
SUMMARY:Teacher Appreciation Week
END:VEVENT
BEGIN:VEVENT
DTSTAMP:20260424T135711Z
UID:9c758026-a62c-469e-ba17-75be8187083d
DTSTART;VALUE=DATE:20460501
DTEND;VALUE=DATE:20460506
DESCRIPTION:
LOCATION:
SUMMARY:Teacher Appreciation Week
END:VEVENT
BEGIN:VEVENT
DTSTAMP:20260424T135711Z
UID:8164c348-ede7-42f8-b013-c4e1ef8acc3b
DTSTART;VALUE=DATE:20470501
DTEND;VALUE=DATE:20470506
DESCRIPTION:
LOCATION:
SUMMARY:Teacher Appreciation Week
END:VEVENT
BEGIN:VEVENT
DTSTAMP:20260424T135711Z
UID:74b7fdeb-5e70-45aa-aed3-ab7f91e3ebfc
DTSTART;VALUE=DATE:20480501
DTEND;VALUE=DATE:20480506
DESCRIPTION:
LOCATION:
SUMMARY:Teacher Appreciation Week
END:VEVENT
BEGIN:VEVENT
DTSTAMP:20260424T135711Z
UID:d6424000-4419-4e7d-aaae-1df5d5aaa397
DTSTART;VALUE=DATE:20490501
DTEND;VALUE=DATE:20490506
DESCRIPTION:
LOCATION:
SUMMARY:Teacher Appreciation Week
END:VEVENT
BEGIN:VEVENT
DTSTAMP:20260424T135711Z
UID:431acd98-ff7c-4453-a528-d03f8724ee76
DTSTART;VALUE=DATE:20500501
DTEND;VALUE=DATE:20500506
DESCRIPTION:
LOCATION:
SUMMARY:Teacher Appreciation Week
END:VEVENT
BEGIN:VEVENT
DTSTAMP:20260424T135711Z
UID:417b4524-93c8-4bf6-9880-e5125f294388
DTSTART;VALUE=DATE:20510501
DTEND;VALUE=DATE:20510506
DESCRIPTION:
LOCATION:
SUMMARY:Teacher Appreciation Week
END:VEVENT
BEGIN:VEVENT
DTSTAMP:20260424T135711Z
UID:29c06eb6-714f-47ec-a681-41510635b350
DTSTART;VALUE=DATE:20520501
DTEND;VALUE=DATE:20520506
DESCRIPTION:
LOCATION:
SUMMARY:Teacher Appreciation Week
END:VEVENT
BEGIN:VEVENT
DTSTAMP:20260424T135711Z
UID:32dba2d5-409b-49cd-8d9d-ad2e9088b161
DTSTART;VALUE=DATE:20530501
DTEND;VALUE=DATE:20530506
DESCRIPTION:
LOCATION:
SUMMARY:Teacher Appreciation Week
END:VEVENT
BEGIN:VEVENT
DTSTAMP:20260424T135711Z
UID:75adb9db-0f6b-420a-9347-b3a947d5f3b3
DTSTART;VALUE=DATE:20540501
DTEND;VALUE=DATE:20540506
DESCRIPTION:
LOCATION:
SUMMARY:Teacher Appreciation Week
END:VEVENT
BEGIN:VEVENT
DTSTAMP:20260424T135711Z
UID:eb135769-2373-4605-af84-6fd0236cfd1a
DTSTART;VALUE=DATE:20550501
DTEND;VALUE=DATE:20550506
DESCRIPTION:
LOCATION:
SUMMARY:Teacher Appreciation Week
END:VEVENT
BEGIN:VEVENT
DTSTAMP:20260424T135711Z
UID:fe300195-0fe0-43a9-9843-eaa694f0c5c2
DTSTART;VALUE=DATE:20560501
DTEND;VALUE=DATE:20560506
DESCRIPTION:
LOCATION:
SUMMARY:Teacher Appreciation Week
END:VEVENT
BEGIN:VEVENT
DTSTAMP:20260424T135711Z
UID:bcd54b23-8c20-4813-9fd1-de7bb96466c5
DTSTART;VALUE=DATE:20570501
DTEND;VALUE=DATE:20570506
DESCRIPTION:
LOCATION:
SUMMARY:Teacher Appreciation Week
END:VEVENT
BEGIN:VEVENT
DTSTAMP:20260424T135711Z
UID:c41f5134-b268-4a58-a1cd-aa642be8f8cd
DTSTART;VALUE=DATE:20580501
DTEND;VALUE=DATE:20580506
DESCRIPTION:
LOCATION:
SUMMARY:Teacher Appreciation Week
END:VEVENT
BEGIN:VEVENT
DTSTAMP:20260424T135711Z
UID:c21148e6-c85a-4e39-b02d-4537f3cb298f
DTSTART;VALUE=DATE:20590501
DTEND;VALUE=DATE:20590506
DESCRIPTION:
LOCATION:
SUMMARY:Teacher Appreciation Week
END:VEVENT
BEGIN:VEVENT
DTSTAMP:20260424T135711Z
UID:e09d9d92-9d10-4928-ab2c-acdec897d61f
DTSTART;VALUE=DATE:20600501
DTEND;VALUE=DATE:20600506
DESCRIPTION:
LOCATION:
SUMMARY:Teacher Appreciation Week
END:VEVENT
BEGIN:VEVENT
DTSTAMP:20260424T135711Z
UID:3e8e2ac7-e806-450d-86ae-a52d0664ed8b
DTSTART;VALUE=DATE:20610501
DTEND;VALUE=DATE:20610506
DESCRIPTION:
LOCATION:
SUMMARY:Teacher Appreciation Week
END:VEVENT
BEGIN:VEVENT
DTSTAMP:20260424T135711Z
UID:08366084-ff7c-4e9c-b704-cd77075fdaf9
DTSTART;VALUE=DATE:20620501
DTEND;VALUE=DATE:20620506
DESCRIPTION:
LOCATION:
SUMMARY:Teacher Appreciation Week
END:VEVENT
BEGIN:VEVENT
DTSTAMP:20260424T135711Z
UID:32212b47-53e9-413f-9989-368b627c1b27
DTSTART;VALUE=DATE:20630501
DTEND;VALUE=DATE:20630506
DESCRIPTION:
LOCATION:
SUMMARY:Teacher Appreciation Week
END:VEVENT
BEGIN:VEVENT
DTSTAMP:20260424T135711Z
UID:eabd93f3-2a7f-400c-b75a-3441026addc6
DTSTART;VALUE=DATE:20640501
DTEND;VALUE=DATE:20640506
DESCRIPTION:
LOCATION:
SUMMARY:Teacher Appreciation Week
END:VEVENT
BEGIN:VEVENT
DTSTAMP:20260424T135711Z
UID:6610711a-2391-4039-88c2-5c9140c53cda
DTSTART;VALUE=DATE:20650501
DTEND;VALUE=DATE:20650506
DESCRIPTION:
LOCATION:
SUMMARY:Teacher Appreciation Week
END:VEVENT
BEGIN:VEVENT
DTSTAMP:20260424T135711Z
UID:ea2c56ef-d5b7-4701-9e7b-b4361b2b4b43
DTSTART;VALUE=DATE:20660501
DTEND;VALUE=DATE:20660506
DESCRIPTION:
LOCATION:
SUMMARY:Teacher Appreciation Week
END:VEVENT
BEGIN:VEVENT
DTSTAMP:20260424T135711Z
UID:cba7c406-7bc0-4a67-8134-af8053787225
DTSTART;VALUE=DATE:20670501
DTEND;VALUE=DATE:20670506
DESCRIPTION:
LOCATION:
SUMMARY:Teacher Appreciation Week
END:VEVENT
BEGIN:VEVENT
DTSTAMP:20260424T135711Z
UID:9b7dc260-c54f-4a16-bcac-82ba45c2a85d
DTSTART;VALUE=DATE:20680501
DTEND;VALUE=DATE:20680506
DESCRIPTION:
LOCATION:
SUMMARY:Teacher Appreciation Week
END:VEVENT
BEGIN:VEVENT
DTSTAMP:20260424T135711Z
UID:3df3fd63-bb61-4949-a9c2-76658fa01a46
DTSTART;VALUE=DATE:20690501
DTEND;VALUE=DATE:20690506
DESCRIPTION:
LOCATION:
SUMMARY:Teacher Appreciation Week
END:VEVENT
BEGIN:VEVENT
DTSTAMP:20260424T135711Z
UID:eb284c71-244d-436a-83e4-206d09f65887
DTSTART;VALUE=DATE:20700501
DTEND;VALUE=DATE:20700506
DESCRIPTION:
LOCATION:
SUMMARY:Teacher Appreciation Week
END:VEVENT
BEGIN:VEVENT
DTSTAMP:20260424T135711Z
UID:bf2a9b53-af0d-4070-8a8f-7b2399330f2d
DTSTART;VALUE=DATE:20710501
DTEND;VALUE=DATE:20710506
DESCRIPTION:
LOCATION:
SUMMARY:Teacher Appreciation Week
END:VEVENT
BEGIN:VEVENT
DTSTAMP:20260424T135711Z
UID:ed130ee8-d1ae-4a59-8c82-36ba7992d717
DTSTART;VALUE=DATE:20720501
DTEND;VALUE=DATE:20720506
DESCRIPTION:
LOCATION:
SUMMARY:Teacher Appreciation Week
END:VEVENT
BEGIN:VEVENT
DTSTAMP:20260424T135711Z
UID:98203573-8333-4b6a-b29b-d09e743c9a76
DTSTART;VALUE=DATE:20730501
DTEND;VALUE=DATE:20730506
DESCRIPTION:
LOCATION:
SUMMARY:Teacher Appreciation Week
END:VEVENT
BEGIN:VEVENT
DTSTAMP:20260424T135711Z
UID:66524a00-7417-401e-9962-3239ca070668
DTSTART;VALUE=DATE:20740501
DTEND;VALUE=DATE:20740506
DESCRIPTION:
LOCATION:
SUMMARY:Teacher Appreciation Week
END:VEVENT
BEGIN:VEVENT
DTSTAMP:20260424T135711Z
UID:8786e629-3029-428f-acc7-677b207078c9
DTSTART;VALUE=DATE:20750501
DTEND;VALUE=DATE:20750506
DESCRIPTION:
LOCATION:
SUMMARY:Teacher Appreciation Week
END:VEVENT
BEGIN:VEVENT
DTSTAMP:20260424T135711Z
UID:570280e4-e8ed-454d-a921-1a2669aaf3dc
DTSTART;VALUE=DATE:20760501
DTEND;VALUE=DATE:20760506
DESCRIPTION:
LOCATION:
SUMMARY:Teacher Appreciation Week
END:VEVENT
BEGIN:VEVENT
DTSTAMP:20260424T135711Z
UID:19ea7379-1f8c-4b2e-af4d-e102fc0daa17
DTSTART;VALUE=DATE:20770501
DTEND;VALUE=DATE:20770506
DESCRIPTION:
LOCATION:
SUMMARY:Teacher Appreciation Week
END:VEVENT
BEGIN:VEVENT
DTSTAMP:20260424T135711Z
UID:b472a59d-1036-48d8-b037-66a811a7e6d0
DTSTART;VALUE=DATE:20780501
DTEND;VALUE=DATE:20780506
DESCRIPTION:
LOCATION:
SUMMARY:Teacher Appreciation Week
END:VEVENT
BEGIN:VEVENT
DTSTAMP:20260424T135711Z
UID:89132ebe-c2c9-4d4d-a7bd-d5750b6ac889
DTSTART;VALUE=DATE:20790501
DTEND;VALUE=DATE:20790506
DESCRIPTION:
LOCATION:
SUMMARY:Teacher Appreciation Week
END:VEVENT
BEGIN:VEVENT
DTSTAMP:20260424T135711Z
UID:74489418-46f4-4577-ae89-1bb5b4123a5e
DTSTART;VALUE=DATE:20800501
DTEND;VALUE=DATE:20800506
DESCRIPTION:
LOCATION:
SUMMARY:Teacher Appreciation Week
END:VEVENT
BEGIN:VEVENT
DTSTAMP:20260424T135711Z
UID:3df633b4-bc88-4b16-8e9c-e0940b4a74bc
DTSTART;VALUE=DATE:20810501
DTEND;VALUE=DATE:20810506
DESCRIPTION:
LOCATION:
SUMMARY:Teacher Appreciation Week
END:VEVENT
BEGIN:VEVENT
DTSTAMP:20260424T135711Z
UID:c366e85c-9903-4d59-8256-4af27f88c604
DTSTART;VALUE=DATE:20820501
DTEND;VALUE=DATE:20820506
DESCRIPTION:
LOCATION:
SUMMARY:Teacher Appreciation Week
END:VEVENT
BEGIN:VEVENT
DTSTAMP:20260424T135711Z
UID:f680aaa0-5f56-4dcc-bd32-17f99a46fe82
DTSTART;VALUE=DATE:20830501
DTEND;VALUE=DATE:20830506
DESCRIPTION:
LOCATION:
SUMMARY:Teacher Appreciation Week
END:VEVENT
BEGIN:VEVENT
DTSTAMP:20260424T135711Z
UID:35eac8cf-b4e0-499e-97fe-415128db76aa
DTSTART;VALUE=DATE:20840501
DTEND;VALUE=DATE:20840506
DESCRIPTION:
LOCATION:
SUMMARY:Teacher Appreciation Week
END:VEVENT
BEGIN:VEVENT
DTSTAMP:20260424T135711Z
UID:d56d5068-e79f-4451-b89d-bdf8fd16fc50
DTSTART;VALUE=DATE:20850501
DTEND;VALUE=DATE:20850506
DESCRIPTION:
LOCATION:
SUMMARY:Teacher Appreciation Week
END:VEVENT
BEGIN:VEVENT
DTSTAMP:20260424T135711Z
UID:294b44ac-cc0c-46c7-9fab-4f87344160df
DTSTART;VALUE=DATE:20860501
DTEND;VALUE=DATE:20860506
DESCRIPTION:
LOCATION:
SUMMARY:Teacher Appreciation Week
END:VEVENT
BEGIN:VEVENT
DTSTAMP:20260424T135711Z
UID:e6e496ff-24b4-43a8-8d2e-67466556c2c7
DTSTART;VALUE=DATE:20870501
DTEND;VALUE=DATE:20870506
DESCRIPTION:
LOCATION:
SUMMARY:Teacher Appreciation Week
END:VEVENT
BEGIN:VEVENT
DTSTAMP:20260424T135711Z
UID:6ca8c7d4-0601-4453-a940-5fb1053dbab6
DTSTART;VALUE=DATE:20880501
DTEND;VALUE=DATE:20880506
DESCRIPTION:
LOCATION:
SUMMARY:Teacher Appreciation Week
END:VEVENT
BEGIN:VEVENT
DTSTAMP:20260424T135711Z
UID:a12a1aea-1b96-46ef-8324-151f78a49834
DTSTART;VALUE=DATE:20890501
DTEND;VALUE=DATE:20890506
DESCRIPTION:
LOCATION:
SUMMARY:Teacher Appreciation Week
END:VEVENT
BEGIN:VEVENT
DTSTAMP:20260424T135711Z
UID:d00dd1d8-2802-467e-83a0-e4780f1d5fbb
DTSTART;VALUE=DATE:20900501
DTEND;VALUE=DATE:20900506
DESCRIPTION:
LOCATION:
SUMMARY:Teacher Appreciation Week
END:VEVENT
BEGIN:VEVENT
DTSTAMP:20260424T135711Z
UID:6045ff42-611f-4608-94eb-e8ba211333f4
DTSTART;VALUE=DATE:20910501
DTEND;VALUE=DATE:20910506
DESCRIPTION:
LOCATION:
SUMMARY:Teacher Appreciation Week
END:VEVENT
BEGIN:VEVENT
DTSTAMP:20260424T135711Z
UID:eaeb97a5-6e61-4be6-82d1-039478e40cea
DTSTART;VALUE=DATE:20920501
DTEND;VALUE=DATE:20920506
DESCRIPTION:
LOCATION:
SUMMARY:Teacher Appreciation Week
END:VEVENT
BEGIN:VEVENT
DTSTAMP:20260424T135711Z
UID:557815f7-14b4-4482-a651-bb45e65c9da4
DTSTART;VALUE=DATE:20930501
DTEND;VALUE=DATE:20930506
DESCRIPTION:
LOCATION:
SUMMARY:Teacher Appreciation Week
END:VEVENT
BEGIN:VEVENT
DTSTAMP:20260424T135711Z
UID:ff3c7f5d-1d9e-44ab-9c10-782d51f5e8da
DTSTART;VALUE=DATE:20940501
DTEND;VALUE=DATE:20940506
DESCRIPTION:
LOCATION:
SUMMARY:Teacher Appreciation Week
END:VEVENT
BEGIN:VEVENT
DTSTAMP:20260424T135711Z
UID:f8fdf231-4f36-4408-b69f-05d18726c820
DTSTART;VALUE=DATE:20950501
DTEND;VALUE=DATE:20950506
DESCRIPTION:
LOCATION:
SUMMARY:Teacher Appreciation Week
END:VEVENT
BEGIN:VEVENT
DTSTAMP:20260424T135711Z
UID:8080a4dd-18e1-431c-bba2-acfc94e84fd1
DTSTART;VALUE=DATE:20960501
DTEND;VALUE=DATE:20960506
DESCRIPTION:
LOCATION:
SUMMARY:Teacher Appreciation Week
END:VEVENT
BEGIN:VEVENT
DTSTAMP:20260424T135711Z
UID:35179121-b1fe-4f7a-b532-7e714b72f96b
DTSTART;VALUE=DATE:20970501
DTEND;VALUE=DATE:20970506
DESCRIPTION:
LOCATION:
SUMMARY:Teacher Appreciation Week
END:VEVENT
BEGIN:VEVENT
DTSTAMP:20260424T135711Z
UID:946914aa-1297-4f57-915a-45a4de30a245
DTSTART;VALUE=DATE:20980501
DTEND;VALUE=DATE:20980506
DESCRIPTION:
LOCATION:
SUMMARY:Teacher Appreciation Week
END:VEVENT
BEGIN:VEVENT
DTSTAMP:20260424T135711Z
UID:ed16802f-3466-463b-9c87-fc97572f401f
DTSTART;VALUE=DATE:20990501
DTEND;VALUE=DATE:20990506
DESCRIPTION:
LOCATION:
SUMMARY:Teacher Appreciation Week
END:VEVENT
END:VCALENDAR
