BEGIN:VCALENDAR
VERSION:2.0
PRODID:icalendar-ruby
CALSCALE:GREGORIAN
BEGIN:VTIMEZONE
TZID:America/New_York
BEGIN:DAYLIGHT
DTSTART:20260308T030000
TZOFFSETFROM:-0500
TZOFFSETTO:-0400
RRULE:FREQ=YEARLY;BYDAY=2SU;BYMONTH=3
TZNAME:EDT
END:DAYLIGHT
BEGIN:STANDARD
DTSTART:20261101T010000
TZOFFSETFROM:-0400
TZOFFSETTO:-0500
RRULE:FREQ=YEARLY;BYDAY=1SU;BYMONTH=11
TZNAME:EST
END:STANDARD
END:VTIMEZONE
BEGIN:VEVENT
DTSTAMP:20260425T231602Z
UID:6dca169c-5f61-4560-856a-19b36f1df434
DTSTART:20260429T180000
DTEND:20260429T180000
DESCRIPTION:
LOCATION:
SUMMARY:Special Board Meeting
END:VEVENT
BEGIN:VEVENT
DTSTAMP:20260425T231602Z
UID:00f133a1-7fc5-4086-8d23-6466528cfdd9
DTSTART:20260430T173000
DTEND:20260430T190000
DESCRIPTION:<p><a target="_blank" rel="noopener noreferrer nofollow" href="
 https://sites.google.com/spsdme.org/spmsfundraiser2026">Click here for all
  the details</a><span> (click to see auction items in the top right corner
 !) and </span><a target="_blank" rel="noopener noreferrer nofollow" href="
 https://gofan.co/event/6244955?schoolId=ME22131_2" relative-link="">click 
 here</a><span> to buy tickets!</span></p>
LOCATION:
SUMMARY:SPMS Talent Show & Auction
END:VEVENT
BEGIN:VEVENT
DTSTAMP:20260425T231602Z
UID:d1f94382-c623-417d-9b8e-391962ae6803
DTSTART;VALUE=DATE:20260506
DTEND;VALUE=DATE:20260507
DESCRIPTION:
LOCATION:120 Wescott Rd\, South Portland\, ME 04106\, USA
SUMMARY:World Cultures Day
END:VEVENT
BEGIN:VEVENT
DTSTAMP:20260425T231602Z
UID:c0e4d96b-1f78-42fe-8c69-8a52f5387bff
DTSTART;VALUE=DATE:20260506
DTEND;VALUE=DATE:20260507
DESCRIPTION:
LOCATION:
SUMMARY:Student Early Release
END:VEVENT
BEGIN:VEVENT
DTSTAMP:20260425T231602Z
UID:aff4a0d5-f1cf-4f49-8375-eb30c777aaf6
DTSTART:20260511T180000
DTEND:20260511T180000
DESCRIPTION:
LOCATION:637 Highland Ave\, South Portland\, ME 04106\, USA
SUMMARY:School Board Meeting
END:VEVENT
BEGIN:VEVENT
DTSTAMP:20260425T231602Z
UID:153faab3-fafb-4bd0-839e-23476f2be2a6
DTSTART:20260511T190000
DTEND:20260511T200000
DESCRIPTION:
LOCATION:637 Highland Ave\, South Portland\, ME 04106\, USA
SUMMARY:6th Grade Band & Chorus Concert
END:VEVENT
BEGIN:VEVENT
DTSTAMP:20260425T231602Z
UID:cc2e692e-68f9-4a4f-ab80-99cf53032ab5
DTSTART:20260512T183000
DTEND:20260512T193000
DESCRIPTION:
LOCATION:637 Highland Ave\, South Portland\, ME 04106\, USA
SUMMARY:5th Grade Band & Chorus Concert
END:VEVENT
BEGIN:VEVENT
DTSTAMP:20260425T231602Z
UID:b385ae36-ce08-4164-8c74-ae82f81c2184
DTSTART:20260513T171500
DTEND:20260513T181500
DESCRIPTION:
LOCATION:120 Wescott Rd\, South Portland\, ME 04106\, USA
SUMMARY:PTO Meeting
END:VEVENT
BEGIN:VEVENT
DTSTAMP:20260425T231602Z
UID:068b200f-97d5-4cc7-84a9-2c8c2604aabd
DTSTART:20260520T190000
DTEND:20260520T200000
DESCRIPTION:
LOCATION:637 Highland Ave\, South Portland\, ME 04106\, USA
SUMMARY:7/8  Band and Chorus Concert
END:VEVENT
BEGIN:VEVENT
DTSTAMP:20260425T231602Z
UID:c1ee411b-5e3c-4a15-bc82-c7a6f5ea2d3b
DTSTART;VALUE=DATE:20260525
DTEND;VALUE=DATE:20260526
DESCRIPTION:
LOCATION:
SUMMARY:Memorial Day – No School
END:VEVENT
BEGIN:VEVENT
DTSTAMP:20260425T231602Z
UID:7645ba89-a202-4827-b1e9-84dbfca10de4
DTSTART:20260525T103000
DTEND:20260525T120000
DESCRIPTION:<p><span>Students will meet at the SMCC Parking lot at 8:00 am<
 /span></p>
LOCATION:
SUMMARY:6-8 Grade Band @ the Memorial Day Parade
END:VEVENT
BEGIN:VEVENT
DTSTAMP:20260425T231602Z
UID:56c1147c-0161-4d3c-9db9-d633e2e6e217
DTSTART:20260527T170000
DTEND:20260527T190000
DESCRIPTION:<p><span>Student Showcase of completed student work from the ye
 ar</span></p>
LOCATION:120 Wescott Rd\, South Portland\, ME 04106\, USA
SUMMARY:Shark Team Learning Night: Showcase & Dinner
END:VEVENT
BEGIN:VEVENT
DTSTAMP:20260425T231602Z
UID:5e054efd-f8f0-48ca-a4c8-8a649682eacd
DTSTART:20260605T160000
DTEND:20260605T180000
DESCRIPTION:<p>Rain date: Sunday\, June 7 at 2 PM</p>
LOCATION:637 Highland Ave\, South Portland\, ME 04106\, USA
SUMMARY:Graduation at SPHS Martin Field
END:VEVENT
BEGIN:VEVENT
DTSTAMP:20260425T231602Z
UID:df540329-07a4-4cdd-9424-faae51b71e30
DTSTART:20260610T171500
DTEND:20260610T181500
DESCRIPTION:
LOCATION:120 Wescott Rd\, South Portland\, ME 04106\, USA
SUMMARY:PTO Meeting
END:VEVENT
BEGIN:VEVENT
DTSTAMP:20260425T231602Z
UID:92646b51-1a00-4123-96b0-542ef3d0c480
DTSTART;VALUE=DATE:20260617
DTEND;VALUE=DATE:20260618
DESCRIPTION:
LOCATION:
SUMMARY:Last Student Day\; Early Release (Four  snow days used\, 12/2/25\, 
 1/7/26\, 1/26/26\, and 2/23/26)
END:VEVENT
BEGIN:VEVENT
DTSTAMP:20260425T231602Z
UID:96904e1a-d948-4e03-bf0a-dac83b2baf60
DTSTART:20260713T180000
DTEND:20260713T180000
DESCRIPTION:
LOCATION:637 Highland Ave\, South Portland\, ME 04106\, USA
SUMMARY:School Board Meeting
END:VEVENT
BEGIN:VEVENT
DTSTAMP:20260425T231602Z
UID:0f38c894-e17c-4eea-85a8-29ca0d5fb858
DTSTART:20260817T180000
DTEND:20260817T180000
DESCRIPTION:
LOCATION:637 Highland Ave\, South Portland\, ME 04106\, USA
SUMMARY:School Board Meeting
END:VEVENT
BEGIN:VEVENT
DTSTAMP:20260425T231602Z
UID:e0f44c26-e5e5-4d28-ab99-bce1f1e88cc2
DTSTART;VALUE=DATE:20260831
DTEND;VALUE=DATE:20260901
DESCRIPTION:
LOCATION:
SUMMARY:First Day of School for Grades 1-12
END:VEVENT
BEGIN:VEVENT
DTSTAMP:20260425T231602Z
UID:a74ad5dd-8242-4c3b-826d-6a7f53490f0e
DTSTART;VALUE=DATE:20260901
DTEND;VALUE=DATE:20260902
DESCRIPTION:
LOCATION:
SUMMARY:First Day for Kindergarten\; Kindergarten Early Release
END:VEVENT
BEGIN:VEVENT
DTSTAMP:20260425T231602Z
UID:dba21723-7620-469b-900c-0f0c1baa3678
DTSTART;VALUE=DATE:20260902
DTEND;VALUE=DATE:20260903
DESCRIPTION:
LOCATION:
SUMMARY:First Day for PreK\; Kindergarten Early Release
END:VEVENT
BEGIN:VEVENT
DTSTAMP:20260425T231602Z
UID:659537b7-62e2-45b9-9c93-eb7f8ab0a365
DTSTART;VALUE=DATE:20260907
DTEND;VALUE=DATE:20260908
DESCRIPTION:
LOCATION:
SUMMARY:Labor Day - No School
END:VEVENT
BEGIN:VEVENT
DTSTAMP:20260425T231602Z
UID:4d924352-dd89-499a-9ba2-f2ba6db1b302
DTSTART;VALUE=DATE:20260923
DTEND;VALUE=DATE:20260924
DESCRIPTION:
LOCATION:
SUMMARY:Early Release
END:VEVENT
BEGIN:VEVENT
DTSTAMP:20260425T231602Z
UID:1984ad19-e0c3-4318-bce2-ff7dce9159a2
DTSTART;VALUE=DATE:20261009
DTEND;VALUE=DATE:20261010
DESCRIPTION:
LOCATION:
SUMMARY:Staff Professional Development – No School for Students
END:VEVENT
BEGIN:VEVENT
DTSTAMP:20260425T231602Z
UID:73e48f85-7878-4133-9f5b-c035efdce0c0
DTSTART;VALUE=DATE:20261012
DTEND;VALUE=DATE:20261013
DESCRIPTION:
LOCATION:
SUMMARY:Indigenous Peoples' Day – No School
END:VEVENT
BEGIN:VEVENT
DTSTAMP:20260425T231602Z
UID:29b4c95c-74f9-47ad-92bf-0ff5ec622e24
DTSTART;VALUE=DATE:20261021
DTEND;VALUE=DATE:20261022
DESCRIPTION:
LOCATION:
SUMMARY:Early Release
END:VEVENT
BEGIN:VEVENT
DTSTAMP:20260425T231602Z
UID:3e517176-1d66-49b4-bc0c-7c7d0cc1e24a
DTSTART;VALUE=DATE:20261111
DTEND;VALUE=DATE:20261112
DESCRIPTION:
LOCATION:
SUMMARY:Veterans Day – No School
END:VEVENT
BEGIN:VEVENT
DTSTAMP:20260425T231602Z
UID:65ffc04a-7fb7-4964-8254-efc0a13a96ad
DTSTART;VALUE=DATE:20261124
DTEND;VALUE=DATE:20261125
DESCRIPTION:
LOCATION:
SUMMARY:Early Release
END:VEVENT
BEGIN:VEVENT
DTSTAMP:20260425T231602Z
UID:6c5046a5-13e7-4e5c-81e1-3fd589f56d47
DTSTART;VALUE=DATE:20261125
DTEND;VALUE=DATE:20261128
DESCRIPTION:
LOCATION:
SUMMARY:Thanksgiving Break – No School
END:VEVENT
BEGIN:VEVENT
DTSTAMP:20260425T231602Z
UID:2c6f87bc-3719-457f-b44f-787f67228ab2
DTSTART;VALUE=DATE:20261209
DTEND;VALUE=DATE:20261210
DESCRIPTION:
LOCATION:
SUMMARY:Early Release
END:VEVENT
BEGIN:VEVENT
DTSTAMP:20260425T231602Z
UID:f236e4aa-d4ec-4197-af79-4d54191932cd
DTSTART;VALUE=DATE:20261223
DTEND;VALUE=DATE:20270102
DESCRIPTION:
LOCATION:
SUMMARY:Winter Break – No School
END:VEVENT
BEGIN:VEVENT
DTSTAMP:20260425T231602Z
UID:18ab4e6f-6d7a-41f2-9a4a-238aadd3847d
DTSTART;VALUE=DATE:20270118
DTEND;VALUE=DATE:20270119
DESCRIPTION:
LOCATION:
SUMMARY:Martin Luther King Jr. Day – No School
END:VEVENT
BEGIN:VEVENT
DTSTAMP:20260425T231602Z
UID:3d213fc1-0688-4385-bc49-c42cd031fb28
DTSTART;VALUE=DATE:20270127
DTEND;VALUE=DATE:20270128
DESCRIPTION:
LOCATION:
SUMMARY:Early Release
END:VEVENT
BEGIN:VEVENT
DTSTAMP:20260425T231602Z
UID:85bfe7b3-3d96-43e7-9df1-d894c322ac92
DTSTART;VALUE=DATE:20270215
DTEND;VALUE=DATE:20270220
DESCRIPTION:
LOCATION:
SUMMARY:Mid-Winter Break: No School
END:VEVENT
BEGIN:VEVENT
DTSTAMP:20260425T231602Z
UID:d5910031-37d1-494d-8c0c-77cf1b5a9b61
DTSTART;VALUE=DATE:20270303
DTEND;VALUE=DATE:20270304
DESCRIPTION:
LOCATION:
SUMMARY:Early Release
END:VEVENT
BEGIN:VEVENT
DTSTAMP:20260425T231602Z
UID:ad9ea884-5a0a-4fb1-8e6a-8a8b7b66020d
DTSTART;VALUE=DATE:20270331
DTEND;VALUE=DATE:20270401
DESCRIPTION:
LOCATION:
SUMMARY:Early Release
END:VEVENT
BEGIN:VEVENT
DTSTAMP:20260425T231602Z
UID:37e014c2-6d5a-4762-b6d7-06684b753146
DTSTART;VALUE=DATE:20270415
DTEND;VALUE=DATE:20270416
DESCRIPTION:
LOCATION:
SUMMARY:Early Release
END:VEVENT
BEGIN:VEVENT
DTSTAMP:20260425T231602Z
UID:7c862d8b-537a-4b64-87af-577f649b7010
DTSTART;VALUE=DATE:20270416
DTEND;VALUE=DATE:20270417
DESCRIPTION:
LOCATION:
SUMMARY:Teacher Day – No School for Students
END:VEVENT
BEGIN:VEVENT
DTSTAMP:20260425T231602Z
UID:4c33192d-2645-45ee-8b36-08207e10a933
DTSTART;VALUE=DATE:20270419
DTEND;VALUE=DATE:20270424
DESCRIPTION:
LOCATION:
SUMMARY:Spring Break – No School
END:VEVENT
BEGIN:VEVENT
DTSTAMP:20260425T231602Z
UID:a7566892-e784-45da-8164-5f8ceb9338fc
DTSTART;VALUE=DATE:20270505
DTEND;VALUE=DATE:20270506
DESCRIPTION:
LOCATION:
SUMMARY:Early Release
END:VEVENT
BEGIN:VEVENT
DTSTAMP:20260425T231602Z
UID:00e96bb0-c518-4a6f-90e8-147157005ebc
DTSTART;VALUE=DATE:20270526
DTEND;VALUE=DATE:20270527
DESCRIPTION:
LOCATION:
SUMMARY:Early Release
END:VEVENT
BEGIN:VEVENT
DTSTAMP:20260425T231602Z
UID:c83fec4f-8cf8-4c7f-9a13-39b3bf3a2636
DTSTART;VALUE=DATE:20270531
DTEND;VALUE=DATE:20270601
DESCRIPTION:
LOCATION:
SUMMARY:Memorial Day – No School
END:VEVENT
BEGIN:VEVENT
DTSTAMP:20260425T231602Z
UID:10d3482d-8706-4e92-b3f5-d51bedd28eeb
DTSTART;VALUE=DATE:20270610
DTEND;VALUE=DATE:20270611
DESCRIPTION:
LOCATION:
SUMMARY:Last Student Day\; Early Release
END:VEVENT
BEGIN:VEVENT
DTSTAMP:20260425T231602Z
UID:d090bf1a-f7c1-4483-b9d2-7f3e5fa52e5d
DTSTART;VALUE=DATE:20270611
DTEND;VALUE=DATE:20270612
DESCRIPTION:
LOCATION:
SUMMARY:POSSIBLE Last Student Day\; Early Release (If one snow day used)
END:VEVENT
BEGIN:VEVENT
DTSTAMP:20260425T231602Z
UID:d90ef117-d780-4997-bd3b-6f8642c5d55b
DTSTART;VALUE=DATE:20270614
DTEND;VALUE=DATE:20270615
DESCRIPTION:
LOCATION:
SUMMARY:POSSIBLE Last Student Day\; Early Release (If two snow days used)
END:VEVENT
BEGIN:VEVENT
DTSTAMP:20260425T231602Z
UID:4bebd007-d4eb-4021-b0a2-47bd2b2eae07
DTSTART;VALUE=DATE:20270615
DTEND;VALUE=DATE:20270616
DESCRIPTION:
LOCATION:
SUMMARY:POSSIBLE Last Student Day\; Early Release (If three snow days used)
END:VEVENT
BEGIN:VEVENT
DTSTAMP:20260425T231602Z
UID:b1d4af15-486c-4c04-b4a1-228d8d063149
DTSTART;VALUE=DATE:20270616
DTEND;VALUE=DATE:20270617
DESCRIPTION:
LOCATION:
SUMMARY:POSSIBLE Last Student Day\; Early Release (If four snow days used)
END:VEVENT
BEGIN:VEVENT
DTSTAMP:20260425T231602Z
UID:0e7d4efe-329b-49e4-a601-0739a8b46a05
DTSTART;VALUE=DATE:20270617
DTEND;VALUE=DATE:20270618
DESCRIPTION:
LOCATION:
SUMMARY:POSSIBLE Last Student Day\; Early Release (If five snow days used)
END:VEVENT
END:VCALENDAR
