BEGIN:VCALENDAR
VERSION:2.0
PRODID:icalendar-ruby
CALSCALE:GREGORIAN
BEGIN:VTIMEZONE
TZID:America/Chicago
BEGIN:DAYLIGHT
DTSTART:20260308T030000
TZOFFSETFROM:-0600
TZOFFSETTO:-0500
RRULE:FREQ=YEARLY;BYDAY=2SU;BYMONTH=3
TZNAME:CDT
END:DAYLIGHT
BEGIN:STANDARD
DTSTART:20261101T010000
TZOFFSETFROM:-0500
TZOFFSETTO:-0600
RRULE:FREQ=YEARLY;BYDAY=1SU;BYMONTH=11
TZNAME:CST
END:STANDARD
END:VTIMEZONE
BEGIN:VEVENT
DTSTAMP:20260421T150609Z
UID:f9735b36-a13f-4629-96f3-e1256fc536a3
DTSTART;VALUE=DATE:20260401
DTEND;VALUE=DATE:20260501
DESCRIPTION:
LOCATION:
SUMMARY:School Library Month
END:VEVENT
BEGIN:VEVENT
DTSTAMP:20260421T150609Z
UID:f7903420-bb94-4598-8416-abe755778fa4
DTSTART;VALUE=DATE:20260420
DTEND;VALUE=DATE:20260425
DESCRIPTION:
LOCATION:
SUMMARY:Public School Volunteer Week
END:VEVENT
BEGIN:VEVENT
DTSTAMP:20260421T150609Z
UID:273a4de4-1231-4a4e-88a8-a90f985a2edc
DTSTART;VALUE=DATE:20260422
DTEND;VALUE=DATE:20260423
DESCRIPTION:
LOCATION:
SUMMARY:Administrative Professionals Day
END:VEVENT
BEGIN:VEVENT
DTSTAMP:20260421T150609Z
UID:c564a115-9e35-41af-8a3a-d78cecabaa1b
DTSTART;VALUE=DATE:20260428
DTEND;VALUE=DATE:20260429
DESCRIPTION:
LOCATION:
SUMMARY:School Bus Driver Appreciation Day
END:VEVENT
BEGIN:VEVENT
DTSTAMP:20260421T150609Z
UID:184a5607-09f9-49e0-beba-3b671e7525d2
DTSTART;VALUE=DATE:20260501
DTEND;VALUE=DATE:20260502
DESCRIPTION:
LOCATION:
SUMMARY:School Lunch Hero Day
END:VEVENT
BEGIN:VEVENT
DTSTAMP:20260421T150609Z
UID:621bae41-c872-4d96-9668-de6fce241fc3
DTSTART;VALUE=DATE:20260501
DTEND;VALUE=DATE:20260502
DESCRIPTION:
LOCATION:
SUMMARY:School Principals Day
END:VEVENT
BEGIN:VEVENT
DTSTAMP:20260421T150609Z
UID:5fbed361-74aa-449c-bc2e-929f160617f1
DTSTART;VALUE=DATE:20260504
DTEND;VALUE=DATE:20260509
DESCRIPTION:
LOCATION:
SUMMARY:Teacher Appreciation Week
END:VEVENT
BEGIN:VEVENT
DTSTAMP:20260421T150609Z
UID:77cb557e-a7db-4b1b-90ce-17290ba682d9
DTSTART;VALUE=DATE:20260505
DTEND;VALUE=DATE:20260506
DESCRIPTION:
LOCATION:
SUMMARY:Teacher Appreciation Day
END:VEVENT
BEGIN:VEVENT
DTSTAMP:20260421T150609Z
UID:edf7cf40-c3a5-4dcb-822c-4ecaadc6bb64
DTSTART;VALUE=DATE:20260506
DTEND;VALUE=DATE:20260507
DESCRIPTION:
LOCATION:
SUMMARY:School Nurse Day
END:VEVENT
BEGIN:VEVENT
DTSTAMP:20260421T150609Z
UID:2cde766f-4ca4-45a3-8be0-7afe5789aa20
DTSTART:20260507T190000
DTEND:20260507T203000
DESCRIPTION:
LOCATION:2500 S 199th St W\, Goddard\, KS 67052\, USA
SUMMARY:2026 Goddard Academy Graduation (GHS Auditorium)
END:VEVENT
BEGIN:VEVENT
DTSTAMP:20260421T150609Z
UID:87f3d379-833b-4dd8-8ba6-4168e4d9d4cb
DTSTART;VALUE=DATE:20260508
DTEND;VALUE=DATE:20260509
DESCRIPTION:
LOCATION:
SUMMARY:School Communicators Day
END:VEVENT
BEGIN:VEVENT
DTSTAMP:20260421T150609Z
UID:babfb712-9f07-49a4-aa32-8daf1ed7f461
DTSTART:20260509T130000
DTEND:20260509T150000
DESCRIPTION:
LOCATION:8151 N Hartman Arena Dr\, Park City\, KS 67147\, USA
SUMMARY:2026 Goddard High School Graduation (Park City Arena)
END:VEVENT
BEGIN:VEVENT
DTSTAMP:20260421T150609Z
UID:5ce6f7aa-7b61-4307-8b95-a185140488f9
DTSTART:20260509T160000
DTEND:20260509T180000
DESCRIPTION:
LOCATION:8151 N Hartman Arena Dr\, Park City\, KS 67147\, USA
SUMMARY:2026 Eisenhower High School Graduation (Park City Arena)
END:VEVENT
BEGIN:VEVENT
DTSTAMP:20260421T150609Z
UID:a86ab0b8-bbca-4e40-a5fd-28e32283b2ae
DTSTART:20260513T080000
DTEND:20260513T150000
DESCRIPTION:<p><strong><em>TIME: 8:00 a.m. - 3:00 p.m.<br>DATE: Wednesday\,
  May 13th\, 2026<br>PLACE: GHS\, EMS\, Challenger\, CDS\, Apollo &amp\; Oa
 k Street<br>WHO: Any new families to USD 265</em></strong></p><p style="te
 xt-align: left"><span>To assist new families and help welcome them to Godd
 ard Public Schools\, the district is hosting two “Family Tour Day" event
 s.</span><strong><em> </em></strong><span>This rotating school tour event 
 brings new or prospective USD 265 families into schools to get a better id
 ea of what a "day in the life" of a Goddard student looks like. </span><a 
 target="_blank" rel="noopener noreferrer nofollow" href="https://forms.gle
 /U6SCatvtRsAY8G6T6" relative-link=""><span><strong>CLICK HERE</strong></sp
 an></a><span> to register yourself and/or any attending family members. <s
 trong><em>All members of your family participating in the Family Tour MUST
  be pre-registered by the end of the day on Wednesday\, May 6th\, 2026 in 
 order to attend.&nbsp\; &nbsp\;</em></strong></span><br><br>The May 13th F
 amily&nbsp\;Tour&nbsp\;Day schedule is as follows:</p><ul><li><p style="te
 xt-align: left">Morning Sessions</p><ul><li><p style="text-align: left">Go
 ddard High School (9th - 12th Grade)\, <strong>8:00 - 8:40 a.m.</strong></
 p><ul><li><p style="text-align: left">2500 S. 199th St. W. Goddard\, KS 67
 052</p><p style="text-align: left"></p></li></ul></li><li><p style="text-a
 lign: left">Eisenhower Middle School (7th &amp\; 8th Grade)\, <strong>9:00
  - 9:40 a.m.</strong></p><ul><li><p style="text-align: left">16152 W. Expl
 orer St. Goddard\, KS 67052</p></li></ul></li><li><p style="text-align: le
 ft">Challenger Intermediate School (5th &amp\; 6th Grade)\, <strong>10:00 
 - 10:40 a.m.</strong></p><ul><li><p style="text-align: left">325 N. Walnut
  St. Goddard\, KS 67052</p><p style="text-align: left"></p></li></ul></li>
 <li><p style="text-align: left">Clark Davidson Elementary School (K - 4th 
 Grade)\, <strong>11:00 - 11:40 a.m.</strong></p><ul><li><p style="text-ali
 gn: left">333 S. Walnut St. Goddard\, KS 67052</p></li></ul></li></ul></li
 ><li><p style="text-align: left">Afternoon Sessions</p><ul><li><p style="t
 ext-align: left">Apollo Elementary School (K - 4th Grade)\, <strong>1:00 -
  1:40 p.m.</strong></p><ul><li><p style="text-align: left">16158 W. Apollo
  St. Goddard\, KS 67052</p></li></ul></li><li><p style="text-align: left">
 Oak Street Elementary School (K - 4th Grade)\, <strong>2:00 - 2:40 p.m.</s
 trong></p><ul><li><p style="text-align: left">501 N. Oak St. Goddard\, KS 
 67052</p></li></ul></li></ul></li></ul>
LOCATION:2500 S 199th St W\, Goddard\, KS 67052\, USA
SUMMARY:Family Tour Day (May 13th)
END:VEVENT
BEGIN:VEVENT
DTSTAMP:20260421T150609Z
UID:faa567bb-4935-469a-89bf-d5806aa515df
DTSTART;VALUE=DATE:20260514
DTEND;VALUE=DATE:20260515
DESCRIPTION:
LOCATION:
SUMMARY:Last Day of School
END:VEVENT
BEGIN:VEVENT
DTSTAMP:20260421T150609Z
UID:7983cd13-cb54-4cd0-abfe-77c6103e5b5d
DTSTART;VALUE=DATE:20260515
DTEND;VALUE=DATE:20260516
DESCRIPTION:
LOCATION:
SUMMARY:Teacher Work Day (No Classes)
END:VEVENT
BEGIN:VEVENT
DTSTAMP:20260421T150609Z
UID:8d1254b5-560b-4ea0-9827-4214efe725aa
DTSTART;VALUE=DATE:20260518
DTEND;VALUE=DATE:20260519
DESCRIPTION:
LOCATION:
SUMMARY:Speech Language Pathologist Day
END:VEVENT
BEGIN:VEVENT
DTSTAMP:20260421T150609Z
UID:7a8ff2f9-6359-4e88-a12a-79c509db56ad
DTSTART:20260518T110000
DTEND:20260518T190000
DESCRIPTION:
LOCATION:
SUMMARY:Kindergarten Screening Event (Held at ALL K-4 Schools)
END:VEVENT
BEGIN:VEVENT
DTSTAMP:20260421T150609Z
UID:67ee8db0-e2e5-4871-b987-7932fbe57417
DTSTART:20260518T110000
DTEND:20260518T190000
DESCRIPTION:
LOCATION:335 N Walnut St\, Goddard\, KS 67052\, USA
SUMMARY:Pre-K Screening Event (Held at Challenger Intermediate School)
END:VEVENT
BEGIN:VEVENT
DTSTAMP:20260421T150609Z
UID:77fd7174-7ba3-4920-9d72-049f8f4340b6
DTSTART:20260519T090000
DTEND:20260519T170000
DESCRIPTION:
LOCATION:
SUMMARY:Kindergarten Screening Event (Held at ALL K-4 Schools)
END:VEVENT
BEGIN:VEVENT
DTSTAMP:20260421T150609Z
UID:751e03ea-cf5b-4dd8-835d-c53d05ece895
DTSTART;VALUE=DATE:20260525
DTEND;VALUE=DATE:20260526
DESCRIPTION:
LOCATION:
SUMMARY:Memorial Day - All Offices Closed
END:VEVENT
BEGIN:VEVENT
DTSTAMP:20260421T150609Z
UID:e72a8a54-f05f-4a5e-aba2-08ae783b14b7
DTSTART:20260602T080000
DTEND:20260602T150000
DESCRIPTION:<p style="text-align: left"><strong><em>TIME: 8:00 a.m. - 3:00 
 p.m.<br>DATE: Tuesday\, June 2nd\, 2026<br>PLACE: EHS\, GMS\, Discovery\, 
 Earhart &amp\; Explorer<br>WHO: Any new families to USD 265</em></strong><
 /p><p style="text-align: left"><span>To assist new families and help welco
 me them to Goddard Public Schools\, the district is hosting two “Family 
 Tour Day" events.</span><strong><em> </em></strong><span>This rotating sch
 ool tour event brings new or prospective USD 265 families into schools to 
 get a better idea of what a "day in the life" of a Goddard student looks l
 ike. </span><a target="_blank" rel="noopener noreferrer nofollow" href="ht
 tps://forms.gle/q29hMfS2Xsf1XUfc7" relative-link=""><span><strong>CLICK HE
 RE</strong></span></a><span> to register yourself and/or any attending fam
 ily members. <strong><em>All members of your family participating in the F
 amily Tour MUST be pre-registered by the end of the day on Wednesday\, May
  27th\, 2026 in order to attend.&nbsp\; &nbsp\;</em></strong></span><br><b
 r>The June 2nd Family&nbsp\;Tour&nbsp\;Day schedule is as follows:</p><ul>
 <li><p style="text-align: left">Morning Sessions</p><ul><li><p style="text
 -align: left">Eisenhower High School (9th - 12th Grade)\, <strong>8:00 - 8
 :40 a.m.</strong></p><ul><li><p style="text-align: left">1230 S. 167th St.
  W. Goddard\, KS 67052</p><p style="text-align: left"></p></li></ul></li><
 li><p style="text-align: left">Goddard Middle School (7th &amp\; 8th Grade
 )\, <strong>9:00 - 9:40 a.m.</strong></p><ul><li><p style="text-align: lef
 t">2700 S. 199th St. W. Goddard\, KS 67052</p></li></ul></li><li><p style=
 "text-align: left">Discovery Intermediate School (5th &amp\; 6th Grade)\, 
 <strong>10:00 - 10:40 a.m.</strong></p><ul><li><p style="text-align: left"
 >301 S. Main St. Goddard\, KS 67052</p><p style="text-align: left"></p></l
 i></ul></li></ul></li><li><p style="text-align: left">Afternoon Sessions</
 p><ul><li><p style="text-align: left">Amelia Earhart Elementary School (K 
 - 4th Grade)\, <strong>1:00 - 1:40 p.m.</strong></p><ul><li><p style="text
 -align: left">19201 W. 23rd St. S. Goddard\, KS 67052</p></li></ul></li><l
 i><p style="text-align: left">Explorer Elementary School (K - 4th Grade)\,
  <strong>2:00 - 2:40 p.m.</strong></p><ul><li><p style="text-align: left">
 16746 W. Explorer St. Goddard\, KS 67052</p></li></ul></li></ul></li></ul>
LOCATION:1230 S 167th St W\, Goddard\, KS 67052\, USA
SUMMARY:Family Tour Day
END:VEVENT
BEGIN:VEVENT
DTSTAMP:20260421T150609Z
UID:52fc7581-3ec0-40f3-94cc-255da4bb6a13
DTSTART:20260728T160000
DTEND:20260728T190000
DESCRIPTION:<p>This community engagement event brings together Community\, 
 Academics &amp\; Traditions with the purpose of providing solutions and re
 sources to the families and staff of Goddard Public Schools.</p><p>TIME: 4
 :00 - 7:00 p.m.</p><p>DATE: Tuesday\, July 28th\, 2026</p><p>PLACE: Goddar
 d High School Gym</p><p>WHO: ALL Goddard Public Schools Students\, Familie
 s\, Staff\, and Community Organizations</p><p>Your family is sure to find 
 something for everyone with school and community resources\, enrollment as
 sistance\, school supply lists and donation drop-off\, activities and athl
 etics information\, job opportunities\, and so much more. Mark your calend
 ars so we can ROAR into the next school year together!</p><p><span>If you 
 are involved with a local youth organization\, community group\, business\
 , non-profit group\, or civic entity that provides services/products/progr
 ams&nbsp\;</span><strong><em>benefiting USD 265 families</em></strong><spa
 n>\, please complete the application below </span><strong><em>by/before 5:
 00 p.m. on FRIDAY\, JULY 17th\, 2026</em></strong><span><strong>.</strong>
 &nbsp\;Please contact Catherine Fluty (</span><a href="mailto:cfluty@godda
 rdusd.com" target="_blank" rel="noopener noreferrer nofollow" path-prefix=
 ""><span>cfluty@goddardusd.com</span></a><span>\, 316-794-4010) for guidan
 ce or any questions.&nbsp\;</span></p><p><a href="https://forms.gle/bL6kU3
 1cuPbZ56yN9" target="_blank" rel="noopener noreferrer nofollow" path-prefi
 x="">https://forms.gle/bL6kU31cuPbZ56yN9</a></p>
LOCATION:2500 S 199th St W\, Goddard\, KS 67052\, USA
SUMMARY:2026 C.A.T. Kickoff Rally
END:VEVENT
BEGIN:VEVENT
DTSTAMP:20260421T150609Z
UID:8babc82a-d843-4306-b1b8-6c756ff2f77f
DTSTART:20260730T100000
DTEND:20260730T130000
DESCRIPTION:<p><span>This will act as an "open house" style event specifica
 lly for NEW families\, and will include a principal introduction and welco
 me\, as well as open common spaces and hallways to explore your child(ren)
 's new school(s).</span></p>
LOCATION:
SUMMARY:New Family Welcome (Held at ALL Schools)
END:VEVENT
END:VCALENDAR
