BEGIN:VCALENDAR
VERSION:2.0
PRODID:icalendar-ruby
CALSCALE:GREGORIAN
BEGIN:VTIMEZONE
TZID:America/Los_Angeles
BEGIN:DAYLIGHT
DTSTART:20260308T030000
TZOFFSETFROM:-0800
TZOFFSETTO:-0700
RRULE:FREQ=YEARLY;BYDAY=2SU;BYMONTH=3
TZNAME:PDT
END:DAYLIGHT
BEGIN:STANDARD
DTSTART:20261101T010000
TZOFFSETFROM:-0700
TZOFFSETTO:-0800
RRULE:FREQ=YEARLY;BYDAY=1SU;BYMONTH=11
TZNAME:PST
END:STANDARD
END:VTIMEZONE
BEGIN:VEVENT
DTSTAMP:20260422T160528Z
UID:d364185d-37b6-42ae-8d79-e9e7e3df520a
DTSTART;VALUE=DATE:20260421
DTEND;VALUE=DATE:20260423
DESCRIPTION:
LOCATION:
SUMMARY:SBAC Testing
END:VEVENT
BEGIN:VEVENT
DTSTAMP:20260422T160528Z
UID:bd1a9706-88f4-498f-a3f1-32eea3019b0a
DTSTART:20260501T090000
DTEND:20260501T140000
DESCRIPTION:
LOCATION:
SUMMARY:Soccer Games
END:VEVENT
BEGIN:VEVENT
DTSTAMP:20260422T160528Z
UID:4d0f5aa0-7cbd-4e81-9f5e-31a3c2d78d22
DTSTART:20260507T170000
DTEND:20260507T190000
DESCRIPTION:<p>Community Carnival at Adobe</p>
LOCATION:
SUMMARY:Hawk's Mayhem 
END:VEVENT
BEGIN:VEVENT
DTSTAMP:20260422T160528Z
UID:030515ba-e397-45aa-b5b7-6d41200a449a
DTSTART:20260508T090000
DTEND:20260508T140000
DESCRIPTION:
LOCATION:
SUMMARY:Soccer Games
END:VEVENT
BEGIN:VEVENT
DTSTAMP:20260422T160528Z
UID:8b697d54-3932-4d59-b5ec-44867c2387f0
DTSTART;VALUE=DATE:20260511
DTEND;VALUE=DATE:20260515
DESCRIPTION:
LOCATION:
SUMMARY:Map Testing
END:VEVENT
BEGIN:VEVENT
DTSTAMP:20260422T160528Z
UID:4c3e22dd-54d0-4f09-a618-6cd7ecdf3ae3
DTSTART:20260515T090000
DTEND:20260515T140000
DESCRIPTION:
LOCATION:
SUMMARY:Soccer Games
END:VEVENT
BEGIN:VEVENT
DTSTAMP:20260422T160528Z
UID:29286bc4-d5c6-4432-8dfd-96ca90cf118c
DTSTART;VALUE=DATE:20260525
DTEND;VALUE=DATE:20260526
DESCRIPTION:
LOCATION:
SUMMARY:No School- Memorial Day
END:VEVENT
BEGIN:VEVENT
DTSTAMP:20260422T160528Z
UID:5a2625b7-5590-49f2-902f-80b5cbd2e6ce
DTSTART:20260529T073300
DTEND:20260529T132500
DESCRIPTION:
LOCATION:
SUMMARY:Last Day of School- Early Out
END:VEVENT
BEGIN:VEVENT
DTSTAMP:20260422T160528Z
UID:18cd516c-f819-4131-b9b0-efd314114e96
DTSTART:20260718T100000
DTEND:20260718T220000
DESCRIPTION:<p>For more information\, contact Bri Drake (775) 385-1264.</p>
LOCATION:Adobe Middle School Track
SUMMARY:Elko Relay For Life
END:VEVENT
END:VCALENDAR
