BEGIN:VCALENDAR
VERSION:2.0
PRODID:icalendar-ruby
CALSCALE:GREGORIAN
BEGIN:VTIMEZONE
TZID:America/Los_Angeles
BEGIN:DAYLIGHT
DTSTART:20260308T030000
TZOFFSETFROM:-0800
TZOFFSETTO:-0700
RRULE:FREQ=YEARLY;BYDAY=2SU;BYMONTH=3
TZNAME:PDT
END:DAYLIGHT
BEGIN:STANDARD
DTSTART:20261101T010000
TZOFFSETFROM:-0700
TZOFFSETTO:-0800
RRULE:FREQ=YEARLY;BYDAY=1SU;BYMONTH=11
TZNAME:PST
END:STANDARD
END:VTIMEZONE
BEGIN:VEVENT
DTSTAMP:20260419T124037Z
UID:06ea87c4-7256-4357-b288-b00d2be6f753
DTSTART:20260514T140000
DTEND:20260514T151500
DESCRIPTION:
LOCATION:Northside Elementary School\, 1645 Sewell Dr\, Elko\, NV 89801\, U
 SA
SUMMARY:COLOR RUN
END:VEVENT
BEGIN:VEVENT
DTSTAMP:20260419T124037Z
UID:267693b2-035c-46ce-8ad0-114a28752dae
DTSTART:20260526T100000
DTEND:20260526T123000
DESCRIPTION:
LOCATION:
SUMMARY:2nd grade Angel Park
END:VEVENT
END:VCALENDAR
