BEGIN:VCALENDAR
VERSION:2.0
PRODID:icalendar-ruby
CALSCALE:GREGORIAN
BEGIN:VTIMEZONE
TZID:America/Chicago
BEGIN:DAYLIGHT
DTSTART:20260308T030000
TZOFFSETFROM:-0600
TZOFFSETTO:-0500
RRULE:FREQ=YEARLY;BYDAY=2SU;BYMONTH=3
TZNAME:CDT
END:DAYLIGHT
BEGIN:STANDARD
DTSTART:20261101T010000
TZOFFSETFROM:-0500
TZOFFSETTO:-0600
RRULE:FREQ=YEARLY;BYDAY=1SU;BYMONTH=11
TZNAME:CST
END:STANDARD
END:VTIMEZONE
BEGIN:VEVENT
DTSTAMP:20260420T022402Z
UID:cdc8a89b-90fd-4cd0-a616-fff0cccaa06f
DTSTART:20260420T081000
DTEND:20260420T091000
DESCRIPTION:Visit https://monticellosages.org/main/event/scid/IL6185611793/
 eventid/80105239 for more information! 
LOCATION:
SUMMARY:B DAY
END:VEVENT
BEGIN:VEVENT
DTSTAMP:20260420T022402Z
UID:b8e0d678-763b-45bf-bb56-350c3ef272e2
DTSTART:20260421T081000
DTEND:20260421T091000
DESCRIPTION:Visit https://monticellosages.org/main/event/scid/IL6185611793/
 eventid/80105283 for more information! 
LOCATION:
SUMMARY:A DAY
END:VEVENT
BEGIN:VEVENT
DTSTAMP:20260420T022402Z
UID:8e4e9a3d-dc6f-4d50-9b06-08be03100a09
DTSTART:20260422T081000
DTEND:20260422T091000
DESCRIPTION:Visit https://monticellosages.org/main/event/scid/IL6185611793/
 eventid/80105240 for more information! 
LOCATION:
SUMMARY:B DAY
END:VEVENT
BEGIN:VEVENT
DTSTAMP:20260420T022402Z
UID:4ca2123a-b656-4d02-a6a7-6cff6730206e
DTSTART:20260423T081000
DTEND:20260423T091000
DESCRIPTION:Visit https://monticellosages.org/main/event/scid/IL6185611793/
 eventid/80105284 for more information! 
LOCATION:
SUMMARY:A DAY
END:VEVENT
BEGIN:VEVENT
DTSTAMP:20260420T022402Z
UID:9232fe30-b009-4437-ace0-a345a0e93726
DTSTART:20260424T000000
DTEND:20260424T010000
DESCRIPTION:Visit https://monticellosages.org/main/event/scid/IL6185611793/
 eventid/79975117 for more information! 
LOCATION:
SUMMARY:ISU Concert Band Festival (MMS/MHS)
END:VEVENT
BEGIN:VEVENT
DTSTAMP:20260420T022402Z
UID:f412c9e7-f577-4298-8fa4-159cc03a6ef3
DTSTART:20260424T081000
DTEND:20260424T091000
DESCRIPTION:Visit https://monticellosages.org/main/event/scid/IL6185611793/
 eventid/80105241 for more information! 
LOCATION:
SUMMARY:B DAY
END:VEVENT
BEGIN:VEVENT
DTSTAMP:20260420T022402Z
UID:e03c9423-84bb-435a-9f36-acf4cad39f88
DTSTART:20260427T000000
DTEND:20260427T010000
DESCRIPTION:Visit https://monticellosages.org/main/event/scid/IL6185611793/
 eventid/79975059 for more information! 
LOCATION:
SUMMARY:Washington Spring Book Fair
END:VEVENT
BEGIN:VEVENT
DTSTAMP:20260420T022402Z
UID:61dea517-d40d-4e35-81c4-945c9119fb9a
DTSTART:20260427T081000
DTEND:20260427T091000
DESCRIPTION:Visit https://monticellosages.org/main/event/scid/IL6185611793/
 eventid/80105285 for more information! 
LOCATION:
SUMMARY:A DAY
END:VEVENT
BEGIN:VEVENT
DTSTAMP:20260420T022402Z
UID:364deab3-e0d8-4ffd-b7a5-90a54c5b9f36
DTSTART:20260428T000000
DTEND:20260428T010000
DESCRIPTION:Visit https://monticellosages.org/main/event/scid/IL6185611793/
 eventid/80609370 for more information! 
LOCATION:
SUMMARY:Washington Spring Book Fair
END:VEVENT
BEGIN:VEVENT
DTSTAMP:20260420T022402Z
UID:a63a1626-740c-4953-8661-4acd15f7743d
DTSTART:20260428T081000
DTEND:20260428T091000
DESCRIPTION:Visit https://monticellosages.org/main/event/scid/IL6185611793/
 eventid/80105242 for more information! 
LOCATION:
SUMMARY:B DAY
END:VEVENT
BEGIN:VEVENT
DTSTAMP:20260420T022402Z
UID:ef9937c7-444a-475e-83a1-1cce244368b9
DTSTART:20260429T000000
DTEND:20260429T010000
DESCRIPTION:Visit https://monticellosages.org/main/event/scid/IL6185611793/
 eventid/80998339 for more information! 
LOCATION:
SUMMARY:Club Pictures
END:VEVENT
BEGIN:VEVENT
DTSTAMP:20260420T022402Z
UID:29b27c36-9dbd-4b31-a7d4-2e311a205518
DTSTART:20260429T000000
DTEND:20260429T010000
DESCRIPTION:Visit https://monticellosages.org/main/event/scid/IL6185611793/
 eventid/80609371 for more information! 
LOCATION:
SUMMARY:Washington Spring Book Fair
END:VEVENT
BEGIN:VEVENT
DTSTAMP:20260420T022402Z
UID:49a89b45-00e9-4bc8-8691-55961c48d9af
DTSTART:20260429T081000
DTEND:20260429T091000
DESCRIPTION:Visit https://monticellosages.org/main/event/scid/IL6185611793/
 eventid/80105286 for more information! 
LOCATION:
SUMMARY:A DAY
END:VEVENT
BEGIN:VEVENT
DTSTAMP:20260420T022402Z
UID:4b33d114-b3ec-400c-b219-8b41314eaefb
DTSTART:20260429T193000
DTEND:20260429T203000
DESCRIPTION:Visit https://monticellosages.org/main/event/scid/IL6185611793/
 eventid/79975069 for more information! 
LOCATION:1 Sage Dr Monticello\, IL 61856
SUMMARY:NHS Induction Ceremony
END:VEVENT
BEGIN:VEVENT
DTSTAMP:20260420T022402Z
UID:c8062a10-d418-4663-a242-ef686f437e6a
DTSTART:20260430T000000
DTEND:20260430T010000
DESCRIPTION:Visit https://monticellosages.org/main/event/scid/IL6185611793/
 eventid/80609372 for more information! 
LOCATION:
SUMMARY:Washington Spring Book Fair
END:VEVENT
BEGIN:VEVENT
DTSTAMP:20260420T022402Z
UID:88e716f9-c0f5-4885-9b0e-b104be28e896
DTSTART:20260430T081000
DTEND:20260430T091000
DESCRIPTION:Visit https://monticellosages.org/main/event/scid/IL6185611793/
 eventid/80105243 for more information! 
LOCATION:
SUMMARY:B DAY
END:VEVENT
BEGIN:VEVENT
DTSTAMP:20260420T022402Z
UID:7e103682-b02f-4aa8-a0cf-7cd9e3140c6c
DTSTART:20260430T173000
DTEND:20260430T183000
DESCRIPTION:Visit https://monticellosages.org/main/event/scid/IL6185611793/
 eventid/79975062 for more information! 
LOCATION:3 Sage Drive Monticello\, IL 61856
SUMMARY:Washington Open House
END:VEVENT
BEGIN:VEVENT
DTSTAMP:20260420T022402Z
UID:ec786447-4a0d-49ac-b119-c1985b6163f3
DTSTART:20260430T193000
DTEND:20260430T203000
DESCRIPTION:Visit https://monticellosages.org/main/event/scid/IL6185611793/
 eventid/79975142 for more information! 
LOCATION:
SUMMARY:MHS Band Concert
END:VEVENT
BEGIN:VEVENT
DTSTAMP:20260420T022402Z
UID:01191660-d75d-4680-87c6-ed2233093175
DTSTART:20260501T000000
DTEND:20260501T010000
DESCRIPTION:Visit https://monticellosages.org/main/event/scid/IL6185611793/
 eventid/80609373 for more information! 
LOCATION:
SUMMARY:Washington Spring Book Fair
END:VEVENT
BEGIN:VEVENT
DTSTAMP:20260420T022402Z
UID:ab19b2d9-b2d4-49d8-a851-d6711ae793db
DTSTART:20260501T081000
DTEND:20260501T091000
DESCRIPTION:Visit https://monticellosages.org/main/event/scid/IL6185611793/
 eventid/80105287 for more information! 
LOCATION:
SUMMARY:A DAY
END:VEVENT
BEGIN:VEVENT
DTSTAMP:20260420T022402Z
UID:db656036-ceb7-4b61-a6af-fd9a442e0304
DTSTART:20260501T081000
DTEND:20260501T091000
DESCRIPTION:Visit https://monticellosages.org/main/event/scid/IL6185611793/
 eventid/78588171 for more information! 
LOCATION:1 Sage Drive Monticello\, IL 61856
SUMMARY:FFA Ag Show (Small Wonders - 5th Grade)
END:VEVENT
BEGIN:VEVENT
DTSTAMP:20260420T022402Z
UID:a9516902-1269-43ea-ab29-2a44192c87ac
DTSTART:20260504T000000
DTEND:20260504T010000
DESCRIPTION:Visit https://monticellosages.org/main/event/scid/IL6185611793/
 eventid/80609374 for more information! 
LOCATION:
SUMMARY:Washington Spring Book Fair
END:VEVENT
BEGIN:VEVENT
DTSTAMP:20260420T022402Z
UID:19cbb718-f1c9-42de-a65b-3ca5871b094d
DTSTART:20260504T000000
DTEND:20260504T010000
DESCRIPTION:Visit https://monticellosages.org/main/event/scid/IL6185611793/
 eventid/79975167 for more information! 
LOCATION:
SUMMARY:White Heath Spring Book Fair
END:VEVENT
BEGIN:VEVENT
DTSTAMP:20260420T022402Z
UID:fd9b6f0a-969a-4863-841a-339a8c59ac82
DTSTART:20260504T081000
DTEND:20260504T091000
DESCRIPTION:Visit https://monticellosages.org/main/event/scid/IL6185611793/
 eventid/80105244 for more information! 
LOCATION:
SUMMARY:B DAY
END:VEVENT
BEGIN:VEVENT
DTSTAMP:20260420T022402Z
UID:7bb7ee94-e56a-4d51-a0cb-98e8054df280
DTSTART:20260504T173000
DTEND:20260504T183000
DESCRIPTION:Visit https://monticellosages.org/main/event/scid/IL6185611793/
 eventid/80165054 for more information! 
LOCATION:201 N. State Monticello\, IL 61856
SUMMARY:CEO Trade Show (5:30 - 7:30 p.m.)
END:VEVENT
BEGIN:VEVENT
DTSTAMP:20260420T022402Z
UID:425e9cdb-5aa2-4f63-aba3-377cd8f08e60
DTSTART:20260505T081000
DTEND:20260505T091000
DESCRIPTION:Visit https://monticellosages.org/main/event/scid/IL6185611793/
 eventid/80105288 for more information! 
LOCATION:
SUMMARY:A DAY
END:VEVENT
BEGIN:VEVENT
DTSTAMP:20260420T022402Z
UID:58c2f8bd-be1d-48b0-baa2-be1b27fb6feb
DTSTART:20260506T000000
DTEND:20260506T010000
DESCRIPTION:Visit https://monticellosages.org/main/event/scid/IL6185611793/
 eventid/79805137 for more information! 
LOCATION:
SUMMARY:Early Dismissal for School Improvement (WH 1:00pm) (MHS 1:05pm) (Wa
 sh 1:15pm) (MMS 1:20pm)
END:VEVENT
BEGIN:VEVENT
DTSTAMP:20260420T022402Z
UID:e91fffce-1638-4884-aece-130ce7aabeab
DTSTART:20260506T081000
DTEND:20260506T091000
DESCRIPTION:Visit https://monticellosages.org/main/event/scid/IL6185611793/
 eventid/80105245 for more information! 
LOCATION:
SUMMARY:B DAY
END:VEVENT
BEGIN:VEVENT
DTSTAMP:20260420T022402Z
UID:1867eda1-da1f-4331-97dd-844395460732
DTSTART:20260507T081000
DTEND:20260507T091000
DESCRIPTION:Visit https://monticellosages.org/main/event/scid/IL6185611793/
 eventid/80105289 for more information! 
LOCATION:
SUMMARY:A DAY
END:VEVENT
BEGIN:VEVENT
DTSTAMP:20260420T022402Z
UID:f94b5d9a-d699-495d-8e56-96e3eeb0224a
DTSTART:20260507T173000
DTEND:20260507T183000
DESCRIPTION:Visit https://monticellosages.org/main/event/scid/IL6185611793/
 eventid/79975170 for more information! 
LOCATION:Plum Street White Heath\, IL 61884
SUMMARY:White Heath Open House
END:VEVENT
BEGIN:VEVENT
DTSTAMP:20260420T022402Z
UID:85fa179a-b79d-47fa-afdd-7221814b7c6e
DTSTART:20260507T190000
DTEND:20260507T200000
DESCRIPTION:Visit https://monticellosages.org/main/event/scid/IL6185611793/
 eventid/79975380 for more information! 
LOCATION:
SUMMARY:Senior Honors Night
END:VEVENT
BEGIN:VEVENT
DTSTAMP:20260420T022402Z
UID:2517b80a-9449-4eef-a9b5-ebc5b7ea3606
DTSTART:20260508T000000
DTEND:20260508T010000
DESCRIPTION:Visit https://monticellosages.org/main/event/scid/IL6185611793/
 eventid/79975377 for more information! 
LOCATION:
SUMMARY:U of I Super State Band Festival (MHS)
END:VEVENT
BEGIN:VEVENT
DTSTAMP:20260420T022402Z
UID:77a95f17-599a-4435-903d-66a7485a3821
DTSTART:20260508T081000
DTEND:20260508T091000
DESCRIPTION:Visit https://monticellosages.org/main/event/scid/IL6185611793/
 eventid/80105246 for more information! 
LOCATION:
SUMMARY:B DAY
END:VEVENT
BEGIN:VEVENT
DTSTAMP:20260420T022402Z
UID:10b6d441-8d76-4922-ad0d-a831f7159866
DTSTART:20260511T081000
DTEND:20260511T091000
DESCRIPTION:Visit https://monticellosages.org/main/event/scid/IL6185611793/
 eventid/80105290 for more information! 
LOCATION:
SUMMARY:A DAY
END:VEVENT
BEGIN:VEVENT
DTSTAMP:20260420T022402Z
UID:aade1832-a3dc-4191-8b05-123fc00d9581
DTSTART:20260512T081000
DTEND:20260512T091000
DESCRIPTION:Visit https://monticellosages.org/main/event/scid/IL6185611793/
 eventid/80105247 for more information! 
LOCATION:
SUMMARY:B DAY
END:VEVENT
BEGIN:VEVENT
DTSTAMP:20260420T022402Z
UID:7785272e-eb4a-4e3b-a232-729a33f60e28
DTSTART:20260512T183000
DTEND:20260512T193000
DESCRIPTION:Visit https://monticellosages.org/main/event/scid/IL6185611793/
 eventid/79805183 for more information! 
LOCATION:
SUMMARY:Elementary PTO Meeting (Washington Cafeteria)
END:VEVENT
BEGIN:VEVENT
DTSTAMP:20260420T022402Z
UID:25d4ffad-9454-473c-a61e-d34aa013cefc
DTSTART:20260512T190000
DTEND:20260512T200000
DESCRIPTION:Visit https://monticellosages.org/main/event/scid/IL6185611793/
 eventid/79975364 for more information! 
LOCATION:
SUMMARY:MMS Band Concert
END:VEVENT
BEGIN:VEVENT
DTSTAMP:20260420T022402Z
UID:00ef8ca1-c4b5-4193-8184-2a87b829462c
DTSTART:20260513T081000
DTEND:20260513T091000
DESCRIPTION:Visit https://monticellosages.org/main/event/scid/IL6185611793/
 eventid/80105291 for more information! 
LOCATION:
SUMMARY:A DAY
END:VEVENT
BEGIN:VEVENT
DTSTAMP:20260420T022402Z
UID:545f0b61-c2a6-4052-bafb-8bc1f10ba00f
DTSTART:20260513T190000
DTEND:20260513T200000
DESCRIPTION:Visit https://monticellosages.org/main/event/scid/IL6185611793/
 eventid/79975358 for more information! 
LOCATION:
SUMMARY:5th Grade Band/Chorus Concert
END:VEVENT
BEGIN:VEVENT
DTSTAMP:20260420T022402Z
UID:0dba6350-5d92-407f-bd2f-4676297af4b1
DTSTART:20260514T081000
DTEND:20260514T091000
DESCRIPTION:Visit https://monticellosages.org/main/event/scid/IL6185611793/
 eventid/80105248 for more information! 
LOCATION:
SUMMARY:B DAY
END:VEVENT
BEGIN:VEVENT
DTSTAMP:20260420T022402Z
UID:c33d8907-e8ce-405f-bb9d-f2d13ebd2316
DTSTART:20260514T190000
DTEND:20260514T200000
DESCRIPTION:Visit https://monticellosages.org/main/event/scid/IL6185611793/
 eventid/79975355 for more information! 
LOCATION:
SUMMARY:MHS Choir Concert
END:VEVENT
BEGIN:VEVENT
DTSTAMP:20260420T022402Z
UID:a1d0fb2e-b377-4981-8376-0bfd6eb667a6
DTSTART:20260515T083000
DTEND:20260515T093000
DESCRIPTION:Visit https://monticellosages.org/main/event/scid/IL6185611793/
 eventid/79975373 for more information! 
LOCATION:
SUMMARY:MHS Academic Honors Assembly / Carnival Day
END:VEVENT
BEGIN:VEVENT
DTSTAMP:20260420T022402Z
UID:6f946355-0bc5-4e9e-8c0e-275d0d9fec6d
DTSTART:20260515T100000
DTEND:20260515T110000
DESCRIPTION:Visit https://monticellosages.org/main/event/scid/IL6185611793/
 eventid/79975374 for more information! 
LOCATION:
SUMMARY:HS Graduation Practice
END:VEVENT
BEGIN:VEVENT
DTSTAMP:20260420T022402Z
UID:aa14d98c-9fcc-4ca5-b533-216fb078b6c2
DTSTART:20260515T133000
DTEND:20260515T143000
DESCRIPTION:Visit https://monticellosages.org/main/event/scid/IL6185611793/
 eventid/79975375 for more information! 
LOCATION:
SUMMARY:3rd Grade Talent Show
END:VEVENT
BEGIN:VEVENT
DTSTAMP:20260420T022402Z
UID:cd196665-f799-49fe-b96b-fa8c118772fa
DTSTART:20260517T140000
DTEND:20260517T150000
DESCRIPTION:Visit https://monticellosages.org/main/event/scid/IL6185611793/
 eventid/79975371 for more information! 
LOCATION:
SUMMARY:HS Graduation
END:VEVENT
BEGIN:VEVENT
DTSTAMP:20260420T022402Z
UID:c29b1e1a-8ce8-44df-b8ca-eb6a99fa1229
DTSTART:20260518T081000
DTEND:20260518T091000
DESCRIPTION:Visit https://monticellosages.org/main/event/scid/IL6185611793/
 eventid/80105292 for more information! 
LOCATION:
SUMMARY:A DAY
END:VEVENT
BEGIN:VEVENT
DTSTAMP:20260420T022402Z
UID:db9f2618-f762-4cd9-b199-773bf4d7ba3f
DTSTART:20260519T081000
DTEND:20260519T091000
DESCRIPTION:Visit https://monticellosages.org/main/event/scid/IL6185611793/
 eventid/80105249 for more information! 
LOCATION:
SUMMARY:B DAY
END:VEVENT
BEGIN:VEVENT
DTSTAMP:20260420T022402Z
UID:cb7b582b-cc95-4f43-934f-1bab0f7f13fc
DTSTART:20260519T190000
DTEND:20260519T200000
DESCRIPTION:Visit https://monticellosages.org/main/event/scid/IL6185611793/
 eventid/79975352 for more information! 
LOCATION:
SUMMARY:MMS Choir Concert
END:VEVENT
BEGIN:VEVENT
DTSTAMP:20260420T022402Z
UID:f85e6fdc-8066-4851-827e-879a937a0a41
DTSTART:20260520T081000
DTEND:20260520T091000
DESCRIPTION:Visit https://monticellosages.org/main/event/scid/IL6185611793/
 eventid/79975285 for more information! 
LOCATION:
SUMMARY:MHS Final Exams (A1\, A2\, A3)
END:VEVENT
BEGIN:VEVENT
DTSTAMP:20260420T022402Z
UID:987f143e-4e33-4105-ab0c-426270af59a2
DTSTART:20260520T190000
DTEND:20260520T200000
DESCRIPTION:Visit https://monticellosages.org/main/event/scid/IL6185611793/
 eventid/79804924 for more information! 
LOCATION:1 Sage Drive Monticello\, IL 61856
SUMMARY:BOE Meeting
END:VEVENT
BEGIN:VEVENT
DTSTAMP:20260420T022402Z
UID:ceef1479-f980-4d58-96b4-56941f67b9cc
DTSTART:20260521T081000
DTEND:20260521T091000
DESCRIPTION:Visit https://monticellosages.org/main/event/scid/IL6185611793/
 eventid/79975290 for more information! 
LOCATION:
SUMMARY:MHS Final Exams (A4\, B1\, B2)
END:VEVENT
BEGIN:VEVENT
DTSTAMP:20260420T022402Z
UID:2c514f59-d040-40ff-86c5-0483145d2286
DTSTART:20260521T133000
DTEND:20260521T143000
DESCRIPTION:Visit https://monticellosages.org/main/event/scid/IL6185611793/
 eventid/79975257 for more information! 
LOCATION:2015 E Washington Monticello\, IL 61856
SUMMARY:8th Grade Celebration of Excellence
END:VEVENT
BEGIN:VEVENT
DTSTAMP:20260420T022402Z
UID:520e01c4-d629-485a-856a-5f28cc6e793d
DTSTART:20260522T000000
DTEND:20260522T010000
DESCRIPTION:Visit https://monticellosages.org/main/event/scid/IL6185611793/
 eventid/79905851 for more information! 
LOCATION:
SUMMARY:End of 2nd Semester/4th Quarter (MHS & MMS)
END:VEVENT
BEGIN:VEVENT
DTSTAMP:20260420T022402Z
UID:fb5ae190-f64e-4c06-8d14-f97e91e15ed8
DTSTART:20260522T000000
DTEND:20260522T010000
DESCRIPTION:Visit https://monticellosages.org/main/event/scid/IL6185611793/
 eventid/79975180 for more information! 
LOCATION:
SUMMARY:Last Day of Student Attendance with no Emergency Days
END:VEVENT
BEGIN:VEVENT
DTSTAMP:20260420T022402Z
UID:67fa17e4-ff4d-497f-8eee-11e2b1039438
DTSTART:20260522T000000
DTEND:20260522T010000
DESCRIPTION:Visit https://monticellosages.org/main/event/scid/IL6185611793/
 eventid/79975190 for more information! 
LOCATION:
SUMMARY:Washington / WH End of 3rd Trimester
END:VEVENT
BEGIN:VEVENT
DTSTAMP:20260420T022402Z
UID:f3d06cf7-0454-49e1-acc3-bf8df0a6791e
DTSTART:20260522T081000
DTEND:20260522T091000
DESCRIPTION:Visit https://monticellosages.org/main/event/scid/IL6185611793/
 eventid/79975293 for more information! 
LOCATION:
SUMMARY:MHS Final Exams (B3\, B4)
END:VEVENT
BEGIN:VEVENT
DTSTAMP:20260420T022402Z
UID:0ca49992-179c-41d6-9efe-f28196445f39
DTSTART:20260525T000000
DTEND:20260525T010000
DESCRIPTION:Visit https://monticellosages.org/main/event/scid/IL6185611793/
 eventid/79975173 for more information! 
LOCATION:
SUMMARY:No School - Memorial Day
END:VEVENT
BEGIN:VEVENT
DTSTAMP:20260420T022402Z
UID:42e9d9e6-ccc2-4746-a068-8d95a219bdfd
DTSTART:20260526T000000
DTEND:20260526T010000
DESCRIPTION:Visit https://monticellosages.org/main/event/scid/IL6185611793/
 eventid/79905870 for more information! 
LOCATION:
SUMMARY:Emergency Day 1
END:VEVENT
BEGIN:VEVENT
DTSTAMP:20260420T022402Z
UID:6cd13927-e912-4bcc-a4f9-833b9fa893d8
DTSTART:20260527T000000
DTEND:20260527T010000
DESCRIPTION:Visit https://monticellosages.org/main/event/scid/IL6185611793/
 eventid/79905871 for more information! 
LOCATION:
SUMMARY:Emergency Day 2
END:VEVENT
BEGIN:VEVENT
DTSTAMP:20260420T022402Z
UID:fb460ca4-ce9b-49dd-b454-0ab21c1d2460
DTSTART:20260528T000000
DTEND:20260528T010000
DESCRIPTION:Visit https://monticellosages.org/main/event/scid/IL6185611793/
 eventid/79905872 for more information! 
LOCATION:
SUMMARY:Emergency Day 3
END:VEVENT
BEGIN:VEVENT
DTSTAMP:20260420T022402Z
UID:c256e34b-fc3d-4261-a3e2-d858a187d8da
DTSTART:20260529T000000
DTEND:20260529T010000
DESCRIPTION:Visit https://monticellosages.org/main/event/scid/IL6185611793/
 eventid/79905873 for more information! 
LOCATION:
SUMMARY:Emergency Day 4
END:VEVENT
BEGIN:VEVENT
DTSTAMP:20260420T022402Z
UID:e02ab6b7-6288-43ac-a58b-0ee4c8c2edb3
DTSTART:20260601T000000
DTEND:20260601T010000
DESCRIPTION:Visit https://monticellosages.org/main/event/scid/IL6185611793/
 eventid/79905874 for more information! 
LOCATION:
SUMMARY:Emergency Day 5
END:VEVENT
BEGIN:VEVENT
DTSTAMP:20260420T022402Z
UID:fd4bcc46-5acc-4b05-969e-d47b4fe1661a
DTSTART:20260615T000000
DTEND:20260615T010000
DESCRIPTION:Visit https://monticellosages.org/main/event/scid/IL6185611793/
 eventid/80411379 for more information! 
LOCATION:
SUMMARY:Showstoppers 2026
END:VEVENT
BEGIN:VEVENT
DTSTAMP:20260420T022402Z
UID:9b25b6fb-b6df-456c-a733-75f1c42eee4e
DTSTART:20260616T000000
DTEND:20260616T010000
DESCRIPTION:Visit https://monticellosages.org/main/event/scid/IL6185611793/
 eventid/80411380 for more information! 
LOCATION:
SUMMARY:Showstoppers 2026
END:VEVENT
BEGIN:VEVENT
DTSTAMP:20260420T022402Z
UID:c1ec5f5e-424f-4f2f-85cf-8d93ae5ad3d3
DTSTART:20260617T000000
DTEND:20260617T010000
DESCRIPTION:Visit https://monticellosages.org/main/event/scid/IL6185611793/
 eventid/80411381 for more information! 
LOCATION:
SUMMARY:Showstoppers 2026
END:VEVENT
BEGIN:VEVENT
DTSTAMP:20260420T022402Z
UID:687fcd05-3920-4ec2-996b-fa6f1262f184
DTSTART:20260617T190000
DTEND:20260617T200000
DESCRIPTION:Visit https://monticellosages.org/main/event/scid/IL6185611793/
 eventid/79804925 for more information! 
LOCATION:1 Sage Drive Monticello\, IL 61856
SUMMARY:BOE Meeting
END:VEVENT
BEGIN:VEVENT
DTSTAMP:20260420T022402Z
UID:b60ae89a-fc3a-4e3f-b945-9954a98f304c
DTSTART:20260618T000000
DTEND:20260618T010000
DESCRIPTION:Visit https://monticellosages.org/main/event/scid/IL6185611793/
 eventid/80411382 for more information! 
LOCATION:
SUMMARY:Showstoppers 2026
END:VEVENT
BEGIN:VEVENT
DTSTAMP:20260420T022402Z
UID:2fa91010-7234-4d92-acb0-573396d8e80b
DTSTART:20260619T000000
DTEND:20260619T010000
DESCRIPTION:Visit https://monticellosages.org/main/event/scid/IL6185611793/
 eventid/80411383 for more information! 
LOCATION:
SUMMARY:Showstoppers 2026
END:VEVENT
END:VCALENDAR
