BEGIN:VCALENDAR
VERSION:2.0
PRODID:icalendar-ruby
CALSCALE:GREGORIAN
BEGIN:VTIMEZONE
TZID:America/New_York
BEGIN:DAYLIGHT
DTSTART:20260308T030000
TZOFFSETFROM:-0500
TZOFFSETTO:-0400
RRULE:FREQ=YEARLY;BYDAY=2SU;BYMONTH=3
TZNAME:EDT
END:DAYLIGHT
BEGIN:STANDARD
DTSTART:20261101T010000
TZOFFSETFROM:-0400
TZOFFSETTO:-0500
RRULE:FREQ=YEARLY;BYDAY=1SU;BYMONTH=11
TZNAME:EST
END:STANDARD
END:VTIMEZONE
BEGIN:VEVENT
DTSTAMP:20260423T184749Z
UID:7c6cfc80-e014-48ed-a01c-44375a126f40
DTSTART;VALUE=DATE:20260420
DTEND;VALUE=DATE:20260425
DESCRIPTION:
LOCATION:
SUMMARY:No School-April Break
END:VEVENT
BEGIN:VEVENT
DTSTAMP:20260423T184749Z
UID:f52dc19f-bdd1-48c1-9e4d-7a40782d5e28
DTSTART:20260507T121000
DTEND:20260507T121000
DESCRIPTION:
LOCATION:
SUMMARY:Early Release - Teacher Professional Development
END:VEVENT
BEGIN:VEVENT
DTSTAMP:20260423T184749Z
UID:eb423a1d-bc30-410f-bd19-fd43c0c27974
DTSTART:20260511T160000
DTEND:20260511T170000
DESCRIPTION:
LOCATION:
SUMMARY:Chandler School Council
END:VEVENT
BEGIN:VEVENT
DTSTAMP:20260423T184749Z
UID:cecd48b5-9e7b-4ad8-9625-992907a0f697
DTSTART:20260521T093000
DTEND:20260521T113000
DESCRIPTION:
LOCATION:
SUMMARY:Chandler PTA Meeting
END:VEVENT
BEGIN:VEVENT
DTSTAMP:20260423T184749Z
UID:fabb69f9-1d97-42e6-9b5c-2c23b1095698
DTSTART;VALUE=DATE:20260525
DTEND;VALUE=DATE:20260526
DESCRIPTION:
LOCATION:
SUMMARY:No School-Memorial Day
END:VEVENT
BEGIN:VEVENT
DTSTAMP:20260423T184749Z
UID:7edc0794-54a0-4030-ae9d-58a256fa8fe6
DTSTART:20260528T121000
DTEND:20260528T121000
DESCRIPTION:
LOCATION:
SUMMARY:Early Release - Teacher Professional Development
END:VEVENT
BEGIN:VEVENT
DTSTAMP:20260423T184749Z
UID:8d4c1713-8627-45bc-93f2-c3a9882dd008
DTSTART:20260604T163000
DTEND:20260604T173000
DESCRIPTION:
LOCATION:
SUMMARY:Incoming Kindergarten Scavenger Hunt
END:VEVENT
BEGIN:VEVENT
DTSTAMP:20260423T184749Z
UID:bf90b2eb-0c61-43b8-8313-d7281f249a31
DTSTART;VALUE=DATE:20260619
DTEND;VALUE=DATE:20260620
DESCRIPTION:
LOCATION:
SUMMARY:No School-Juneteenth
END:VEVENT
BEGIN:VEVENT
DTSTAMP:20260423T184749Z
UID:52fb1cd9-e8d3-42f0-a561-456a0db47244
DTSTART;VALUE=DATE:20260623
DTEND;VALUE=DATE:20260624
DESCRIPTION:
LOCATION:
SUMMARY:Last Day of School - Early Release
END:VEVENT
BEGIN:VEVENT
DTSTAMP:20260423T184749Z
UID:22cf5ab6-331b-4e16-bb78-b293e6c03167
DTSTART;VALUE=DATE:20260623
DTEND;VALUE=DATE:20260624
DESCRIPTION:
LOCATION:
SUMMARY:Report Cards Posted To Aspen
END:VEVENT
BEGIN:VEVENT
DTSTAMP:20260423T184749Z
UID:3105bbb9-c73a-470d-9f72-c9380f868d2f
DTSTART;VALUE=DATE:20260623
DTEND;VALUE=DATE:20260624
DESCRIPTION:
LOCATION:
SUMMARY:Term Two Ends
END:VEVENT
END:VCALENDAR
