BEGIN:VCALENDAR
VERSION:2.0
PRODID:icalendar-ruby
CALSCALE:GREGORIAN
BEGIN:VTIMEZONE
TZID:America/New_York
BEGIN:DAYLIGHT
DTSTART:20260308T030000
TZOFFSETFROM:-0500
TZOFFSETTO:-0400
RRULE:FREQ=YEARLY;BYDAY=2SU;BYMONTH=3
TZNAME:EDT
END:DAYLIGHT
BEGIN:STANDARD
DTSTART:20261101T010000
TZOFFSETFROM:-0400
TZOFFSETTO:-0500
RRULE:FREQ=YEARLY;BYDAY=1SU;BYMONTH=11
TZNAME:EST
END:STANDARD
END:VTIMEZONE
BEGIN:VEVENT
DTSTAMP:20260423T111215Z
UID:07bb82ce-16e1-4ac6-9b76-8535d50ef4d2
DTSTART;VALUE=DATE:20260420
DTEND;VALUE=DATE:20260425
DESCRIPTION:
LOCATION:
SUMMARY:No School - April Break
END:VEVENT
BEGIN:VEVENT
DTSTAMP:20260423T111215Z
UID:5809f13b-13be-4a94-9e92-3c911fd03b52
DTSTART;VALUE=DATE:20260502
DTEND;VALUE=DATE:20260503
DESCRIPTION:
LOCATION:
SUMMARY:Alden/Chandler @ Fenway 
END:VEVENT
BEGIN:VEVENT
DTSTAMP:20260423T111215Z
UID:6119000e-f969-46e1-b52e-5ab5bec6d305
DTSTART:20260502T090000
DTEND:20260502T110000
DESCRIPTION:
LOCATION:Alden Outdoor Classroom 
SUMMARY:Alden Outdoor Classroom Clean Up 
END:VEVENT
BEGIN:VEVENT
DTSTAMP:20260423T111215Z
UID:f3dd3ca4-c2f4-4de9-8106-8389673c0a64
DTSTART:20260506T180000
DTEND:20260506T200000
DESCRIPTION:
LOCATION:
SUMMARY:School Committee
END:VEVENT
BEGIN:VEVENT
DTSTAMP:20260423T111215Z
UID:ac0aa11f-40c0-44e7-ab0c-818789338e47
DTSTART;VALUE=DATE:20260507
DTEND;VALUE=DATE:20260508
DESCRIPTION:
LOCATION:
SUMMARY:Bike to School Day 
END:VEVENT
BEGIN:VEVENT
DTSTAMP:20260423T111215Z
UID:5a88bd85-dac1-4423-9e41-55cd54e48d6d
DTSTART;VALUE=DATE:20260507
DTEND;VALUE=DATE:20260508
DESCRIPTION:
LOCATION:
SUMMARY:Early Release Day
END:VEVENT
BEGIN:VEVENT
DTSTAMP:20260423T111215Z
UID:2b6fc5a2-42a1-4055-8dd4-0171b67111a1
DTSTART:20260520T180000
DTEND:20260520T200000
DESCRIPTION:
LOCATION:
SUMMARY:School Committee
END:VEVENT
BEGIN:VEVENT
DTSTAMP:20260423T111215Z
UID:2663fa37-a020-42aa-bd4f-569a4eb1ac3d
DTSTART;VALUE=DATE:20260525
DTEND;VALUE=DATE:20260526
DESCRIPTION:
LOCATION:
SUMMARY:No School - Memorial Day
END:VEVENT
BEGIN:VEVENT
DTSTAMP:20260423T111215Z
UID:c600d585-a472-4eb2-8c66-ff4e0504935e
DTSTART;VALUE=DATE:20260528
DTEND;VALUE=DATE:20260529
DESCRIPTION:
LOCATION:
SUMMARY:Early Release Day
END:VEVENT
BEGIN:VEVENT
DTSTAMP:20260423T111215Z
UID:afb20b59-f8c8-45e5-950b-c813f1864733
DTSTART:20260602T190000
DTEND:20260602T200000
DESCRIPTION:
LOCATION:Duxbury Performing Arts Center\, 73 Alden St\, Duxbury\, MA 02332\
 , USA
SUMMARY:Alden Concert
END:VEVENT
BEGIN:VEVENT
DTSTAMP:20260423T111215Z
UID:5f7b6033-7dd6-413e-bc2f-7e89be06bf3e
DTSTART:20260610T180000
DTEND:20260610T200000
DESCRIPTION:
LOCATION:
SUMMARY:School Committee
END:VEVENT
END:VCALENDAR
