BEGIN:VCALENDAR
VERSION:2.0
PRODID:icalendar-ruby
CALSCALE:GREGORIAN
BEGIN:VTIMEZONE
TZID:America/New_York
BEGIN:DAYLIGHT
DTSTART:20260308T030000
TZOFFSETFROM:-0500
TZOFFSETTO:-0400
RRULE:FREQ=YEARLY;BYDAY=2SU;BYMONTH=3
TZNAME:EDT
END:DAYLIGHT
BEGIN:STANDARD
DTSTART:20261101T010000
TZOFFSETFROM:-0400
TZOFFSETTO:-0500
RRULE:FREQ=YEARLY;BYDAY=1SU;BYMONTH=11
TZNAME:EST
END:STANDARD
END:VTIMEZONE
BEGIN:VEVENT
DTSTAMP:20260423T233217Z
UID:f284e1b9-380a-4eba-b9c7-9526f8dfed75
DTSTART;VALUE=DATE:20260420
DTEND;VALUE=DATE:20260425
DESCRIPTION:
LOCATION:
SUMMARY:No School-April Break
END:VEVENT
BEGIN:VEVENT
DTSTAMP:20260423T233217Z
UID:82cf3b9d-53f8-4613-87ae-8b012eaeaadc
DTSTART;VALUE=DATE:20260427
DTEND;VALUE=DATE:20260428
DESCRIPTION:
LOCATION:
SUMMARY:Day 7 (34567)
END:VEVENT
BEGIN:VEVENT
DTSTAMP:20260423T233217Z
UID:2afe1967-dc58-427c-b18f-b20867000b08
DTSTART;VALUE=DATE:20260428
DTEND;VALUE=DATE:20260429
DESCRIPTION:
LOCATION:
SUMMARY:Day 8 (12345)
END:VEVENT
BEGIN:VEVENT
DTSTAMP:20260423T233217Z
UID:85fccd44-3e9e-436a-bf68-64c4fc6f19c6
DTSTART;VALUE=DATE:20260429
DTEND;VALUE=DATE:20260430
DESCRIPTION:
LOCATION:
SUMMARY:Day 9 (67123)
END:VEVENT
BEGIN:VEVENT
DTSTAMP:20260423T233217Z
UID:f9f69687-9a1c-4efb-90fc-bb3885b82082
DTSTART;VALUE=DATE:20260430
DTEND;VALUE=DATE:20260501
DESCRIPTION:
LOCATION:
SUMMARY:Day 10 (45671)
END:VEVENT
BEGIN:VEVENT
DTSTAMP:20260423T233217Z
UID:ad145666-b8f3-4823-8d38-f3d3a9e421e6
DTSTART;VALUE=DATE:20260501
DTEND;VALUE=DATE:20260502
DESCRIPTION:
LOCATION:
SUMMARY:Day 11 (23456)
END:VEVENT
BEGIN:VEVENT
DTSTAMP:20260423T233217Z
UID:d4547aba-0cea-453b-ae8f-a2a24e931613
DTSTART;VALUE=DATE:20260504
DTEND;VALUE=DATE:20260505
DESCRIPTION:
LOCATION:
SUMMARY:Day 12 (71234)
END:VEVENT
BEGIN:VEVENT
DTSTAMP:20260423T233217Z
UID:9c37da84-078d-490f-bced-baca9b86fef8
DTSTART;VALUE=DATE:20260505
DTEND;VALUE=DATE:20260506
DESCRIPTION:
LOCATION:
SUMMARY:Day 13 (56712)
END:VEVENT
BEGIN:VEVENT
DTSTAMP:20260423T233217Z
UID:458fff6b-4c13-462a-913c-69e15630d164
DTSTART;VALUE=DATE:20260506
DTEND;VALUE=DATE:20260507
DESCRIPTION:
LOCATION:
SUMMARY:Day 14 (34567)
END:VEVENT
BEGIN:VEVENT
DTSTAMP:20260423T233217Z
UID:dc0632c6-c80b-44cd-b565-3567020f88fd
DTSTART;VALUE=DATE:20260507
DTEND;VALUE=DATE:20260508
DESCRIPTION:
LOCATION:
SUMMARY:Day 1 (12345)
END:VEVENT
BEGIN:VEVENT
DTSTAMP:20260423T233217Z
UID:c5faafd4-9352-4e11-b994-99f413818b3a
DTSTART;VALUE=DATE:20260508
DTEND;VALUE=DATE:20260509
DESCRIPTION:
LOCATION:
SUMMARY:Day 2 (67123)
END:VEVENT
BEGIN:VEVENT
DTSTAMP:20260423T233217Z
UID:5fd16248-190e-42a2-b557-9071bd7f7a10
DTSTART;VALUE=DATE:20260511
DTEND;VALUE=DATE:20260512
DESCRIPTION:
LOCATION:
SUMMARY:Day 3 (45671)
END:VEVENT
BEGIN:VEVENT
DTSTAMP:20260423T233217Z
UID:34d97732-957f-432c-be04-35160b9aabb1
DTSTART;VALUE=DATE:20260512
DTEND;VALUE=DATE:20260513
DESCRIPTION:
LOCATION:
SUMMARY:Day 4 (23456)
END:VEVENT
BEGIN:VEVENT
DTSTAMP:20260423T233217Z
UID:3f9b98a2-e3f4-4377-a332-0cd3e22a6947
DTSTART:20260512T190000
DTEND:20260512T200000
DESCRIPTION:
LOCATION:Duxbury Performing Arts Center\, 73 Alden St\, Duxbury\, MA 02332\
 , USA
SUMMARY:7th & 8th Bands Concert
END:VEVENT
BEGIN:VEVENT
DTSTAMP:20260423T233217Z
UID:f1ce39be-7073-4157-b70c-d5a4a7c1e5c9
DTSTART;VALUE=DATE:20260513
DTEND;VALUE=DATE:20260514
DESCRIPTION:
LOCATION:
SUMMARY:Day 5 (71234)
END:VEVENT
BEGIN:VEVENT
DTSTAMP:20260423T233217Z
UID:ca130d01-932f-4f87-a9ea-4512ed315704
DTSTART;VALUE=DATE:20260514
DTEND;VALUE=DATE:20260515
DESCRIPTION:
LOCATION:
SUMMARY:Day 6 (56712)
END:VEVENT
BEGIN:VEVENT
DTSTAMP:20260423T233217Z
UID:785ab9b3-faca-4600-8575-a06033805e35
DTSTART:20260514T150000
DTEND:20260514T160000
DESCRIPTION:
LOCATION:
SUMMARY:DMS School Council
END:VEVENT
BEGIN:VEVENT
DTSTAMP:20260423T233217Z
UID:85389f30-2e76-4324-8ee2-af0c110e8f9b
DTSTART:20260514T190000
DTEND:20260514T210000
DESCRIPTION:
LOCATION:
SUMMARY:DMS Musical
END:VEVENT
BEGIN:VEVENT
DTSTAMP:20260423T233217Z
UID:9b493529-5498-486f-9252-577ecfa190ec
DTSTART;VALUE=DATE:20260515
DTEND;VALUE=DATE:20260516
DESCRIPTION:
LOCATION:
SUMMARY:Day 7 (34567)
END:VEVENT
BEGIN:VEVENT
DTSTAMP:20260423T233217Z
UID:eb3b8fd1-5d4f-4e54-a253-503c5cbd7e4d
DTSTART:20260515T190000
DTEND:20260515T210000
DESCRIPTION:
LOCATION:
SUMMARY:DMS 8th Grade Semi
END:VEVENT
BEGIN:VEVENT
DTSTAMP:20260423T233217Z
UID:6bdd3508-1e90-4f59-b74f-d0b6463d4575
DTSTART:20260516T190000
DTEND:20260516T210000
DESCRIPTION:
LOCATION:
SUMMARY:DMS Musical
END:VEVENT
BEGIN:VEVENT
DTSTAMP:20260423T233217Z
UID:3d570b13-edae-4a5c-a252-f8979f448b8c
DTSTART:20260517T130000
DTEND:20260517T150000
DESCRIPTION:
LOCATION:
SUMMARY:DMS Musical
END:VEVENT
BEGIN:VEVENT
DTSTAMP:20260423T233217Z
UID:2d267b11-b02a-4bd8-95cd-7fc884542f1e
DTSTART;VALUE=DATE:20260518
DTEND;VALUE=DATE:20260519
DESCRIPTION:
LOCATION:
SUMMARY:Day 8 (12345)
END:VEVENT
BEGIN:VEVENT
DTSTAMP:20260423T233217Z
UID:3356ecc8-4208-4783-a1c3-084f8ddc6637
DTSTART;VALUE=DATE:20260519
DTEND;VALUE=DATE:20260520
DESCRIPTION:
LOCATION:
SUMMARY:Day 9 (67123)
END:VEVENT
BEGIN:VEVENT
DTSTAMP:20260423T233217Z
UID:12128d7d-d114-4ca2-92b1-4127eb2037dd
DTSTART:20260519T190000
DTEND:20260519T200000
DESCRIPTION:
LOCATION:
SUMMARY:7th & 8th Chorus and Orchestra 
END:VEVENT
BEGIN:VEVENT
DTSTAMP:20260423T233217Z
UID:a12b6a26-0929-4e4a-b793-f0deb0466299
DTSTART;VALUE=DATE:20260520
DTEND;VALUE=DATE:20260521
DESCRIPTION:
LOCATION:
SUMMARY:Day 10 (45671)
END:VEVENT
BEGIN:VEVENT
DTSTAMP:20260423T233217Z
UID:b12d737c-14a4-423e-86c7-440f12c73b62
DTSTART;VALUE=DATE:20260521
DTEND;VALUE=DATE:20260522
DESCRIPTION:
LOCATION:
SUMMARY:Day 11 (23456)
END:VEVENT
BEGIN:VEVENT
DTSTAMP:20260423T233217Z
UID:c491963d-0c7d-416a-b6b4-b602a147ab82
DTSTART:20260521T190000
DTEND:20260521T200000
DESCRIPTION:
LOCATION:
SUMMARY:6th Grade Concert
END:VEVENT
BEGIN:VEVENT
DTSTAMP:20260423T233217Z
UID:9bc242a9-3d45-404a-a708-89b2a16aa72b
DTSTART;VALUE=DATE:20260522
DTEND;VALUE=DATE:20260523
DESCRIPTION:
LOCATION:
SUMMARY:Day 12 (71234)
END:VEVENT
BEGIN:VEVENT
DTSTAMP:20260423T233217Z
UID:fb2eb3ea-74bb-42a1-b18c-e43d227d87d7
DTSTART;VALUE=DATE:20260525
DTEND;VALUE=DATE:20260526
DESCRIPTION:
LOCATION:
SUMMARY:No School-Memorial Day
END:VEVENT
BEGIN:VEVENT
DTSTAMP:20260423T233217Z
UID:5f037331-381b-42e9-a840-04e4d3de9cae
DTSTART;VALUE=DATE:20260526
DTEND;VALUE=DATE:20260527
DESCRIPTION:
LOCATION:
SUMMARY:Day 13 (56712)
END:VEVENT
BEGIN:VEVENT
DTSTAMP:20260423T233217Z
UID:33d3d6d2-759a-443d-9f74-384ca9ddded0
DTSTART;VALUE=DATE:20260527
DTEND;VALUE=DATE:20260528
DESCRIPTION:
LOCATION:
SUMMARY:Day 14 (34567)
END:VEVENT
BEGIN:VEVENT
DTSTAMP:20260423T233217Z
UID:e40f48c2-310d-413a-9621-31446269dc1c
DTSTART;VALUE=DATE:20260528
DTEND;VALUE=DATE:20260529
DESCRIPTION:
LOCATION:
SUMMARY:Day 1 (12345)
END:VEVENT
BEGIN:VEVENT
DTSTAMP:20260423T233217Z
UID:9f999c31-8184-4471-8575-e15989618459
DTSTART;VALUE=DATE:20260528
DTEND;VALUE=DATE:20260529
DESCRIPTION:
LOCATION:
SUMMARY:Early Release- Teacher PD
END:VEVENT
BEGIN:VEVENT
DTSTAMP:20260423T233217Z
UID:b5fddefd-63ab-406c-bff9-3e85b162d598
DTSTART;VALUE=DATE:20260529
DTEND;VALUE=DATE:20260530
DESCRIPTION:
LOCATION:
SUMMARY:Day 2 (67123)
END:VEVENT
BEGIN:VEVENT
DTSTAMP:20260423T233217Z
UID:df4185a9-4e5b-40ee-afbf-7f986e87d774
DTSTART;VALUE=DATE:20260601
DTEND;VALUE=DATE:20260602
DESCRIPTION:
LOCATION:
SUMMARY:Day 3 (45671)
END:VEVENT
BEGIN:VEVENT
DTSTAMP:20260423T233217Z
UID:26536f63-65dd-4495-b515-6517132ed174
DTSTART;VALUE=DATE:20260602
DTEND;VALUE=DATE:20260603
DESCRIPTION:
LOCATION:
SUMMARY:Day 4 (23456)
END:VEVENT
BEGIN:VEVENT
DTSTAMP:20260423T233217Z
UID:5e9ff6f6-b089-4f3e-bf43-285e3e82b985
DTSTART;VALUE=DATE:20260603
DTEND;VALUE=DATE:20260604
DESCRIPTION:
LOCATION:
SUMMARY:Day 5 (71234)
END:VEVENT
BEGIN:VEVENT
DTSTAMP:20260423T233217Z
UID:f95dd6a5-c0f8-4c28-a4e3-6695e2621755
DTSTART;VALUE=DATE:20260604
DTEND;VALUE=DATE:20260605
DESCRIPTION:
LOCATION:
SUMMARY:Day 6 (56712)
END:VEVENT
BEGIN:VEVENT
DTSTAMP:20260423T233217Z
UID:77c73845-cf3b-4ce2-a963-3f6017b26808
DTSTART;VALUE=DATE:20260605
DTEND;VALUE=DATE:20260606
DESCRIPTION:
LOCATION:
SUMMARY:Day 7 (34567)
END:VEVENT
BEGIN:VEVENT
DTSTAMP:20260423T233217Z
UID:d38bbd75-dabc-47ff-989e-eb5695a028a7
DTSTART;VALUE=DATE:20260608
DTEND;VALUE=DATE:20260609
DESCRIPTION:
LOCATION:
SUMMARY:Day 8 (12345)
END:VEVENT
BEGIN:VEVENT
DTSTAMP:20260423T233217Z
UID:04fdb69c-5478-4890-a141-195e25b9f6bd
DTSTART;VALUE=DATE:20260609
DTEND;VALUE=DATE:20260610
DESCRIPTION:
LOCATION:
SUMMARY:Day 9 (67123)
END:VEVENT
BEGIN:VEVENT
DTSTAMP:20260423T233217Z
UID:101f24ad-8cbe-4709-af1e-529230b879d4
DTSTART;VALUE=DATE:20260610
DTEND;VALUE=DATE:20260611
DESCRIPTION:
LOCATION:
SUMMARY:Day 10 (45671)
END:VEVENT
BEGIN:VEVENT
DTSTAMP:20260423T233217Z
UID:cd13b2e8-e252-412e-840e-88a427e9326c
DTSTART;VALUE=DATE:20260611
DTEND;VALUE=DATE:20260612
DESCRIPTION:
LOCATION:
SUMMARY:Day 11 (23456)
END:VEVENT
BEGIN:VEVENT
DTSTAMP:20260423T233217Z
UID:0da6cf4d-d21a-4cb7-8d3c-f21828d45e6d
DTSTART;VALUE=DATE:20260612
DTEND;VALUE=DATE:20260613
DESCRIPTION:
LOCATION:
SUMMARY:Day 12 (71234)
END:VEVENT
BEGIN:VEVENT
DTSTAMP:20260423T233217Z
UID:cb81970c-cd03-4542-846f-3ac64efe5aff
DTSTART;VALUE=DATE:20260615
DTEND;VALUE=DATE:20260616
DESCRIPTION:
LOCATION:
SUMMARY:Day 13 (56712)
END:VEVENT
BEGIN:VEVENT
DTSTAMP:20260423T233217Z
UID:c2ae5f58-4524-46f5-ae92-73ff3abeea2c
DTSTART;VALUE=DATE:20260616
DTEND;VALUE=DATE:20260617
DESCRIPTION:
LOCATION:
SUMMARY:Day 14 (34567)
END:VEVENT
BEGIN:VEVENT
DTSTAMP:20260423T233217Z
UID:1f3e10ee-abbf-4b16-892f-b0102595b798
DTSTART;VALUE=DATE:20260617
DTEND;VALUE=DATE:20260618
DESCRIPTION:
LOCATION:
SUMMARY:Day 1 (12345)
END:VEVENT
BEGIN:VEVENT
DTSTAMP:20260423T233217Z
UID:1689e684-f6c2-402c-b999-2cc50d4b37d6
DTSTART;VALUE=DATE:20260618
DTEND;VALUE=DATE:20260619
DESCRIPTION:
LOCATION:
SUMMARY:Day 2 (67123)
END:VEVENT
BEGIN:VEVENT
DTSTAMP:20260423T233217Z
UID:77fac1e1-8f23-41ec-ade8-8d8902271acd
DTSTART;VALUE=DATE:20260619
DTEND;VALUE=DATE:20260620
DESCRIPTION:
LOCATION:
SUMMARY:No School-Juneteenth
END:VEVENT
BEGIN:VEVENT
DTSTAMP:20260423T233217Z
UID:7e55c261-5429-4b3a-b9d2-5c167d691d2d
DTSTART;VALUE=DATE:20260622
DTEND;VALUE=DATE:20260623
DESCRIPTION:
LOCATION:
SUMMARY:Day 3 (45671)
END:VEVENT
BEGIN:VEVENT
DTSTAMP:20260423T233217Z
UID:145835f7-8195-44cd-a7b8-b5b7f7a9247d
DTSTART:20260622T180000
DTEND:20260622T193000
DESCRIPTION:
LOCATION:
SUMMARY:DMS Promotion (Tentative based on snow days)
END:VEVENT
BEGIN:VEVENT
DTSTAMP:20260423T233217Z
UID:15c3ad64-b620-4234-bc28-371dd0988f70
DTSTART;VALUE=DATE:20260623
DTEND;VALUE=DATE:20260624
DESCRIPTION:
LOCATION:
SUMMARY:Day 4 (23456)
END:VEVENT
BEGIN:VEVENT
DTSTAMP:20260423T233217Z
UID:b8d25c02-e904-4c52-af39-4676dd489ccb
DTSTART;VALUE=DATE:20260623
DTEND;VALUE=DATE:20260624
DESCRIPTION:
LOCATION:
SUMMARY:Grades Close
END:VEVENT
BEGIN:VEVENT
DTSTAMP:20260423T233217Z
UID:9355ba56-b769-4ad2-a67e-ab2b5946ff0b
DTSTART;VALUE=DATE:20260623
DTEND;VALUE=DATE:20260624
DESCRIPTION:
LOCATION:
SUMMARY:Last Day\, Early Release- 7 Snow Days
END:VEVENT
END:VCALENDAR
