BEGIN:VCALENDAR
VERSION:2.0
PRODID:icalendar-ruby
CALSCALE:GREGORIAN
BEGIN:VTIMEZONE
TZID:America/Chicago
BEGIN:DAYLIGHT
DTSTART:20260308T030000
TZOFFSETFROM:-0600
TZOFFSETTO:-0500
RRULE:FREQ=YEARLY;BYDAY=2SU;BYMONTH=3
TZNAME:CDT
END:DAYLIGHT
BEGIN:STANDARD
DTSTART:20261101T010000
TZOFFSETFROM:-0500
TZOFFSETTO:-0600
RRULE:FREQ=YEARLY;BYDAY=1SU;BYMONTH=11
TZNAME:CST
END:STANDARD
END:VTIMEZONE
BEGIN:VEVENT
DTSTAMP:20260425T233321Z
UID:bc609f85-1d20-4705-b0ea-e14bc25772f6
DTSTART;VALUE=DATE:20260429
DTEND;VALUE=DATE:20260430
DESCRIPTION:
LOCATION:
SUMMARY:8th Pre-Enrollment (HS Counselors)
END:VEVENT
BEGIN:VEVENT
DTSTAMP:20260425T233321Z
UID:b13890a8-aa35-498a-b883-826cde4d3a8c
DTSTART:20260518T090000
DTEND:20260518T110000
DESCRIPTION:
LOCATION:
SUMMARY:Promotion Rehearsal @ PAC
END:VEVENT
BEGIN:VEVENT
DTSTAMP:20260425T233321Z
UID:83a41ff6-2d6c-4af2-8279-542b8111b17d
DTSTART:20260519T090000
DTEND:20260519T100000
DESCRIPTION:
LOCATION:
SUMMARY:AMS Promotion @ PAC
END:VEVENT
END:VCALENDAR
