BEGIN:VCALENDAR
VERSION:2.0
PRODID:icalendar-ruby
CALSCALE:GREGORIAN
BEGIN:VTIMEZONE
TZID:America/Chicago
BEGIN:DAYLIGHT
DTSTART:20260308T030000
TZOFFSETFROM:-0600
TZOFFSETTO:-0500
RRULE:FREQ=YEARLY;BYDAY=2SU;BYMONTH=3
TZNAME:CDT
END:DAYLIGHT
BEGIN:STANDARD
DTSTART:20261101T010000
TZOFFSETFROM:-0500
TZOFFSETTO:-0600
RRULE:FREQ=YEARLY;BYDAY=1SU;BYMONTH=11
TZNAME:CST
END:STANDARD
END:VTIMEZONE
BEGIN:VEVENT
DTSTAMP:20260423T095239Z
UID:4c848fe7-a9d7-47b0-a8e2-02912e57090b
DTSTART:20260423T083000
DTEND:20260423T143000
DESCRIPTION:
LOCATION:3300 W Bois D'Arc Ave\, Duncan\, OK 73533\, USA
SUMMARY:RRTC Job Fair and Career Expo
END:VEVENT
BEGIN:VEVENT
DTSTAMP:20260423T095239Z
UID:0be50ebe-e306-458c-9b11-08e8b1dda37a
DTSTART:20260427T180000
DTEND:20260427T190000
DESCRIPTION:
LOCATION:3300 W Bois D'Arc Ave\, Duncan\, OK 73533\, USA
SUMMARY:Biomedical Science Academy Senior Capstone Showcase
END:VEVENT
BEGIN:VEVENT
DTSTAMP:20260423T095239Z
UID:e15ef5a1-952e-48e2-8d9c-1e25b36bc903
DTSTART;VALUE=DATE:20260501
DTEND;VALUE=DATE:20260502
DESCRIPTION:
LOCATION:
SUMMARY:Snow Day
END:VEVENT
BEGIN:VEVENT
DTSTAMP:20260423T095239Z
UID:b09dc023-a6e3-4f97-80cf-7189270809cc
DTSTART:20260506T081500
DTEND:20260506T101500
DESCRIPTION:
LOCATION:3300 W Bois D'Arc Ave\, Duncan\, OK 73533\, USA
SUMMARY:RRTC Awards Ceremony
END:VEVENT
BEGIN:VEVENT
DTSTAMP:20260423T095239Z
UID:150653b1-064c-491c-a5f2-c6bf1829d144
DTSTART:20260506T121000
DTEND:20260506T141000
DESCRIPTION:
LOCATION:3300 W Bois D'Arc Ave\, Duncan\, OK 73533\, USA
SUMMARY:RRTC Award Ceremony
END:VEVENT
BEGIN:VEVENT
DTSTAMP:20260423T095239Z
UID:d3931a13-105e-4a0f-98dd-788fca2176a9
DTSTART;VALUE=DATE:20260519
DTEND;VALUE=DATE:20260520
DESCRIPTION:
LOCATION:3300 W Bois D'Arc Ave\, Duncan\, OK 73533\, USA
SUMMARY:Last Day of School
END:VEVENT
BEGIN:VEVENT
DTSTAMP:20260423T095239Z
UID:59a4da54-a6c0-4894-a183-3828a8fb4595
DTSTART;VALUE=DATE:20260520
DTEND;VALUE=DATE:20260522
DESCRIPTION:
LOCATION:
SUMMARY:Snow Day
END:VEVENT
BEGIN:VEVENT
DTSTAMP:20260423T095239Z
UID:d318a142-fe87-400e-80af-c1c36ae47637
DTSTART;VALUE=DATE:20260525
DTEND;VALUE=DATE:20260526
DESCRIPTION:
LOCATION:
SUMMARY:Memorial Day 
END:VEVENT
END:VCALENDAR
