BEGIN:VCALENDAR
VERSION:2.0
PRODID:icalendar-ruby
CALSCALE:GREGORIAN
BEGIN:VTIMEZONE
TZID:America/New_York
BEGIN:DAYLIGHT
DTSTART:20260308T030000
TZOFFSETFROM:-0500
TZOFFSETTO:-0400
RRULE:FREQ=YEARLY;BYDAY=2SU;BYMONTH=3
TZNAME:EDT
END:DAYLIGHT
BEGIN:STANDARD
DTSTART:20261101T010000
TZOFFSETFROM:-0400
TZOFFSETTO:-0500
RRULE:FREQ=YEARLY;BYDAY=1SU;BYMONTH=11
TZNAME:EST
END:STANDARD
END:VTIMEZONE
BEGIN:VEVENT
DTSTAMP:20260425T161614Z
UID:3ea300aa-1fd7-428b-b482-4667377c341f
DTSTART:20260428T140000
DTEND:20260428T153000
DESCRIPTION:
LOCATION:8354 Cappy Ln\, Swartz Creek\, MI 48473\, USA
SUMMARY:Special Board Meeting
END:VEVENT
BEGIN:VEVENT
DTSTAMP:20260425T161614Z
UID:a2f449de-0203-40f4-999d-2f521e9694d1
DTSTART:20260429T180000
DTEND:20260429T200000
DESCRIPTION:
LOCATION:8354 Cappy Ln\, Swartz Creek\, MI 48473\, USA
SUMMARY:School Board Meeting
END:VEVENT
BEGIN:VEVENT
DTSTAMP:20260425T161614Z
UID:4d358643-ce1a-4ba6-b1b7-e17bc7aa6745
DTSTART:20260518T160000
DTEND:20260518T180000
DESCRIPTION:
LOCATION:8354 Cappy Ln\, Swartz Creek\, MI 48473\, USA
SUMMARY:Academic Achievement & Policy Committee of the Whole
END:VEVENT
BEGIN:VEVENT
DTSTAMP:20260425T161614Z
UID:8dbbe5b8-cd2a-4908-898d-65065e70cc22
DTSTART:20260519T140000
DTEND:20260519T170000
DESCRIPTION:
LOCATION:8354 Cappy Ln\, Swartz Creek\, MI 48473\, USA
SUMMARY:Bond\, Finance\, and Operations Committee of the Whole
END:VEVENT
BEGIN:VEVENT
DTSTAMP:20260425T161614Z
UID:38ca313e-ed4a-4f63-a5db-f3277e9ba0a2
DTSTART;VALUE=DATE:20260525
DTEND;VALUE=DATE:20260526
DESCRIPTION:
LOCATION:
SUMMARY:NO SCHOOL GSRP
END:VEVENT
BEGIN:VEVENT
DTSTAMP:20260425T161614Z
UID:38b44575-36f2-4bb8-af8e-b4d97961efff
DTSTART:20260527T180000
DTEND:20260527T200000
DESCRIPTION:
LOCATION:8354 Cappy Ln\, Swartz Creek\, MI 48473\, USA
SUMMARY:School Board Meeting
END:VEVENT
BEGIN:VEVENT
DTSTAMP:20260425T161614Z
UID:acece6e8-8602-4871-b197-85469f27dd03
DTSTART:20260610T180000
DTEND:20260610T200000
DESCRIPTION:
LOCATION:8354 Cappy Ln\, Swartz Creek\, MI 48473\, USA
SUMMARY:School Board Meeting
END:VEVENT
BEGIN:VEVENT
DTSTAMP:20260425T161614Z
UID:183f345c-fd24-4ed0-927c-c985bf85a9b3
DTSTART:20260611T183000
DTEND:20260611T200000
DESCRIPTION:
LOCATION:
SUMMARY:GSRP Last Day- Family Fun Night
END:VEVENT
BEGIN:VEVENT
DTSTAMP:20260425T161614Z
UID:37ab74ad-2282-4218-8f47-5c28ef20bf15
DTSTART:20260615T160000
DTEND:20260615T180000
DESCRIPTION:
LOCATION:8354 Cappy Ln\, Swartz Creek\, MI 48473\, USA
SUMMARY:Academic Achievement & Policy Committee of the Whole
END:VEVENT
BEGIN:VEVENT
DTSTAMP:20260425T161614Z
UID:7c4a8d3c-2c2b-48df-8141-9d4f7db4a3cd
DTSTART:20260616T140000
DTEND:20260616T170000
DESCRIPTION:
LOCATION:8354 Cappy Ln\, Swartz Creek\, MI 48473\, USA
SUMMARY:Bond\, Finance\, and Operations Committee of the Whole
END:VEVENT
BEGIN:VEVENT
DTSTAMP:20260425T161614Z
UID:e44b5bb2-dc31-418c-b03b-fed865540218
DTSTART:20260624T173000
DTEND:20260624T180000
DESCRIPTION:
LOCATION:8354 Cappy Ln\, Swartz Creek\, MI 48473\, USA
SUMMARY:Budget Hearing (2026-2027)
END:VEVENT
BEGIN:VEVENT
DTSTAMP:20260425T161614Z
UID:57bd6737-0619-4530-8c13-f2703491d97d
DTSTART:20260624T180000
DTEND:20260624T200000
DESCRIPTION:
LOCATION:8354 Cappy Ln\, Swartz Creek\, MI 48473\, USA
SUMMARY:School Board Meeting
END:VEVENT
BEGIN:VEVENT
DTSTAMP:20260425T161614Z
UID:326f64b5-4234-4bc2-ab5b-d03b544e9ff9
DTSTART:20260713T160000
DTEND:20260713T180000
DESCRIPTION:
LOCATION:8354 Cappy Ln\, Swartz Creek\, MI 48473\, USA
SUMMARY:Academic Achievement & Policy Committee of the Whole
END:VEVENT
BEGIN:VEVENT
DTSTAMP:20260425T161614Z
UID:0805a65f-584c-4164-93f9-1126897a62f4
DTSTART:20260714T140000
DTEND:20260714T170000
DESCRIPTION:
LOCATION:8354 Cappy Ln\, Swartz Creek\, MI 48473\, USA
SUMMARY:Bond\, Finance\, and Operations Committee of the Whole
END:VEVENT
BEGIN:VEVENT
DTSTAMP:20260425T161614Z
UID:aa4576f8-2ca6-491e-a350-e48bd7627c61
DTSTART:20260722T180000
DTEND:20260722T200000
DESCRIPTION:
LOCATION:8354 Cappy Ln\, Swartz Creek\, MI 48473\, USA
SUMMARY:School Board Meeting 
END:VEVENT
BEGIN:VEVENT
DTSTAMP:20260425T161614Z
UID:aa0df20f-65d0-44b0-8322-f1a1e3c5624a
DTSTART:20260812T180000
DTEND:20260812T200000
DESCRIPTION:
LOCATION:8354 Cappy Ln\, Swartz Creek\, MI 48473\, USA
SUMMARY:School Board Meeting
END:VEVENT
BEGIN:VEVENT
DTSTAMP:20260425T161614Z
UID:9702d93a-28ca-4991-9d56-fe044a75c961
DTSTART:20260817T160000
DTEND:20260817T180000
DESCRIPTION:
LOCATION:8354 Cappy Ln\, Swartz Creek\, MI 48473\, USA
SUMMARY:Academic Achievement & Policy Committee of the Whole
END:VEVENT
BEGIN:VEVENT
DTSTAMP:20260425T161614Z
UID:a39d873c-6791-4ede-8c07-d7c9a7c08195
DTSTART:20260818T140000
DTEND:20260818T170000
DESCRIPTION:
LOCATION:8354 Cappy Ln\, Swartz Creek\, MI 48473\, USA
SUMMARY:Bond\, Finance\, and Operations Committee of the Whole
END:VEVENT
BEGIN:VEVENT
DTSTAMP:20260425T161614Z
UID:74b2f0e4-74da-43bd-854f-2ae7ef8b9e6d
DTSTART:20260826T180000
DTEND:20260826T200000
DESCRIPTION:
LOCATION:8354 Cappy Ln\, Swartz Creek\, MI 48473\, USA
SUMMARY:School Board Meeting
END:VEVENT
BEGIN:VEVENT
DTSTAMP:20260425T161614Z
UID:8fa98842-d776-4a57-9642-f90e91957729
DTSTART:20260921T160000
DTEND:20260921T180000
DESCRIPTION:
LOCATION:8354 Cappy Ln\, Swartz Creek\, MI 48473\, USA
SUMMARY:Academic Achievement & Policy Committee of the Whole
END:VEVENT
BEGIN:VEVENT
DTSTAMP:20260425T161614Z
UID:557dd876-08e8-462e-96aa-1a4f720e0f8f
DTSTART:20260922T140000
DTEND:20260922T170000
DESCRIPTION:
LOCATION:8354 Cappy Ln\, Swartz Creek\, MI 48473\, USA
SUMMARY:Bond\, Finance\, and Operations Committee of the Whole
END:VEVENT
BEGIN:VEVENT
DTSTAMP:20260425T161614Z
UID:ae54086a-8e9c-4a86-8be9-bf1f6d2a6965
DTSTART:20260930T180000
DTEND:20260930T200000
DESCRIPTION:
LOCATION:8354 Cappy Ln\, Swartz Creek\, MI 48473\, USA
SUMMARY:School Board Meeting
END:VEVENT
BEGIN:VEVENT
DTSTAMP:20260425T161614Z
UID:9879a0ac-b370-46f3-b095-2cb6afe6edfa
DTSTART:20261012T160000
DTEND:20261012T180000
DESCRIPTION:
LOCATION:8354 Cappy Ln\, Swartz Creek\, MI 48473\, USA
SUMMARY:Academic Achievement & Policy Committee of the Whole
END:VEVENT
BEGIN:VEVENT
DTSTAMP:20260425T161614Z
UID:caa2581c-bd90-4af8-9bc7-244f1e2a3632
DTSTART:20261013T140000
DTEND:20261013T160000
DESCRIPTION:
LOCATION:8354 Cappy Ln\, Swartz Creek\, MI 48473\, USA
SUMMARY:Bond\, Finance\, and Operations Committee of the Whole
END:VEVENT
BEGIN:VEVENT
DTSTAMP:20260425T161614Z
UID:d1d0c58e-f2ad-4cd0-b582-f3b8f83127d3
DTSTART:20261021T180000
DTEND:20261021T200000
DESCRIPTION:
LOCATION:8354 Cappy Ln\, Swartz Creek\, MI 48473\, USA
SUMMARY:School Board Meeting
END:VEVENT
BEGIN:VEVENT
DTSTAMP:20260425T161614Z
UID:6c2f4345-9246-4c9a-892a-fd283336a9d5
DTSTART:20261109T160000
DTEND:20261109T180000
DESCRIPTION:
LOCATION:8354 Cappy Ln\, Swartz Creek\, MI 48473\, USA
SUMMARY:Academic Achievement & Policy Committee of the Whole
END:VEVENT
BEGIN:VEVENT
DTSTAMP:20260425T161614Z
UID:a75d0730-5da1-45aa-b5c4-59258128d543
DTSTART:20261110T140000
DTEND:20261110T170000
DESCRIPTION:
LOCATION:8354 Cappy Ln\, Swartz Creek\, MI 48473\, USA
SUMMARY:Bond\, Finance\, and Operations Committee of the Whole
END:VEVENT
BEGIN:VEVENT
DTSTAMP:20260425T161614Z
UID:ff62cee0-458e-490c-9ce9-7ce9f3cad932
DTSTART:20261118T180000
DTEND:20261118T200000
DESCRIPTION:
LOCATION:8354 Cappy Ln\, Swartz Creek\, MI 48473\, USA
SUMMARY:School Board Meeting
END:VEVENT
BEGIN:VEVENT
DTSTAMP:20260425T161614Z
UID:4deb829e-6708-46e7-a1f0-f4734fa8a354
DTSTART:20261130T160000
DTEND:20261130T180000
DESCRIPTION:
LOCATION:8354 Cappy Ln\, Swartz Creek\, MI 48473\, USA
SUMMARY:Academic Achievement & Policy Committee of the Whole
END:VEVENT
BEGIN:VEVENT
DTSTAMP:20260425T161614Z
UID:7c095b61-e405-47fc-a0bc-24bee73de731
DTSTART:20261201T140000
DTEND:20261201T170000
DESCRIPTION:
LOCATION:8354 Cappy Ln\, Swartz Creek\, MI 48473\, USA
SUMMARY:Bond\, Finance\, and Operations Committee of the Whole
END:VEVENT
BEGIN:VEVENT
DTSTAMP:20260425T161614Z
UID:cbecf2b8-92e9-41e0-b941-8859963ad95e
DTSTART:20261209T180000
DTEND:20261209T200000
DESCRIPTION:
LOCATION:8354 Cappy Ln\, Swartz Creek\, MI 48473\, USA
SUMMARY:School Board Meeting (Superintendent's Evaluation)
END:VEVENT
BEGIN:VEVENT
DTSTAMP:20260425T161614Z
UID:80acce81-94c8-4d5b-b30e-5cbfd90767f0
DTSTART:20270106T180000
DTEND:20270106T200000
DESCRIPTION:
LOCATION:8354 Cappy Ln\, Swartz Creek\, MI 48473\, USA
SUMMARY:School Board Meeting (Organizational Meeting)
END:VEVENT
END:VCALENDAR
