BEGIN:VCALENDAR
VERSION:2.0
PRODID:icalendar-ruby
CALSCALE:GREGORIAN
BEGIN:VTIMEZONE
TZID:America/New_York
BEGIN:DAYLIGHT
DTSTART:20260308T030000
TZOFFSETFROM:-0500
TZOFFSETTO:-0400
RRULE:FREQ=YEARLY;BYDAY=2SU;BYMONTH=3
TZNAME:EDT
END:DAYLIGHT
BEGIN:STANDARD
DTSTART:20261101T010000
TZOFFSETFROM:-0400
TZOFFSETTO:-0500
RRULE:FREQ=YEARLY;BYDAY=1SU;BYMONTH=11
TZNAME:EST
END:STANDARD
END:VTIMEZONE
BEGIN:VEVENT
DTSTAMP:20260420T065735Z
UID:8089416d-5025-4ed2-9a00-644d1300adb8
DTSTART;VALUE=DATE:20260420
DTEND;VALUE=DATE:20260421
DESCRIPTION:<html><head><meta http-equiv="Content-Type" content="text/html\
 ; charset=utf-8"></head><body><div class="cal_ee44"><div><div class="x_cal
 _5033"><div><div class="x_x_cal_c42"><div><div class="x_x_x_cal_95d6"><div
 ><div></div></div></div></div></div></div></div></div></div></body></html>
LOCATION:
SUMMARY:No School for Pre-K Students
END:VEVENT
BEGIN:VEVENT
DTSTAMP:20260420T065735Z
UID:425049d8-0b52-4361-abe0-40f28f27f9d4
DTSTART:20260421T180000
DTEND:20260421T210000
DESCRIPTION:<html><head><meta http-equiv="Content-Type" content="text/html\
 ; charset=utf-8"></head><body><div class="cal_70b9"><div><div class="x_cal
 _555"><div><div class="x_x_cal_7733"><div><div class="x_x_x_cal_c134"><div
 ><div class="x_x_x_x_cal_6c1a"><div><div class="x_x_x_x_x_cal_8c71"><div><
 div class="x_x_x_x_x_x_cal_2f3f"><div><div class="x_x_x_x_x_x_x_cal_76d2">
 <div><div class="x_x_x_x_x_x_x_x_cal_7c"><div><div class="x_x_x_x_x_x_x_x_
 x_cal_c9a3"><div><div class="x_x_x_x_x_x_x_x_x_x_cal_35ce"><div><div class
 ="x_x_x_x_x_x_x_x_x_x_x_cal_abd"><div><div class="x_x_x_x_x_x_x_x_x_x_x_x_
 cal_21ce"><div><div class="x_x_x_x_x_x_x_x_x_x_x_x_x_cal_fac7"><div><div c
 lass="x_x_x_x_x_x_x_x_x_x_x_x_x_x_cal_fa2a"><div><div class="x_x_x_x_x_x_x
 _x_x_x_x_x_x_x_x_cal_4bb6"><div><div class="x_x_x_x_x_x_x_x_x_x_x_x_x_x_x_
 x_cal_5dde"><div><div></div></div></div></div></div></div></div></div></di
 v></div></div></div></div></div></div></div></div></div></div></div></div>
 </div></div></div></div></div></div></div></div></div></div></div></div></
 div></div></body></html>
LOCATION:
SUMMARY:Regular Board of Education Meeting
END:VEVENT
BEGIN:VEVENT
DTSTAMP:20260420T065735Z
UID:b7720199-1d9b-4277-9a23-0010b6b5f168
DTSTART;VALUE=DATE:20260504
DTEND;VALUE=DATE:20260505
DESCRIPTION:<html><head><meta http-equiv="Content-Type" content="text/html\
 ; charset=utf-8"></head><body><div class="cal_ee44"><div><div class="x_cal
 _5033"><div><div class="x_x_cal_c42"><div><div class="x_x_x_cal_95d6"><div
 ><div></div></div></div></div></div></div></div></div></div></body></html>
LOCATION:
SUMMARY:No School for Pre-K Students
END:VEVENT
BEGIN:VEVENT
DTSTAMP:20260420T065735Z
UID:966b175f-8022-49b9-b1de-e90e2ec4041a
DTSTART:20260504T180000
DTEND:20260504T210000
DESCRIPTION:<html><head><meta http-equiv="Content-Type" content="text/html\
 ; charset=utf-8"></head><body><div class="cal_c0fb"><div><div class="x_cal
 _70b9"><div><div class="x_x_cal_555"><div><div class="x_x_x_cal_7733"><div
 ><div class="x_x_x_x_cal_c134"><div><div class="x_x_x_x_x_cal_6c1a"><div><
 div class="x_x_x_x_x_x_cal_8c71"><div><div class="x_x_x_x_x_x_x_cal_2f3f">
 <div><div class="x_x_x_x_x_x_x_x_cal_76d2"><div><div class="x_x_x_x_x_x_x_
 x_x_cal_7c"><div><div class="x_x_x_x_x_x_x_x_x_x_cal_c9a3"><div><div class
 ="x_x_x_x_x_x_x_x_x_x_x_cal_35ce"><div><div class="x_x_x_x_x_x_x_x_x_x_x_x
 _cal_abd"><div><div class="x_x_x_x_x_x_x_x_x_x_x_x_x_cal_21ce"><div><div c
 lass="x_x_x_x_x_x_x_x_x_x_x_x_x_x_cal_fac7"><div><div class="x_x_x_x_x_x_x
 _x_x_x_x_x_x_x_x_cal_fa2a"><div><div class="x_x_x_x_x_x_x_x_x_x_x_x_x_x_x_
 x_cal_4bb6"><div><div class="x_x_x_x_x_x_x_x_x_x_x_x_x_x_x_x_x_cal_5dde"><
 div><div></div></div></div></div></div></div></div></div></div></div></div
 ></div></div></div></div></div></div></div></div></div></div></div></div><
 /div></div></div></div></div></div></div></div></div></div></div></div></d
 iv></div></body></html>
LOCATION:
SUMMARY:Regular Board of Education Meeting
END:VEVENT
BEGIN:VEVENT
DTSTAMP:20260420T065735Z
UID:2d096782-8a8e-44c6-b5c4-a6869a0c97c6
DTSTART;VALUE=DATE:20260512
DTEND;VALUE=DATE:20260513
DESCRIPTION:
LOCATION:
SUMMARY:Primary Election Day - Schools & Offices Closed
END:VEVENT
BEGIN:VEVENT
DTSTAMP:20260420T065735Z
UID:8a536f3b-8c5d-4c2d-b6cf-3d6f02b5e176
DTSTART:20260513T170000
DTEND:20260513T210000
DESCRIPTION:<html><head><meta http-equiv="Content-Type" content="text/html\
 ; charset=utf-8"></head><body><div class="cal_2098"><div><div class="x_cal
 _127f"><div><div class="x_x_cal_3566"><div><div class="x_x_x_cal_9251"><di
 v><div class="x_x_x_x_cal_96a1"><div><div class="x_x_x_x_x_cal_9642"><div>
 <div class="x_x_x_x_x_x_cal_f217"><div><div class="x_x_x_x_x_x_x_cal_abd">
 <div><div class="x_x_x_x_x_x_x_x_cal_21ce"><div><div class="x_x_x_x_x_x_x_
 x_x_cal_fac7"><div><div class="x_x_x_x_x_x_x_x_x_x_cal_fa2a"><div><div cla
 ss="x_x_x_x_x_x_x_x_x_x_x_cal_4bb6"><div><div class="x_x_x_x_x_x_x_x_x_x_x
 _x_cal_5dde"><div><div></div></div></div></div></div></div></div></div></d
 iv></div></div></div></div></div></div></div></div></div></div></div></div
 ></div></div></div></div></div></div></body></html>
LOCATION:
SUMMARY:Special Board of Education Meeting
END:VEVENT
BEGIN:VEVENT
DTSTAMP:20260420T065735Z
UID:dc192551-14cf-4eb2-b890-f2bb1d8ce4e4
DTSTART:20260518T180000
DTEND:20260518T210000
DESCRIPTION:<html><head><meta http-equiv="Content-Type" content="text/html\
 ; charset=utf-8"></head><body><div class="cal_4ff8"><div><div class="x_cal
 _c0fb"><div><div class="x_x_cal_70b9"><div><div class="x_x_x_cal_555"><div
 ><div class="x_x_x_x_cal_7733"><div><div class="x_x_x_x_x_cal_c134"><div><
 div class="x_x_x_x_x_x_cal_6c1a"><div><div class="x_x_x_x_x_x_x_cal_8c71">
 <div><div class="x_x_x_x_x_x_x_x_cal_2f3f"><div><div class="x_x_x_x_x_x_x_
 x_x_cal_76d2"><div><div class="x_x_x_x_x_x_x_x_x_x_cal_7c"><div><div class
 ="x_x_x_x_x_x_x_x_x_x_x_cal_c9a3"><div><div class="x_x_x_x_x_x_x_x_x_x_x_x
 _cal_35ce"><div><div class="x_x_x_x_x_x_x_x_x_x_x_x_x_cal_abd"><div><div c
 lass="x_x_x_x_x_x_x_x_x_x_x_x_x_x_cal_21ce"><div><div class="x_x_x_x_x_x_x
 _x_x_x_x_x_x_x_x_cal_fac7"><div><div class="x_x_x_x_x_x_x_x_x_x_x_x_x_x_x_
 x_cal_fa2a"><div><div class="x_x_x_x_x_x_x_x_x_x_x_x_x_x_x_x_x_cal_4bb6"><
 div><div class="x_x_x_x_x_x_x_x_x_x_x_x_x_x_x_x_x_x_cal_5dde"><div><div></
 div></div></div></div></div></div></div></div></div></div></div></div></di
 v></div></div></div></div></div></div></div></div></div></div></div></div>
 </div></div></div></div></div></div></div></div></div></div></div></div></
 div></div></body></html>
LOCATION:
SUMMARY:Regular Board of Education Meeting
END:VEVENT
BEGIN:VEVENT
DTSTAMP:20260420T065735Z
UID:0f3d45d7-b3fd-4b02-8423-0b0e1d570be6
DTSTART;VALUE=DATE:20260521
DTEND;VALUE=DATE:20260522
DESCRIPTION:
LOCATION:
SUMMARY:Graduation - Spring Mills High School
END:VEVENT
BEGIN:VEVENT
DTSTAMP:20260420T065735Z
UID:2dc63ede-b416-4c1c-a138-e6f3ae6d4f9e
DTSTART;VALUE=DATE:20260525
DTEND;VALUE=DATE:20260526
DESCRIPTION:
LOCATION:
SUMMARY:Memorial Day - Schools & Offices Closed
END:VEVENT
BEGIN:VEVENT
DTSTAMP:20260420T065735Z
UID:9cd00b31-7a76-46cd-ac45-fab4b2966576
DTSTART;VALUE=DATE:20260526
DTEND;VALUE=DATE:20260527
DESCRIPTION:
LOCATION:
SUMMARY:Graduation - Martinsburg High School
END:VEVENT
BEGIN:VEVENT
DTSTAMP:20260420T065735Z
UID:d91221b6-951c-49d6-9ebd-3ae07bd19448
DTSTART:20260527T110000
DTEND:20260527T113000
DESCRIPTION:
LOCATION:
SUMMARY:Graduation - Hedgesville High School
END:VEVENT
BEGIN:VEVENT
DTSTAMP:20260420T065735Z
UID:0e90a3c6-8bc1-4b21-9447-f9adce6792ad
DTSTART;VALUE=DATE:20260528
DTEND;VALUE=DATE:20260529
DESCRIPTION:
LOCATION:
SUMMARY:4th Nine Weeks Ends (Tentative)
END:VEVENT
BEGIN:VEVENT
DTSTAMP:20260420T065735Z
UID:c8553578-1ebb-4b00-9662-60a651b651bc
DTSTART;VALUE=DATE:20260528
DTEND;VALUE=DATE:20260529
DESCRIPTION:
LOCATION:
SUMMARY:Graduation - Musselman High School
END:VEVENT
BEGIN:VEVENT
DTSTAMP:20260420T065735Z
UID:77670ae5-f6f8-4b2d-b331-cbdc4815a521
DTSTART;VALUE=DATE:20260528
DTEND;VALUE=DATE:20260529
DESCRIPTION:
LOCATION:
SUMMARY:Last Day of School - PreK-12 (Tentative)
END:VEVENT
BEGIN:VEVENT
DTSTAMP:20260420T065735Z
UID:7c2fb58f-ef6b-4eac-87e0-27eec28eb3b7
DTSTART;VALUE=DATE:20260529
DTEND;VALUE=DATE:20260530
DESCRIPTION:
LOCATION:
SUMMARY:Faculty Senate Meetings
END:VEVENT
BEGIN:VEVENT
DTSTAMP:20260420T065735Z
UID:a556ec6c-1dd8-49cf-a35f-86bfa4c7cfa6
DTSTART:20260601T180000
DTEND:20260601T210000
DESCRIPTION:<html><head><meta http-equiv="Content-Type" content="text/html\
 ; charset=utf-8"></head><body><div class="cal_e894"><div><div class="x_cal
 _4ff8"><div><div class="x_x_cal_c0fb"><div><div class="x_x_x_cal_70b9"><di
 v><div class="x_x_x_x_cal_555"><div><div class="x_x_x_x_x_cal_7733"><div><
 div class="x_x_x_x_x_x_cal_c134"><div><div class="x_x_x_x_x_x_x_cal_6c1a">
 <div><div class="x_x_x_x_x_x_x_x_cal_8c71"><div><div class="x_x_x_x_x_x_x_
 x_x_cal_2f3f"><div><div class="x_x_x_x_x_x_x_x_x_x_cal_76d2"><div><div cla
 ss="x_x_x_x_x_x_x_x_x_x_x_cal_7c"><div><div class="x_x_x_x_x_x_x_x_x_x_x_x
 _cal_c9a3"><div><div class="x_x_x_x_x_x_x_x_x_x_x_x_x_cal_35ce"><div><div 
 class="x_x_x_x_x_x_x_x_x_x_x_x_x_x_cal_abd"><div><div class="x_x_x_x_x_x_x
 _x_x_x_x_x_x_x_x_cal_21ce"><div><div class="x_x_x_x_x_x_x_x_x_x_x_x_x_x_x_
 x_cal_fac7"><div><div class="x_x_x_x_x_x_x_x_x_x_x_x_x_x_x_x_x_cal_fa2a"><
 div><div class="x_x_x_x_x_x_x_x_x_x_x_x_x_x_x_x_x_x_cal_4bb6"><div><div cl
 ass="x_x_x_x_x_x_x_x_x_x_x_x_x_x_x_x_x_x_x_cal_5dde"><div><div></div></div
 ></div></div></div></div></div></div></div></div></div></div></div></div><
 /div></div></div></div></div></div></div></div></div></div></div></div></d
 iv></div></div></div></div></div></div></div></div></div></div></div></div
 ></div></div></body></html>
LOCATION:
SUMMARY:Regular Board of Education Meeting
END:VEVENT
BEGIN:VEVENT
DTSTAMP:20260420T065735Z
UID:4cb7b0f8-ace9-463f-898f-8d0568c242ac
DTSTART;VALUE=DATE:20260602
DTEND;VALUE=DATE:20260606
DESCRIPTION:
LOCATION:
SUMMARY:OS Day
END:VEVENT
BEGIN:VEVENT
DTSTAMP:20260420T065735Z
UID:36db5850-283a-45af-bae7-24114a6897f8
DTSTART;VALUE=DATE:20260605
DTEND;VALUE=DATE:20260606
DESCRIPTION:
LOCATION:
SUMMARY:Report Cards Issued
END:VEVENT
BEGIN:VEVENT
DTSTAMP:20260420T065735Z
UID:10a38955-e41f-4a51-b18d-f0acba0a50fa
DTSTART:20260610T170000
DTEND:20260610T210000
DESCRIPTION:<html><head><meta http-equiv="Content-Type" content="text/html\
 ; charset=utf-8"></head><body><div class="cal_4578"><div><div class="x_cal
 _2098"><div><div class="x_x_cal_127f"><div><div class="x_x_x_cal_3566"><di
 v><div class="x_x_x_x_cal_9251"><div><div class="x_x_x_x_x_cal_96a1"><div>
 <div class="x_x_x_x_x_x_cal_9642"><div><div class="x_x_x_x_x_x_x_cal_f217"
 ><div><div class="x_x_x_x_x_x_x_x_cal_abd"><div><div class="x_x_x_x_x_x_x_
 x_x_cal_21ce"><div><div class="x_x_x_x_x_x_x_x_x_x_cal_fac7"><div><div cla
 ss="x_x_x_x_x_x_x_x_x_x_x_cal_fa2a"><div><div class="x_x_x_x_x_x_x_x_x_x_x
 _x_cal_4bb6"><div><div class="x_x_x_x_x_x_x_x_x_x_x_x_x_cal_5dde"><div><di
 v></div></div></div></div></div></div></div></div></div></div></div></div>
 </div></div></div></div></div></div></div></div></div></div></div></div></
 div></div></div></div></div></body></html>
LOCATION:
SUMMARY:Special Board of Education Meeting
END:VEVENT
BEGIN:VEVENT
DTSTAMP:20260420T065735Z
UID:90d60291-807e-4819-8e9d-fcdcc9e358dc
DTSTART:20260615T180000
DTEND:20260615T210000
DESCRIPTION:<html><head><meta http-equiv="Content-Type" content="text/html\
 ; charset=utf-8"></head><body><div class="cal_3527"><div><div class="x_cal
 _e894"><div><div class="x_x_cal_4ff8"><div><div class="x_x_x_cal_c0fb"><di
 v><div class="x_x_x_x_cal_70b9"><div><div class="x_x_x_x_x_cal_555"><div><
 div class="x_x_x_x_x_x_cal_7733"><div><div class="x_x_x_x_x_x_x_cal_c134">
 <div><div class="x_x_x_x_x_x_x_x_cal_6c1a"><div><div class="x_x_x_x_x_x_x_
 x_x_cal_8c71"><div><div class="x_x_x_x_x_x_x_x_x_x_cal_2f3f"><div><div cla
 ss="x_x_x_x_x_x_x_x_x_x_x_cal_76d2"><div><div class="x_x_x_x_x_x_x_x_x_x_x
 _x_cal_7c"><div><div class="x_x_x_x_x_x_x_x_x_x_x_x_x_cal_c9a3"><div><div 
 class="x_x_x_x_x_x_x_x_x_x_x_x_x_x_cal_35ce"><div><div class="x_x_x_x_x_x_
 x_x_x_x_x_x_x_x_x_cal_abd"><div><div class="x_x_x_x_x_x_x_x_x_x_x_x_x_x_x_
 x_cal_21ce"><div><div class="x_x_x_x_x_x_x_x_x_x_x_x_x_x_x_x_x_cal_fac7"><
 div><div class="x_x_x_x_x_x_x_x_x_x_x_x_x_x_x_x_x_x_cal_fa2a"><div><div cl
 ass="x_x_x_x_x_x_x_x_x_x_x_x_x_x_x_x_x_x_x_cal_4bb6"><div><div class="x_x_
 x_x_x_x_x_x_x_x_x_x_x_x_x_x_x_x_x_x_cal_5dde"><div><div></div></div></div>
 </div></div></div></div></div></div></div></div></div></div></div></div></
 div></div></div></div></div></div></div></div></div></div></div></div></di
 v></div></div></div></div></div></div></div></div></div></div></div></div>
 </div></div></div></body></html>
LOCATION:
SUMMARY:Regular Board of Education Meeting
END:VEVENT
END:VCALENDAR
