BEGIN:VCALENDAR
VERSION:2.0
PRODID:icalendar-ruby
CALSCALE:GREGORIAN
BEGIN:VTIMEZONE
TZID:America/New_York
BEGIN:DAYLIGHT
DTSTART:20260308T030000
TZOFFSETFROM:-0500
TZOFFSETTO:-0400
RRULE:FREQ=YEARLY;BYDAY=2SU;BYMONTH=3
TZNAME:EDT
END:DAYLIGHT
BEGIN:STANDARD
DTSTART:20261101T010000
TZOFFSETFROM:-0400
TZOFFSETTO:-0500
RRULE:FREQ=YEARLY;BYDAY=1SU;BYMONTH=11
TZNAME:EST
END:STANDARD
END:VTIMEZONE
BEGIN:VEVENT
DTSTAMP:20260419T135641Z
UID:d6237f03-5158-43fc-9361-91bec600c687
DTSTART:20260420T180000
DTEND:20260420T210000
DESCRIPTION:<p><a target="_blank" rel="noopener noreferrer nofollow" href="
 https://go.boarddocs.com...t/Board.nsf/vpublic?open">https://go.boarddocs.
 com...t/Board.nsf/vpublic?open</a><a target="_blank" rel="noopener norefer
 rer nofollow" href="https://go.boarddocs.com/oh/southeast/Board.nsf/Public
 ">&nbsp\;</a><span>Click here to view agenda.</span></p>
LOCATION:
SUMMARY:Board Meeting (Rescheduled from 4/27 to 4/20)
END:VEVENT
BEGIN:VEVENT
DTSTAMP:20260419T135641Z
UID:3b2a9066-308d-4534-aaba-5fcaf08567a5
DTSTART:20260511T180000
DTEND:20260511T210000
DESCRIPTION:
LOCATION:8423 Tallmadge Rd\, Ravenna\, OH 44266\, USA
SUMMARY:Special Board Meeting - Work Session
END:VEVENT
BEGIN:VEVENT
DTSTAMP:20260419T135641Z
UID:c0b0bcda-a8e1-4695-8bcc-9744311dbca3
DTSTART:20260518T180000
DTEND:20260518T210000
DESCRIPTION:
LOCATION:
SUMMARY:Board Meeting
END:VEVENT
BEGIN:VEVENT
DTSTAMP:20260419T135641Z
UID:c403e5f8-eb43-43d8-8a9e-fbbe5fe83b40
DTSTART:20260622T090000
DTEND:20260622T120000
DESCRIPTION:
LOCATION:8423 Tallmadge Rd\, Ravenna\, OH 44266\, USA
SUMMARY:Special Board Meeting - Work Session
END:VEVENT
BEGIN:VEVENT
DTSTAMP:20260419T135641Z
UID:c17d90e3-8330-4944-b609-a95f2e479464
DTSTART:20260629T180000
DTEND:20260629T210000
DESCRIPTION:
LOCATION:
SUMMARY:Board Meeting
END:VEVENT
BEGIN:VEVENT
DTSTAMP:20260419T135641Z
UID:9f2c0b0e-620d-49e8-a55c-310277436976
DTSTART:20260727T180000
DTEND:20260727T210000
DESCRIPTION:
LOCATION:
SUMMARY:Board Meeting
END:VEVENT
BEGIN:VEVENT
DTSTAMP:20260419T135641Z
UID:dd3d766b-0ceb-4d53-bb66-e785de6db2e5
DTSTART:20260817T180000
DTEND:20260817T210000
DESCRIPTION:
LOCATION:
SUMMARY:Board Meeting
END:VEVENT
BEGIN:VEVENT
DTSTAMP:20260419T135641Z
UID:8a6ba0c8-9fe3-4c10-a6b2-4774c03bbb9f
DTSTART:20260921T180000
DTEND:20260921T210000
DESCRIPTION:
LOCATION:
SUMMARY:Board Meeting
END:VEVENT
BEGIN:VEVENT
DTSTAMP:20260419T135641Z
UID:b11b25c7-aa1f-4fbd-9ebc-3a84276faa55
DTSTART:20261012T180000
DTEND:20261012T210000
DESCRIPTION:
LOCATION:
SUMMARY:Board Meeting
END:VEVENT
BEGIN:VEVENT
DTSTAMP:20260419T135641Z
UID:52eac7ed-4779-471f-9d33-cb440243a451
DTSTART:20261109T180000
DTEND:20261109T210000
DESCRIPTION:
LOCATION:
SUMMARY:Board Meeting
END:VEVENT
BEGIN:VEVENT
DTSTAMP:20260419T135641Z
UID:85ebe783-749d-4752-89ad-c6f25e91f84c
DTSTART:20261214T180000
DTEND:20261214T210000
DESCRIPTION:
LOCATION:
SUMMARY:Board Meeting
END:VEVENT
END:VCALENDAR
