BEGIN:VCALENDAR
VERSION:2.0
PRODID:icalendar-ruby
CALSCALE:GREGORIAN
BEGIN:VTIMEZONE
TZID:America/New_York
BEGIN:DAYLIGHT
DTSTART:20260308T030000
TZOFFSETFROM:-0500
TZOFFSETTO:-0400
RRULE:FREQ=YEARLY;BYDAY=2SU;BYMONTH=3
TZNAME:EDT
END:DAYLIGHT
BEGIN:STANDARD
DTSTART:20261101T010000
TZOFFSETFROM:-0400
TZOFFSETTO:-0500
RRULE:FREQ=YEARLY;BYDAY=1SU;BYMONTH=11
TZNAME:EST
END:STANDARD
END:VTIMEZONE
BEGIN:VEVENT
DTSTAMP:20260424T163132Z
UID:f9bc02a0-127b-4fe4-81c2-a97c4cb722e2
DTSTART:20260428T193000
DTEND:20260428T213000
DESCRIPTION:BOE meetings begin at 7:30 p.m. The ending time may be earlier 
 or later than the stated time.<br><br>Meeting Information: <a href="https
 ://www.google.com/url?q=https://www.montville.net/page/board-meeting-infor
 mation&amp\;sa=D&amp\;source=calendar&amp\;ust=1768322916304859&amp\;usg=A
 OvVaw1VBzO67yIh7L-JjFUJmauo" target="_blank"><u>https://www.montville.net/
 page/board-meeting-information</u></a>
LOCATION:Montville Township High School\, 100 Horseneck Rd\, Montville\, NJ
  07045\, USA
SUMMARY:BOE Meeting
END:VEVENT
BEGIN:VEVENT
DTSTAMP:20260424T163132Z
UID:59725224-996c-473f-b121-a879c890cfb9
DTSTART:20260512T193000
DTEND:20260512T213000
DESCRIPTION:BOE meetings begin at 7:30 p.m. The ending time may be earlier 
 or later than the stated time.<br><br>Meeting Information: <a href="https
 ://www.google.com/url?q=https://www.montville.net/page/board-meeting-infor
 mation&amp\;sa=D&amp\;source=calendar&amp\;ust=1768322916304859&amp\;usg=A
 OvVaw1VBzO67yIh7L-JjFUJmauo" target="_blank"><u>https://www.montville.net/
 page/board-meeting-information</u></a>
LOCATION:Montville Township High School\, 100 Horseneck Rd\, Montville\, NJ
  07045\, USA
SUMMARY:BOE Meeting
END:VEVENT
BEGIN:VEVENT
DTSTAMP:20260424T163132Z
UID:5c4494ff-63f9-42eb-bf73-49e8539b02ae
DTSTART:20260522T070000
DTEND:20260522T130000
DESCRIPTION:
LOCATION:
SUMMARY:Early Dismissal PRE K to GRADE 12 Students & Faculty
END:VEVENT
BEGIN:VEVENT
DTSTAMP:20260424T163132Z
UID:56deb1b7-5344-4373-91c7-c677a2848277
DTSTART:20260525T070000
DTEND:20260525T153000
DESCRIPTION:
LOCATION:
SUMMARY:SCHOOLS CLOSED - Memorial Day (HW-Free break)
END:VEVENT
BEGIN:VEVENT
DTSTAMP:20260424T163132Z
UID:2e7c1b40-4027-421b-8776-c13b7776f679
DTSTART;VALUE=DATE:20260528
DTEND;VALUE=DATE:20260529
DESCRIPTION:
LOCATION:
SUMMARY:RAIN DATE-Kdg Field Trip
END:VEVENT
BEGIN:VEVENT
DTSTAMP:20260424T163132Z
UID:24b1ef35-cfcd-44cc-a4b8-b58bf0a8730e
DTSTART:20260529T170000
DTEND:20260529T200000
DESCRIPTION:
LOCATION:
SUMMARY:Fun Fair
END:VEVENT
BEGIN:VEVENT
DTSTAMP:20260424T163132Z
UID:23434795-2334-451b-b57c-30a1d1ab109d
DTSTART:20260609T193000
DTEND:20260609T213000
DESCRIPTION:BOE meetings begin at 7:30 p.m. The ending time may be earlier 
 or later than the stated time.<br><br>Meeting Information: <a href="https
 ://www.google.com/url?q=https://www.montville.net/page/board-meeting-infor
 mation&amp\;sa=D&amp\;source=calendar&amp\;ust=1768322916304859&amp\;usg=A
 OvVaw1VBzO67yIh7L-JjFUJmauo" target="_blank"><u>https://www.montville.net/
 page/board-meeting-information</u></a>
LOCATION:Montville Township High School\, 100 Horseneck Rd\, Montville\, NJ
  07045\, USA
SUMMARY:BOE Meeting
END:VEVENT
BEGIN:VEVENT
DTSTAMP:20260424T163132Z
UID:58e9113a-257e-495f-9e1f-7b22c326f7d2
DTSTART:20260616T070000
DTEND:20260616T130000
DESCRIPTION:
LOCATION:
SUMMARY:Early Dismissal PRE K to GRADE 12 Students
END:VEVENT
BEGIN:VEVENT
DTSTAMP:20260424T163132Z
UID:8fb5e1d1-a1f8-4062-b978-e34abf2b8de7
DTSTART:20260617T070000
DTEND:20260617T133000
DESCRIPTION:
LOCATION:
SUMMARY:Last Day - Early Dismissal PRE K to GRADE 12 Students & Faculty
END:VEVENT
BEGIN:VEVENT
DTSTAMP:20260424T163132Z
UID:6b504e93-975f-4a9f-82b6-b70ab799d19f
DTSTART:20260617T150000
DTEND:20260617T153000
DESCRIPTION:
LOCATION:
SUMMARY:Elementary Report Cards Available in Genesis
END:VEVENT
BEGIN:VEVENT
DTSTAMP:20260424T163132Z
UID:d2e5daa9-f9db-4071-9d6f-77856aa4a69f
DTSTART:20260618T080000
DTEND:20260618T090000
DESCRIPTION:
LOCATION:
SUMMARY:IEP Progress Reports Available in Parent Portal
END:VEVENT
BEGIN:VEVENT
DTSTAMP:20260424T163132Z
UID:bc3702e5-249d-4b04-951d-3e58f552f95a
DTSTART:20260704T070000
DTEND:20260704T153000
DESCRIPTION:
LOCATION:
SUMMARY:DISTRICT CLOSED - Independence Day
END:VEVENT
BEGIN:VEVENT
DTSTAMP:20260424T163132Z
UID:00d41a32-877d-4f3c-b341-cf2b06643f78
DTSTART:20260721T193000
DTEND:20260721T213000
DESCRIPTION:BOE meetings begin at 7:30 p.m. The ending time may be earlier 
 or later than the stated time.<br><br>Meeting Information: <a href="https
 ://www.google.com/url?q=https://www.montville.net/page/board-meeting-infor
 mation&amp\;sa=D&amp\;source=calendar&amp\;ust=1768322916304859&amp\;usg=A
 OvVaw1VBzO67yIh7L-JjFUJmauo" target="_blank"><u>https://www.montville.net/
 page/board-meeting-information</u></a>
LOCATION:Montville Township High School\, 100 Horseneck Rd\, Montville\, NJ
  07045\, USA
SUMMARY:BOE Meeting
END:VEVENT
BEGIN:VEVENT
DTSTAMP:20260424T163132Z
UID:30737812-2796-4ffa-bdb2-b70580996f59
DTSTART:20260818T193000
DTEND:20260818T213000
DESCRIPTION:BOE meetings begin at 7:30 p.m. The ending time may be earlier 
 or later than the stated time.<br><br>Meeting Information: <a href="https
 ://www.google.com/url?q=https://www.montville.net/page/board-meeting-infor
 mation&amp\;sa=D&amp\;source=calendar&amp\;ust=1768322916304859&amp\;usg=A
 OvVaw1VBzO67yIh7L-JjFUJmauo" target="_blank"><u>https://www.montville.net/
 page/board-meeting-information</u></a>
LOCATION:Montville Township High School\, 100 Horseneck Rd\, Montville\, NJ
  07045\, USA
SUMMARY:BOE Meeting
END:VEVENT
BEGIN:VEVENT
DTSTAMP:20260424T163132Z
UID:581692c2-9f20-4d8a-8939-4c4a8761b68f
DTSTART:20260915T193000
DTEND:20260915T213000
DESCRIPTION:BOE meetings begin at 7:30 p.m. The ending time may be earlier 
 or later than the stated time.<br><br>Meeting Information: <a href="https
 ://www.google.com/url?q=https://www.montville.net/page/board-meeting-infor
 mation&amp\;sa=D&amp\;source=calendar&amp\;ust=1768322916304859&amp\;usg=A
 OvVaw1VBzO67yIh7L-JjFUJmauo" target="_blank"><u>https://www.montville.net/
 page/board-meeting-information</u></a>
LOCATION:Montville Township High School\, 100 Horseneck Rd\, Montville\, NJ
  07045\, USA
SUMMARY:BOE Meeting
END:VEVENT
BEGIN:VEVENT
DTSTAMP:20260424T163132Z
UID:c8c6f1aa-4d23-41a8-882a-7020dfd60e89
DTSTART:20261027T193000
DTEND:20261027T213000
DESCRIPTION:BOE meetings begin at 7:30 p.m. The ending time may be earlier 
 or later than the stated time.<br><br>Meeting Information: <a href="https
 ://www.google.com/url?q=https://www.montville.net/page/board-meeting-infor
 mation&amp\;sa=D&amp\;source=calendar&amp\;ust=1768322916304859&amp\;usg=A
 OvVaw1VBzO67yIh7L-JjFUJmauo" target="_blank"><u>https://www.montville.net/
 page/board-meeting-information</u></a>
LOCATION:Montville Township High School\, 100 Horseneck Rd\, Montville\, NJ
  07045\, USA
SUMMARY:BOE Meeting
END:VEVENT
BEGIN:VEVENT
DTSTAMP:20260424T163132Z
UID:2d9b4f1b-94e8-45aa-a4f5-c943c94e74e2
DTSTART:20261117T193000
DTEND:20261117T213000
DESCRIPTION:BOE meetings begin at 7:30 p.m. The ending time may be earlier 
 or later than the stated time.<br><br>Meeting Information: <a href="https
 ://www.google.com/url?q=https://www.montville.net/page/board-meeting-infor
 mation&amp\;sa=D&amp\;source=calendar&amp\;ust=1768322916304859&amp\;usg=A
 OvVaw1VBzO67yIh7L-JjFUJmauo" target="_blank"><u>https://www.montville.net/
 page/board-meeting-information</u></a>
LOCATION:Montville Township High School\, 100 Horseneck Rd\, Montville\, NJ
  07045\, USA
SUMMARY:BOE Meeting
END:VEVENT
BEGIN:VEVENT
DTSTAMP:20260424T163132Z
UID:b5439477-0da6-4fbe-80f5-e43dc463f539
DTSTART:20261215T193000
DTEND:20261215T213000
DESCRIPTION:BOE meetings begin at 7:30 p.m. The ending time may be earlier 
 or later than the stated time.<br><br>Meeting Information: <a href="https
 ://www.google.com/url?q=https://www.montville.net/page/board-meeting-infor
 mation&amp\;sa=D&amp\;source=calendar&amp\;ust=1768322916304859&amp\;usg=A
 OvVaw1VBzO67yIh7L-JjFUJmauo" target="_blank"><u>https://www.montville.net/
 page/board-meeting-information</u></a>
LOCATION:Montville Township High School\, 100 Horseneck Rd\, Montville\, NJ
  07045\, USA
SUMMARY:BOE Meeting
END:VEVENT
BEGIN:VEVENT
DTSTAMP:20260424T163132Z
UID:b40fa1fa-c6ee-4a37-9d7f-df5a61942a2d
DTSTART:20270105T190000
DTEND:20270105T210000
DESCRIPTION:This meeting begins at 7:00 PM\, the end time may vary dependin
 g upon the meeting length.<br><br>Meeting Information: <a href="https://w
 ww.google.com/url?q=https://www.montville.net/page/board-meeting-informati
 on&amp\;sa=D&amp\;source=calendar&amp\;ust=1768323571256869&amp\;usg=AOvVa
 w32aJMD26d3nU_vNNjRuqtR" target="_blank"><u>https://www.montville.net/page
 /board-meeting-information</u></a>
LOCATION:Montville Township High School\,  Media Center\, 100 Horseneck Rd\
 , Montville\, NJ 07045\, USA
SUMMARY:BOE Annual Organization Meeting
END:VEVENT
BEGIN:VEVENT
DTSTAMP:20260424T163132Z
UID:9933e645-40cd-4b12-b354-d96c83a2604d
DTSTART:20270704T070000
DTEND:20270704T153000
DESCRIPTION:
LOCATION:
SUMMARY:DISTRICT CLOSED - Independence Day
END:VEVENT
BEGIN:VEVENT
DTSTAMP:20260424T163132Z
UID:b3736a91-19b3-49cf-9895-f3d887e05685
DTSTART:20280704T070000
DTEND:20280704T153000
DESCRIPTION:
LOCATION:
SUMMARY:DISTRICT CLOSED - Independence Day
END:VEVENT
BEGIN:VEVENT
DTSTAMP:20260424T163132Z
UID:77cfcbde-674e-4353-858a-c4ac784f2326
DTSTART:20290704T070000
DTEND:20290704T153000
DESCRIPTION:
LOCATION:
SUMMARY:DISTRICT CLOSED - Independence Day
END:VEVENT
BEGIN:VEVENT
DTSTAMP:20260424T163132Z
UID:1b133e29-d168-44af-98b4-4fb0e831b472
DTSTART:20300704T070000
DTEND:20300704T153000
DESCRIPTION:
LOCATION:
SUMMARY:DISTRICT CLOSED - Independence Day
END:VEVENT
BEGIN:VEVENT
DTSTAMP:20260424T163132Z
UID:5015ce54-17a0-4967-938b-b5afa1d8ee0c
DTSTART:20310704T070000
DTEND:20310704T153000
DESCRIPTION:
LOCATION:
SUMMARY:DISTRICT CLOSED - Independence Day
END:VEVENT
BEGIN:VEVENT
DTSTAMP:20260424T163132Z
UID:93c532c4-01a1-4433-8f8f-3cc48aaf5f95
DTSTART:20320704T070000
DTEND:20320704T153000
DESCRIPTION:
LOCATION:
SUMMARY:DISTRICT CLOSED - Independence Day
END:VEVENT
BEGIN:VEVENT
DTSTAMP:20260424T163132Z
UID:eac8a15c-a30e-4dc0-8093-3ce569757819
DTSTART:20330704T070000
DTEND:20330704T153000
DESCRIPTION:
LOCATION:
SUMMARY:DISTRICT CLOSED - Independence Day
END:VEVENT
BEGIN:VEVENT
DTSTAMP:20260424T163132Z
UID:b296b016-d4ea-41ef-a313-171d9e29d279
DTSTART:20340704T070000
DTEND:20340704T153000
DESCRIPTION:
LOCATION:
SUMMARY:DISTRICT CLOSED - Independence Day
END:VEVENT
BEGIN:VEVENT
DTSTAMP:20260424T163132Z
UID:b95bb6e3-19c3-47fa-87f0-b2fe0257896e
DTSTART:20350704T070000
DTEND:20350704T153000
DESCRIPTION:
LOCATION:
SUMMARY:DISTRICT CLOSED - Independence Day
END:VEVENT
BEGIN:VEVENT
DTSTAMP:20260424T163132Z
UID:45729966-29ff-4777-906f-8142c5cdf108
DTSTART:20360704T070000
DTEND:20360704T153000
DESCRIPTION:
LOCATION:
SUMMARY:DISTRICT CLOSED - Independence Day
END:VEVENT
BEGIN:VEVENT
DTSTAMP:20260424T163132Z
UID:9f02932b-b634-4e87-886b-fe9df5fe0b49
DTSTART:20370704T070000
DTEND:20370704T153000
DESCRIPTION:
LOCATION:
SUMMARY:DISTRICT CLOSED - Independence Day
END:VEVENT
BEGIN:VEVENT
DTSTAMP:20260424T163132Z
UID:9e218544-99a7-4f32-8df6-3a69474d0f75
DTSTART:20380704T070000
DTEND:20380704T153000
DESCRIPTION:
LOCATION:
SUMMARY:DISTRICT CLOSED - Independence Day
END:VEVENT
BEGIN:VEVENT
DTSTAMP:20260424T163132Z
UID:3370f425-c870-4c4c-8154-5fa97149e2fd
DTSTART:20390704T070000
DTEND:20390704T153000
DESCRIPTION:
LOCATION:
SUMMARY:DISTRICT CLOSED - Independence Day
END:VEVENT
BEGIN:VEVENT
DTSTAMP:20260424T163132Z
UID:20889cc3-d497-41b9-8417-11e245dc24ec
DTSTART:20400704T070000
DTEND:20400704T153000
DESCRIPTION:
LOCATION:
SUMMARY:DISTRICT CLOSED - Independence Day
END:VEVENT
BEGIN:VEVENT
DTSTAMP:20260424T163132Z
UID:47dfc650-73a9-44f0-a48e-da82b1f3c8ae
DTSTART:20410704T070000
DTEND:20410704T153000
DESCRIPTION:
LOCATION:
SUMMARY:DISTRICT CLOSED - Independence Day
END:VEVENT
BEGIN:VEVENT
DTSTAMP:20260424T163132Z
UID:98eb7223-9b8d-4780-8711-0d786f163519
DTSTART:20420704T070000
DTEND:20420704T153000
DESCRIPTION:
LOCATION:
SUMMARY:DISTRICT CLOSED - Independence Day
END:VEVENT
BEGIN:VEVENT
DTSTAMP:20260424T163132Z
UID:a5971fed-942c-445b-90b9-50935d2d4660
DTSTART:20430704T070000
DTEND:20430704T153000
DESCRIPTION:
LOCATION:
SUMMARY:DISTRICT CLOSED - Independence Day
END:VEVENT
BEGIN:VEVENT
DTSTAMP:20260424T163132Z
UID:eab9b31e-353e-489c-b095-16370c9e4bcf
DTSTART:20440704T070000
DTEND:20440704T153000
DESCRIPTION:
LOCATION:
SUMMARY:DISTRICT CLOSED - Independence Day
END:VEVENT
BEGIN:VEVENT
DTSTAMP:20260424T163132Z
UID:e35e33ab-d7ad-4cf4-88a2-d9cf65293f02
DTSTART:20450704T070000
DTEND:20450704T153000
DESCRIPTION:
LOCATION:
SUMMARY:DISTRICT CLOSED - Independence Day
END:VEVENT
BEGIN:VEVENT
DTSTAMP:20260424T163132Z
UID:71cb576a-60d3-42ac-8490-cc07cd10a094
DTSTART:20460704T070000
DTEND:20460704T153000
DESCRIPTION:
LOCATION:
SUMMARY:DISTRICT CLOSED - Independence Day
END:VEVENT
BEGIN:VEVENT
DTSTAMP:20260424T163132Z
UID:4ddfd14b-f96f-431b-b84f-d42df94e4ed9
DTSTART:20470704T070000
DTEND:20470704T153000
DESCRIPTION:
LOCATION:
SUMMARY:DISTRICT CLOSED - Independence Day
END:VEVENT
BEGIN:VEVENT
DTSTAMP:20260424T163132Z
UID:b2a170c3-982e-47b1-aedc-6cc1ae34783d
DTSTART:20480704T070000
DTEND:20480704T153000
DESCRIPTION:
LOCATION:
SUMMARY:DISTRICT CLOSED - Independence Day
END:VEVENT
BEGIN:VEVENT
DTSTAMP:20260424T163132Z
UID:fa4b085a-8063-4975-a984-68a84c9810d6
DTSTART:20490704T070000
DTEND:20490704T153000
DESCRIPTION:
LOCATION:
SUMMARY:DISTRICT CLOSED - Independence Day
END:VEVENT
BEGIN:VEVENT
DTSTAMP:20260424T163132Z
UID:c509fdb0-0ae3-4d81-abef-5b4bd5a366fc
DTSTART:20500704T070000
DTEND:20500704T153000
DESCRIPTION:
LOCATION:
SUMMARY:DISTRICT CLOSED - Independence Day
END:VEVENT
BEGIN:VEVENT
DTSTAMP:20260424T163132Z
UID:9cc73a16-d08e-46ae-8fd5-438e8c9db689
DTSTART:20510704T070000
DTEND:20510704T153000
DESCRIPTION:
LOCATION:
SUMMARY:DISTRICT CLOSED - Independence Day
END:VEVENT
BEGIN:VEVENT
DTSTAMP:20260424T163132Z
UID:80f65844-0d3d-4d71-a3ef-806c32e3842f
DTSTART:20520704T070000
DTEND:20520704T153000
DESCRIPTION:
LOCATION:
SUMMARY:DISTRICT CLOSED - Independence Day
END:VEVENT
BEGIN:VEVENT
DTSTAMP:20260424T163132Z
UID:82cb6207-1b0c-4b2a-aa6c-40fed1b89415
DTSTART:20530704T070000
DTEND:20530704T153000
DESCRIPTION:
LOCATION:
SUMMARY:DISTRICT CLOSED - Independence Day
END:VEVENT
BEGIN:VEVENT
DTSTAMP:20260424T163132Z
UID:70ca8b66-2cb3-43e5-977e-1488335e0c79
DTSTART:20540704T070000
DTEND:20540704T153000
DESCRIPTION:
LOCATION:
SUMMARY:DISTRICT CLOSED - Independence Day
END:VEVENT
BEGIN:VEVENT
DTSTAMP:20260424T163132Z
UID:93ab0a20-d468-47d8-a6bc-c99bbead49b8
DTSTART:20550704T070000
DTEND:20550704T153000
DESCRIPTION:
LOCATION:
SUMMARY:DISTRICT CLOSED - Independence Day
END:VEVENT
BEGIN:VEVENT
DTSTAMP:20260424T163132Z
UID:44dc356c-fd52-4c50-8789-ce6f0964f511
DTSTART:20560704T070000
DTEND:20560704T153000
DESCRIPTION:
LOCATION:
SUMMARY:DISTRICT CLOSED - Independence Day
END:VEVENT
BEGIN:VEVENT
DTSTAMP:20260424T163132Z
UID:59746682-5705-4edf-a888-7f34dd5ab829
DTSTART:20570704T070000
DTEND:20570704T153000
DESCRIPTION:
LOCATION:
SUMMARY:DISTRICT CLOSED - Independence Day
END:VEVENT
BEGIN:VEVENT
DTSTAMP:20260424T163132Z
UID:8cc6c2e5-a7d4-45ab-8769-a10eab0bf4e9
DTSTART:20580704T070000
DTEND:20580704T153000
DESCRIPTION:
LOCATION:
SUMMARY:DISTRICT CLOSED - Independence Day
END:VEVENT
BEGIN:VEVENT
DTSTAMP:20260424T163132Z
UID:fffe0f02-7f7e-4564-a11d-32c80400d377
DTSTART:20590704T070000
DTEND:20590704T153000
DESCRIPTION:
LOCATION:
SUMMARY:DISTRICT CLOSED - Independence Day
END:VEVENT
BEGIN:VEVENT
DTSTAMP:20260424T163132Z
UID:4a85e2da-c6ca-49f3-87fc-b367d4f513d6
DTSTART:20600704T070000
DTEND:20600704T153000
DESCRIPTION:
LOCATION:
SUMMARY:DISTRICT CLOSED - Independence Day
END:VEVENT
BEGIN:VEVENT
DTSTAMP:20260424T163132Z
UID:050280b0-afab-4fd2-9f9a-d0ec7320b21e
DTSTART:20610704T070000
DTEND:20610704T153000
DESCRIPTION:
LOCATION:
SUMMARY:DISTRICT CLOSED - Independence Day
END:VEVENT
BEGIN:VEVENT
DTSTAMP:20260424T163132Z
UID:c0c02f43-38b0-40ed-9309-35ec187443b4
DTSTART:20620704T070000
DTEND:20620704T153000
DESCRIPTION:
LOCATION:
SUMMARY:DISTRICT CLOSED - Independence Day
END:VEVENT
BEGIN:VEVENT
DTSTAMP:20260424T163132Z
UID:b4954733-bddd-4040-b012-89f9aecd64ef
DTSTART:20630704T070000
DTEND:20630704T153000
DESCRIPTION:
LOCATION:
SUMMARY:DISTRICT CLOSED - Independence Day
END:VEVENT
BEGIN:VEVENT
DTSTAMP:20260424T163132Z
UID:94ff71ce-171d-49ff-85a5-8cd6b4ff50d5
DTSTART:20640704T070000
DTEND:20640704T153000
DESCRIPTION:
LOCATION:
SUMMARY:DISTRICT CLOSED - Independence Day
END:VEVENT
BEGIN:VEVENT
DTSTAMP:20260424T163132Z
UID:6cda1d26-814b-42aa-9e85-dffe1244538c
DTSTART:20650704T070000
DTEND:20650704T153000
DESCRIPTION:
LOCATION:
SUMMARY:DISTRICT CLOSED - Independence Day
END:VEVENT
BEGIN:VEVENT
DTSTAMP:20260424T163132Z
UID:f1b33378-d6b0-4d9e-9d41-98f035589085
DTSTART:20660704T070000
DTEND:20660704T153000
DESCRIPTION:
LOCATION:
SUMMARY:DISTRICT CLOSED - Independence Day
END:VEVENT
BEGIN:VEVENT
DTSTAMP:20260424T163132Z
UID:698cd373-0040-4e5c-a021-46f1d4413bf5
DTSTART:20670704T070000
DTEND:20670704T153000
DESCRIPTION:
LOCATION:
SUMMARY:DISTRICT CLOSED - Independence Day
END:VEVENT
BEGIN:VEVENT
DTSTAMP:20260424T163132Z
UID:bcf2d695-94bb-4076-a879-87f1152307bd
DTSTART:20680704T070000
DTEND:20680704T153000
DESCRIPTION:
LOCATION:
SUMMARY:DISTRICT CLOSED - Independence Day
END:VEVENT
BEGIN:VEVENT
DTSTAMP:20260424T163132Z
UID:8b3f2c67-91fa-47ec-9671-f8229d5e9722
DTSTART:20690704T070000
DTEND:20690704T153000
DESCRIPTION:
LOCATION:
SUMMARY:DISTRICT CLOSED - Independence Day
END:VEVENT
BEGIN:VEVENT
DTSTAMP:20260424T163132Z
UID:1c564698-2a47-4461-bac8-e97e748ca9cb
DTSTART:20700704T070000
DTEND:20700704T153000
DESCRIPTION:
LOCATION:
SUMMARY:DISTRICT CLOSED - Independence Day
END:VEVENT
BEGIN:VEVENT
DTSTAMP:20260424T163132Z
UID:ba559d15-f7ee-4764-ade9-9b0fed44ef5d
DTSTART:20710704T070000
DTEND:20710704T153000
DESCRIPTION:
LOCATION:
SUMMARY:DISTRICT CLOSED - Independence Day
END:VEVENT
BEGIN:VEVENT
DTSTAMP:20260424T163132Z
UID:3b7f18bf-f7f7-428e-9acd-61d24e13a2bf
DTSTART:20720704T070000
DTEND:20720704T153000
DESCRIPTION:
LOCATION:
SUMMARY:DISTRICT CLOSED - Independence Day
END:VEVENT
BEGIN:VEVENT
DTSTAMP:20260424T163132Z
UID:f1038bfe-43c7-4530-a957-358303972254
DTSTART:20730704T070000
DTEND:20730704T153000
DESCRIPTION:
LOCATION:
SUMMARY:DISTRICT CLOSED - Independence Day
END:VEVENT
BEGIN:VEVENT
DTSTAMP:20260424T163132Z
UID:aafaf522-294f-4909-a761-46801ac0a931
DTSTART:20740704T070000
DTEND:20740704T153000
DESCRIPTION:
LOCATION:
SUMMARY:DISTRICT CLOSED - Independence Day
END:VEVENT
BEGIN:VEVENT
DTSTAMP:20260424T163132Z
UID:edd63ef5-c9c1-41aa-a72e-00271de2ea5d
DTSTART:20750704T070000
DTEND:20750704T153000
DESCRIPTION:
LOCATION:
SUMMARY:DISTRICT CLOSED - Independence Day
END:VEVENT
BEGIN:VEVENT
DTSTAMP:20260424T163132Z
UID:cf6236b8-1977-4651-ac58-6c5e0713fe9a
DTSTART:20760704T070000
DTEND:20760704T153000
DESCRIPTION:
LOCATION:
SUMMARY:DISTRICT CLOSED - Independence Day
END:VEVENT
BEGIN:VEVENT
DTSTAMP:20260424T163132Z
UID:104a3977-6bc6-44e9-b071-72cb8a074825
DTSTART:20770704T070000
DTEND:20770704T153000
DESCRIPTION:
LOCATION:
SUMMARY:DISTRICT CLOSED - Independence Day
END:VEVENT
BEGIN:VEVENT
DTSTAMP:20260424T163132Z
UID:e32328df-442c-4f0b-b70f-7f1572037de8
DTSTART:20780704T070000
DTEND:20780704T153000
DESCRIPTION:
LOCATION:
SUMMARY:DISTRICT CLOSED - Independence Day
END:VEVENT
BEGIN:VEVENT
DTSTAMP:20260424T163132Z
UID:9616d0bc-1b77-45d5-ad89-aae3eae5a5ad
DTSTART:20790704T070000
DTEND:20790704T153000
DESCRIPTION:
LOCATION:
SUMMARY:DISTRICT CLOSED - Independence Day
END:VEVENT
BEGIN:VEVENT
DTSTAMP:20260424T163132Z
UID:106d363e-0abe-4d93-b7a3-58f6a35eaef9
DTSTART:20800704T070000
DTEND:20800704T153000
DESCRIPTION:
LOCATION:
SUMMARY:DISTRICT CLOSED - Independence Day
END:VEVENT
BEGIN:VEVENT
DTSTAMP:20260424T163132Z
UID:5246a490-c618-46ec-940b-49dc3027a7d7
DTSTART:20810704T070000
DTEND:20810704T153000
DESCRIPTION:
LOCATION:
SUMMARY:DISTRICT CLOSED - Independence Day
END:VEVENT
BEGIN:VEVENT
DTSTAMP:20260424T163132Z
UID:d4e63dc6-98c9-4ed7-9a45-461a10b89b7f
DTSTART:20820704T070000
DTEND:20820704T153000
DESCRIPTION:
LOCATION:
SUMMARY:DISTRICT CLOSED - Independence Day
END:VEVENT
BEGIN:VEVENT
DTSTAMP:20260424T163132Z
UID:d6834a80-7116-48a8-9d44-f58cb991ab21
DTSTART:20830704T070000
DTEND:20830704T153000
DESCRIPTION:
LOCATION:
SUMMARY:DISTRICT CLOSED - Independence Day
END:VEVENT
BEGIN:VEVENT
DTSTAMP:20260424T163132Z
UID:bac96cc1-9220-42f2-b99a-6a46bad665eb
DTSTART:20840704T070000
DTEND:20840704T153000
DESCRIPTION:
LOCATION:
SUMMARY:DISTRICT CLOSED - Independence Day
END:VEVENT
BEGIN:VEVENT
DTSTAMP:20260424T163132Z
UID:339414ee-339a-4820-afec-2bc9f57125dd
DTSTART:20850704T070000
DTEND:20850704T153000
DESCRIPTION:
LOCATION:
SUMMARY:DISTRICT CLOSED - Independence Day
END:VEVENT
BEGIN:VEVENT
DTSTAMP:20260424T163132Z
UID:3788065a-cdec-43c7-97f2-299945659f9e
DTSTART:20860704T070000
DTEND:20860704T153000
DESCRIPTION:
LOCATION:
SUMMARY:DISTRICT CLOSED - Independence Day
END:VEVENT
BEGIN:VEVENT
DTSTAMP:20260424T163132Z
UID:143e9e12-7045-46a3-b933-f4bddc072df7
DTSTART:20870704T070000
DTEND:20870704T153000
DESCRIPTION:
LOCATION:
SUMMARY:DISTRICT CLOSED - Independence Day
END:VEVENT
BEGIN:VEVENT
DTSTAMP:20260424T163132Z
UID:e2cee91c-d992-4150-82b3-3a70f5cbc79b
DTSTART:20880704T070000
DTEND:20880704T153000
DESCRIPTION:
LOCATION:
SUMMARY:DISTRICT CLOSED - Independence Day
END:VEVENT
BEGIN:VEVENT
DTSTAMP:20260424T163132Z
UID:c19444ac-2d22-47ab-919a-51875a8ced50
DTSTART:20890704T070000
DTEND:20890704T153000
DESCRIPTION:
LOCATION:
SUMMARY:DISTRICT CLOSED - Independence Day
END:VEVENT
BEGIN:VEVENT
DTSTAMP:20260424T163132Z
UID:dc312cbf-889d-44ad-892e-946fe5ac7cfa
DTSTART:20900704T070000
DTEND:20900704T153000
DESCRIPTION:
LOCATION:
SUMMARY:DISTRICT CLOSED - Independence Day
END:VEVENT
BEGIN:VEVENT
DTSTAMP:20260424T163132Z
UID:50dcd9b0-552c-40fa-ad5f-03b803d83ee4
DTSTART:20910704T070000
DTEND:20910704T153000
DESCRIPTION:
LOCATION:
SUMMARY:DISTRICT CLOSED - Independence Day
END:VEVENT
BEGIN:VEVENT
DTSTAMP:20260424T163132Z
UID:07708dc3-3e99-410b-a8db-e54b036b6650
DTSTART:20920704T070000
DTEND:20920704T153000
DESCRIPTION:
LOCATION:
SUMMARY:DISTRICT CLOSED - Independence Day
END:VEVENT
BEGIN:VEVENT
DTSTAMP:20260424T163132Z
UID:71c1f4df-246b-46f4-a650-c34c8a136eef
DTSTART:20930704T070000
DTEND:20930704T153000
DESCRIPTION:
LOCATION:
SUMMARY:DISTRICT CLOSED - Independence Day
END:VEVENT
BEGIN:VEVENT
DTSTAMP:20260424T163132Z
UID:46e0ab6c-c984-4df2-82b4-9056e2e78aa7
DTSTART:20940704T070000
DTEND:20940704T153000
DESCRIPTION:
LOCATION:
SUMMARY:DISTRICT CLOSED - Independence Day
END:VEVENT
BEGIN:VEVENT
DTSTAMP:20260424T163132Z
UID:76f8fc20-d3e5-49bc-9954-9dec8a2f4f0f
DTSTART:20950704T070000
DTEND:20950704T153000
DESCRIPTION:
LOCATION:
SUMMARY:DISTRICT CLOSED - Independence Day
END:VEVENT
BEGIN:VEVENT
DTSTAMP:20260424T163132Z
UID:e48056b0-19c7-4869-80aa-5f683ad6f6e0
DTSTART:20960704T070000
DTEND:20960704T153000
DESCRIPTION:
LOCATION:
SUMMARY:DISTRICT CLOSED - Independence Day
END:VEVENT
BEGIN:VEVENT
DTSTAMP:20260424T163132Z
UID:36fe54dc-afa7-41ab-a4bd-7be2a98189d9
DTSTART:20970704T070000
DTEND:20970704T153000
DESCRIPTION:
LOCATION:
SUMMARY:DISTRICT CLOSED - Independence Day
END:VEVENT
BEGIN:VEVENT
DTSTAMP:20260424T163132Z
UID:4237591c-73b2-4091-8b53-fca478c6a653
DTSTART:20980704T070000
DTEND:20980704T153000
DESCRIPTION:
LOCATION:
SUMMARY:DISTRICT CLOSED - Independence Day
END:VEVENT
BEGIN:VEVENT
DTSTAMP:20260424T163132Z
UID:a6cc8d92-45e4-4f35-ab97-b53ce18a3e8f
DTSTART:20990704T070000
DTEND:20990704T153000
DESCRIPTION:
LOCATION:
SUMMARY:DISTRICT CLOSED - Independence Day
END:VEVENT
END:VCALENDAR
