BEGIN:VCALENDAR
VERSION:2.0
PRODID:icalendar-ruby
CALSCALE:GREGORIAN
BEGIN:VTIMEZONE
TZID:America/Chicago
BEGIN:DAYLIGHT
DTSTART:20260308T030000
TZOFFSETFROM:-0600
TZOFFSETTO:-0500
RRULE:FREQ=YEARLY;BYDAY=2SU;BYMONTH=3
TZNAME:CDT
END:DAYLIGHT
BEGIN:STANDARD
DTSTART:20261101T010000
TZOFFSETFROM:-0500
TZOFFSETTO:-0600
RRULE:FREQ=YEARLY;BYDAY=1SU;BYMONTH=11
TZNAME:CST
END:STANDARD
END:VTIMEZONE
BEGIN:VEVENT
DTSTAMP:20260422T160715Z
UID:c0fceba5-d748-4415-9621-8ba254bca7b0
DTSTART;VALUE=DATE:20260424
DTEND;VALUE=DATE:20260425
DESCRIPTION:
LOCATION:
SUMMARY:Fish Fry - No School
END:VEVENT
BEGIN:VEVENT
DTSTAMP:20260422T160715Z
UID:0f555ebd-8a7e-40d2-a8ff-78599b86cc7c
DTSTART;VALUE=DATE:20260505
DTEND;VALUE=DATE:20260506
DESCRIPTION:
LOCATION:
SUMMARY:Professional Development Day - No School
END:VEVENT
BEGIN:VEVENT
DTSTAMP:20260422T160715Z
UID:331bfd41-3f6a-4cec-a2a2-d86ede16d10a
DTSTART:20260507T180000
DTEND:20260507T190000
DESCRIPTION:
LOCATION:
SUMMARY:3rd-5th Grade Strings Concert at Maplewood Baptist Church
END:VEVENT
BEGIN:VEVENT
DTSTAMP:20260422T160715Z
UID:fd7abc8f-49c8-4fe1-85c1-5777dc0cac17
DTSTART;VALUE=DATE:20260522
DTEND;VALUE=DATE:20260523
DESCRIPTION:
LOCATION:
SUMMARY:Last Day of School - Abbreviated Day for Students
END:VEVENT
END:VCALENDAR
