BEGIN:VCALENDAR
VERSION:2.0
PRODID:icalendar-ruby
CALSCALE:GREGORIAN
BEGIN:VTIMEZONE
TZID:America/New_York
BEGIN:DAYLIGHT
DTSTART:20260308T030000
TZOFFSETFROM:-0500
TZOFFSETTO:-0400
RRULE:FREQ=YEARLY;BYDAY=2SU;BYMONTH=3
TZNAME:EDT
END:DAYLIGHT
BEGIN:STANDARD
DTSTART:20261101T010000
TZOFFSETFROM:-0400
TZOFFSETTO:-0500
RRULE:FREQ=YEARLY;BYDAY=1SU;BYMONTH=11
TZNAME:EST
END:STANDARD
END:VTIMEZONE
BEGIN:VEVENT
DTSTAMP:20260419T162538Z
UID:30bf2d6b-7a96-4ef8-8c15-622cc87dd68e
DTSTART;VALUE=DATE:20260428
DTEND;VALUE=DATE:20260429
DESCRIPTION:
LOCATION:
SUMMARY:Quarter 4 Interim Reports Issued
END:VEVENT
BEGIN:VEVENT
DTSTAMP:20260419T162538Z
UID:dde05169-fa27-4bec-b400-712187aaa700
DTSTART;VALUE=DATE:20260430
DTEND;VALUE=DATE:20260501
DESCRIPTION:
LOCATION:
SUMMARY:Spring EOCEP - English 2 Writing
END:VEVENT
BEGIN:VEVENT
DTSTAMP:20260419T162538Z
UID:9e9fb61f-27a7-4746-b2dd-e8041cfd3f70
DTSTART;VALUE=DATE:20260507
DTEND;VALUE=DATE:20260508
DESCRIPTION:
LOCATION:
SUMMARY:Spring EOCEP - English 2 Reading
END:VEVENT
BEGIN:VEVENT
DTSTAMP:20260419T162538Z
UID:bff55416-92d4-47fe-b633-efc958f22660
DTSTART;VALUE=DATE:20260511
DTEND;VALUE=DATE:20260512
DESCRIPTION:
LOCATION:
SUMMARY:Spring EOCEP - US History
END:VEVENT
BEGIN:VEVENT
DTSTAMP:20260419T162538Z
UID:fbf1e5cc-0366-495e-8e85-592ab5106f60
DTSTART;VALUE=DATE:20260513
DTEND;VALUE=DATE:20260514
DESCRIPTION:
LOCATION:
SUMMARY:Spring EOCEP - Biology
END:VEVENT
BEGIN:VEVENT
DTSTAMP:20260419T162538Z
UID:a5f63284-64b5-470c-8072-8092305b1d84
DTSTART;VALUE=DATE:20260515
DTEND;VALUE=DATE:20260516
DESCRIPTION:
LOCATION:
SUMMARY:Spring EOCEP - Algebra
END:VEVENT
BEGIN:VEVENT
DTSTAMP:20260419T162538Z
UID:a6abb46c-50f9-45d9-83fa-2ca54dde2822
DTSTART;VALUE=DATE:20260518
DTEND;VALUE=DATE:20260529
DESCRIPTION:
LOCATION:
SUMMARY:Spring EOCEP - Make-up Testing dates
END:VEVENT
BEGIN:VEVENT
DTSTAMP:20260419T162538Z
UID:55dfa8ad-68c5-409f-8d8b-053d32e11dae
DTSTART:20260522T180000
DTEND:20260522T200000
DESCRIPTION:
LOCATION:
SUMMARY:CTE Completer Graduation 
END:VEVENT
BEGIN:VEVENT
DTSTAMP:20260419T162538Z
UID:5c7c0da3-c2eb-4839-bff9-56ed28d91457
DTSTART;VALUE=DATE:20260525
DTEND;VALUE=DATE:20260526
DESCRIPTION:
LOCATION:
SUMMARY:Memorial Day (All District Offices Closed)
END:VEVENT
BEGIN:VEVENT
DTSTAMP:20260419T162538Z
UID:a5d4c801-88d4-4256-b4a6-30da2c200761
DTSTART;VALUE=DATE:20260528
DTEND;VALUE=DATE:20260529
DESCRIPTION:
LOCATION:
SUMMARY:180th Day of School/End of 4th Quarter - Early Dismissal/Staff Deve
 lopment
END:VEVENT
BEGIN:VEVENT
DTSTAMP:20260419T162538Z
UID:34211c11-b505-40da-aff0-159b7806b7f0
DTSTART;VALUE=DATE:20260528
DTEND;VALUE=DATE:20260529
DESCRIPTION:
LOCATION:
SUMMARY:Last Day of School for Students
END:VEVENT
BEGIN:VEVENT
DTSTAMP:20260419T162538Z
UID:ff84010f-ef03-4cdc-9223-a3bbf4c85743
DTSTART;VALUE=DATE:20260529
DTEND;VALUE=DATE:20260530
DESCRIPTION:
LOCATION:
SUMMARY:In-Service Day for Staff/Last Day for 183 & 185-Day Employees
END:VEVENT
BEGIN:VEVENT
DTSTAMP:20260419T162538Z
UID:e723a94f-6279-462c-ba1f-d80a2e20c9d1
DTSTART:20260529T100000
DTEND:20260529T120000
DESCRIPTION:
LOCATION:
SUMMARY:East Clarendon Middle High School Graduation
END:VEVENT
BEGIN:VEVENT
DTSTAMP:20260419T162538Z
UID:5bd2ba03-4992-44f5-8848-4663a73a6bce
DTSTART:20260529T130000
DTEND:20260529T143000
DESCRIPTION:
LOCATION:
SUMMARY:Manning High School Graduation
END:VEVENT
BEGIN:VEVENT
DTSTAMP:20260419T162538Z
UID:111f1b71-588c-4ccc-bcdb-ab64e1947f5d
DTSTART:20260529T150000
DTEND:20260529T163000
DESCRIPTION:
LOCATION:
SUMMARY:Scott's Branch Middle High School Graduation
END:VEVENT
BEGIN:VEVENT
DTSTAMP:20260419T162538Z
UID:ab739684-7b55-4cb6-aeee-24ccc766ad9d
DTSTART;VALUE=DATE:20260602
DTEND;VALUE=DATE:20260603
DESCRIPTION:
LOCATION:
SUMMARY:Inclement Weather Day
END:VEVENT
BEGIN:VEVENT
DTSTAMP:20260419T162538Z
UID:9a2b9c16-fff3-44fd-9917-6d97e0afcd4b
DTSTART;VALUE=DATE:20260602
DTEND;VALUE=DATE:20260603
DESCRIPTION:
LOCATION:
SUMMARY:Last Day for 190 Day Employees
END:VEVENT
BEGIN:VEVENT
DTSTAMP:20260419T162538Z
UID:014a58ed-50dd-41a5-9d9e-ecfad154ecdb
DTSTART;VALUE=DATE:20260611
DTEND;VALUE=DATE:20260612
DESCRIPTION:
LOCATION:
SUMMARY:Last Day for 200 Day Employees
END:VEVENT
BEGIN:VEVENT
DTSTAMP:20260419T162538Z
UID:616c6f6d-7d73-4c1c-9849-9cd87e5b9099
DTSTART;VALUE=DATE:20260619
DTEND;VALUE=DATE:20260620
DESCRIPTION:
LOCATION:
SUMMARY:Juneteenth Holiday (All District Offices Closed)
END:VEVENT
BEGIN:VEVENT
DTSTAMP:20260419T162538Z
UID:e89ebcea-690c-45fb-b3fc-88df38dc8fa9
DTSTART;VALUE=DATE:20260622
DTEND;VALUE=DATE:20260623
DESCRIPTION:
LOCATION:
SUMMARY:Last Day for 210 Day Employees
END:VEVENT
BEGIN:VEVENT
DTSTAMP:20260419T162538Z
UID:3340cc23-562e-4865-a1ae-8a12da561389
DTSTART;VALUE=DATE:20260624
DTEND;VALUE=DATE:20260625
DESCRIPTION:
LOCATION:
SUMMARY:Last Day for 225 Day Employees
END:VEVENT
END:VCALENDAR
