BEGIN:VCALENDAR
VERSION:2.0
PRODID:icalendar-ruby
CALSCALE:GREGORIAN
BEGIN:VTIMEZONE
TZID:America/Chicago
BEGIN:DAYLIGHT
DTSTART:20260308T030000
TZOFFSETFROM:-0600
TZOFFSETTO:-0500
RRULE:FREQ=YEARLY;BYDAY=2SU;BYMONTH=3
TZNAME:CDT
END:DAYLIGHT
BEGIN:STANDARD
DTSTART:20261101T010000
TZOFFSETFROM:-0500
TZOFFSETTO:-0600
RRULE:FREQ=YEARLY;BYDAY=1SU;BYMONTH=11
TZNAME:CST
END:STANDARD
END:VTIMEZONE
BEGIN:VEVENT
DTSTAMP:20260421T230345Z
UID:233a77f4-a106-4508-b9d5-d4ab7a01ccea
DTSTART:20260421T143000
DTEND:20260421T161500
DESCRIPTION:
LOCATION:
SUMMARY:Cheer Tryouts
END:VEVENT
BEGIN:VEVENT
DTSTAMP:20260421T230345Z
UID:3f65489c-172e-484a-9a09-874b19a6c627
DTSTART:20260422T143000
DTEND:20260422T164500
DESCRIPTION:
LOCATION:
SUMMARY:Cheer Tryouts
END:VEVENT
BEGIN:VEVENT
DTSTAMP:20260421T230345Z
UID:801bab58-2783-4f3a-8853-e709de59947d
DTSTART;VALUE=DATE:20260427
DTEND;VALUE=DATE:20260428
DESCRIPTION:
LOCATION:
SUMMARY:6th/7th Grade State Testing Begins
END:VEVENT
BEGIN:VEVENT
DTSTAMP:20260421T230345Z
UID:0071e96e-8b45-48ea-add1-86fd687e5425
DTSTART:20260601T180000
DTEND:20260601T193000
DESCRIPTION:
LOCATION:Hefner Middle School\, 8400 N MacArthur Blvd\, Oklahoma City\, OK 
 73132\, USA
SUMMARY:Football Summer Pride
END:VEVENT
BEGIN:VEVENT
DTSTAMP:20260421T230345Z
UID:6b505f12-9c08-4088-8d3c-66da86956891
DTSTART:20260602T180000
DTEND:20260602T193000
DESCRIPTION:
LOCATION:Hefner Middle School\, 8400 N MacArthur Blvd\, Oklahoma City\, OK 
 73132\, USA
SUMMARY:Football Summer Pride
END:VEVENT
BEGIN:VEVENT
DTSTAMP:20260421T230345Z
UID:86fdc6d1-2972-454e-a190-cab89f20acbe
DTSTART:20260604T180000
DTEND:20260604T193000
DESCRIPTION:
LOCATION:Hefner Middle School\, 8400 N MacArthur Blvd\, Oklahoma City\, OK 
 73132\, USA
SUMMARY:Football Summer Pride
END:VEVENT
BEGIN:VEVENT
DTSTAMP:20260421T230345Z
UID:a005fa2a-8dea-4c7e-9ff4-7ca31b07a27b
DTSTART:20260608T180000
DTEND:20260608T193000
DESCRIPTION:
LOCATION:Hefner Middle School\, 8400 N MacArthur Blvd\, Oklahoma City\, OK 
 73132\, USA
SUMMARY:Football Summer Pride
END:VEVENT
BEGIN:VEVENT
DTSTAMP:20260421T230345Z
UID:99a2696d-1dc0-49f1-9825-92ae4323d27b
DTSTART:20260609T180000
DTEND:20260609T193000
DESCRIPTION:
LOCATION:Hefner Middle School\, 8400 N MacArthur Blvd\, Oklahoma City\, OK 
 73132\, USA
SUMMARY:Football Summer Pride
END:VEVENT
BEGIN:VEVENT
DTSTAMP:20260421T230345Z
UID:5aafbced-98d3-490e-8a2b-bf6ba28049b3
DTSTART:20260611T180000
DTEND:20260611T193000
DESCRIPTION:
LOCATION:Hefner Middle School\, 8400 N MacArthur Blvd\, Oklahoma City\, OK 
 73132\, USA
SUMMARY:Football Summer Pride
END:VEVENT
BEGIN:VEVENT
DTSTAMP:20260421T230345Z
UID:962a6fad-83bd-4a83-bc9c-588dc07ed7af
DTSTART:20260615T180000
DTEND:20260615T193000
DESCRIPTION:
LOCATION:Hefner Middle School\, 8400 N MacArthur Blvd\, Oklahoma City\, OK 
 73132\, USA
SUMMARY:Football Summer Pride
END:VEVENT
BEGIN:VEVENT
DTSTAMP:20260421T230345Z
UID:595fc0b8-f9b6-4a4d-90e7-1a27a65eed9d
DTSTART:20260616T180000
DTEND:20260616T193000
DESCRIPTION:
LOCATION:Hefner Middle School\, 8400 N MacArthur Blvd\, Oklahoma City\, OK 
 73132\, USA
SUMMARY:Football Summer Pride
END:VEVENT
BEGIN:VEVENT
DTSTAMP:20260421T230345Z
UID:6f59d964-f556-4bac-a523-e0e5f724f726
DTSTART:20260618T180000
DTEND:20260618T193000
DESCRIPTION:
LOCATION:Hefner Middle School\, 8400 N MacArthur Blvd\, Oklahoma City\, OK 
 73132\, USA
SUMMARY:Football Summer Pride
END:VEVENT
BEGIN:VEVENT
DTSTAMP:20260421T230345Z
UID:b35a1b3f-7c62-4f5d-b24c-9a7be5d8105e
DTSTART:20260622T180000
DTEND:20260622T193000
DESCRIPTION:
LOCATION:Hefner Middle School\, 8400 N MacArthur Blvd\, Oklahoma City\, OK 
 73132\, USA
SUMMARY:Football Summer Pride
END:VEVENT
BEGIN:VEVENT
DTSTAMP:20260421T230345Z
UID:e2a6ee80-60d0-48cc-bcea-a312ffa59683
DTSTART:20260623T180000
DTEND:20260623T193000
DESCRIPTION:
LOCATION:Hefner Middle School\, 8400 N MacArthur Blvd\, Oklahoma City\, OK 
 73132\, USA
SUMMARY:Football Summer Pride
END:VEVENT
BEGIN:VEVENT
DTSTAMP:20260421T230345Z
UID:ae9c69f0-7b00-47cd-88d7-05df47a83796
DTSTART:20260625T180000
DTEND:20260625T193000
DESCRIPTION:
LOCATION:Hefner Middle School\, 8400 N MacArthur Blvd\, Oklahoma City\, OK 
 73132\, USA
SUMMARY:Football Summer Pride
END:VEVENT
BEGIN:VEVENT
DTSTAMP:20260421T230345Z
UID:fb693905-160e-4520-91bb-22c606bd24fc
DTSTART:20260629T180000
DTEND:20260629T193000
DESCRIPTION:
LOCATION:Hefner Middle School\, 8400 N MacArthur Blvd\, Oklahoma City\, OK 
 73132\, USA
SUMMARY:Football Summer Pride
END:VEVENT
BEGIN:VEVENT
DTSTAMP:20260421T230345Z
UID:2b3d99c0-5b08-49fe-9065-84e1399791ce
DTSTART:20260630T180000
DTEND:20260630T193000
DESCRIPTION:
LOCATION:Hefner Middle School\, 8400 N MacArthur Blvd\, Oklahoma City\, OK 
 73132\, USA
SUMMARY:Football Summer Pride
END:VEVENT
BEGIN:VEVENT
DTSTAMP:20260421T230345Z
UID:6160fa3f-5735-40d4-b1c6-3cad3e224bcc
DTSTART:20260717T073000
DTEND:20260717T083000
DESCRIPTION:
LOCATION:Jennifer Semore\, M.D.\, 9417 N Council Rd Ste 200\, Oklahoma City
 \, OK 73162\, USA
SUMMARY:Kasandra Dr. Semore
END:VEVENT
BEGIN:VEVENT
DTSTAMP:20260421T230345Z
UID:83176e21-b641-4989-9c00-e1d2a96a4018
DTSTART:20260720T100000
DTEND:20260720T130000
DESCRIPTION:
LOCATION:
SUMMARY:Softball Tryouts
END:VEVENT
BEGIN:VEVENT
DTSTAMP:20260421T230345Z
UID:ed99fb01-a0a8-4733-a1d2-b11f23c5ae2e
DTSTART:20260721T100000
DTEND:20260721T130000
DESCRIPTION:
LOCATION:
SUMMARY:Softball Tryouts
END:VEVENT
BEGIN:VEVENT
DTSTAMP:20260421T230345Z
UID:59e10e81-03af-4b7b-a354-030470cff73d
DTSTART:20260722T100000
DTEND:20260722T130000
DESCRIPTION:
LOCATION:
SUMMARY:Softball Tryouts
END:VEVENT
BEGIN:VEVENT
DTSTAMP:20260421T230345Z
UID:49250224-e50b-4b48-98bb-b082916180ff
DTSTART:20260803T090000
DTEND:20260803T120000
DESCRIPTION:This camp is not required and the cost is $50
LOCATION:Hefner Middle School\, 8400 N MacArthur Blvd\, Oklahoma City\, OK 
 73132\, USA
SUMMARY:Volleyball Camp
END:VEVENT
BEGIN:VEVENT
DTSTAMP:20260421T230345Z
UID:e03c3d06-ed49-48a3-b34b-f4473f2f05d1
DTSTART:20260804T090000
DTEND:20260804T120000
DESCRIPTION:This camp is not required and the cost is $50
LOCATION:Hefner Middle School\, 8400 N MacArthur Blvd\, Oklahoma City\, OK 
 73132\, USA
SUMMARY:Volleyball Camp
END:VEVENT
BEGIN:VEVENT
DTSTAMP:20260421T230345Z
UID:987249db-982b-44c9-87f0-9e8a85f798ce
DTSTART:20260805T090000
DTEND:20260805T120000
DESCRIPTION:This camp is not required and the cost is $50
LOCATION:Hefner Middle School\, 8400 N MacArthur Blvd\, Oklahoma City\, OK 
 73132\, USA
SUMMARY:Volleyball Camp
END:VEVENT
BEGIN:VEVENT
DTSTAMP:20260421T230345Z
UID:da48dab6-76b7-4711-8fb5-3258a34e6035
DTSTART:20260806T150000
DTEND:20260806T163000
DESCRIPTION:
LOCATION:Hefner Middle School\, 8400 N MacArthur Blvd\, Oklahoma City\, OK 
 73132\, USA
SUMMARY:Volleyball Tryouts
END:VEVENT
BEGIN:VEVENT
DTSTAMP:20260421T230345Z
UID:3f343e53-66bf-465f-bfe5-0e8bf3d442ef
DTSTART:20260807T150000
DTEND:20260807T163000
DESCRIPTION:
LOCATION:Hefner Middle School\, 8400 N MacArthur Blvd\, Oklahoma City\, OK 
 73132\, USA
SUMMARY:Volleyball Tryouts
END:VEVENT
BEGIN:VEVENT
DTSTAMP:20260421T230345Z
UID:df202a79-fdc6-4d25-90b1-1ee62334c94b
DTSTART;VALUE=DATE:20260812
DTEND;VALUE=DATE:20260813
DESCRIPTION:
LOCATION:
SUMMARY:1st Day of School
END:VEVENT
BEGIN:VEVENT
DTSTAMP:20260421T230345Z
UID:36b17320-993a-43a7-9524-e466583ea59d
DTSTART;VALUE=DATE:20260812
DTEND;VALUE=DATE:20260813
DESCRIPTION:
LOCATION:Hefner Middle School\, 8400 N MacArthur Blvd\, Oklahoma City\, OK 
 73132\, USA
SUMMARY:Football Tryouts
END:VEVENT
BEGIN:VEVENT
DTSTAMP:20260421T230345Z
UID:c94902f3-27da-417c-b303-7c76d2673ca6
DTSTART;VALUE=DATE:20260813
DTEND;VALUE=DATE:20260814
DESCRIPTION:
LOCATION:Hefner Middle School\, 8400 N MacArthur Blvd\, Oklahoma City\, OK 
 73132\, USA
SUMMARY:Football Tryouts
END:VEVENT
BEGIN:VEVENT
DTSTAMP:20260421T230345Z
UID:cbef437c-72c7-444c-a462-9e2a9ad30ddc
DTSTART;VALUE=DATE:20260814
DTEND;VALUE=DATE:20260815
DESCRIPTION:
LOCATION:Hefner Middle School\, 8400 N MacArthur Blvd\, Oklahoma City\, OK 
 73132\, USA
SUMMARY:Football Tryouts
END:VEVENT
END:VCALENDAR
