BEGIN:VCALENDAR
VERSION:2.0
PRODID:icalendar-ruby
CALSCALE:GREGORIAN
BEGIN:VTIMEZONE
TZID:America/Chicago
BEGIN:DAYLIGHT
DTSTART:20260308T030000
TZOFFSETFROM:-0600
TZOFFSETTO:-0500
RRULE:FREQ=YEARLY;BYDAY=2SU;BYMONTH=3
TZNAME:CDT
END:DAYLIGHT
BEGIN:STANDARD
DTSTART:20261101T010000
TZOFFSETFROM:-0500
TZOFFSETTO:-0600
RRULE:FREQ=YEARLY;BYDAY=1SU;BYMONTH=11
TZNAME:CST
END:STANDARD
END:VTIMEZONE
BEGIN:VEVENT
DTSTAMP:20260425T203228Z
UID:209e834b-f0eb-4902-a73f-402d584daf79
DTSTART:20260425T183000
DTEND:20260425T200000
DESCRIPTION:
LOCATION:
SUMMARY:Theatre Performance
END:VEVENT
BEGIN:VEVENT
DTSTAMP:20260425T203228Z
UID:214159ac-9aea-4a8f-aca8-c9db7bf94b21
DTSTART:20260427T144500
DTEND:20260427T161500
DESCRIPTION:
LOCATION:
SUMMARY:Drama Club
END:VEVENT
BEGIN:VEVENT
DTSTAMP:20260425T203228Z
UID:d1535479-6852-4a21-bd7d-37903d45ece6
DTSTART:20260427T144500
DTEND:20260427T163000
DESCRIPTION:
LOCATION:
SUMMARY:Golf Practice
END:VEVENT
BEGIN:VEVENT
DTSTAMP:20260425T203228Z
UID:6e92ff30-5e12-4e54-bcef-f94ff0b0f788
DTSTART:20260427T170000
DTEND:20260427T200000
DESCRIPTION:
LOCATION:Putnam City West Highschool\, 8500 NW 23rd St\, Oklahoma City\, OK
  73127\, USA
SUMMARY:Soccer vs WOKS
END:VEVENT
BEGIN:VEVENT
DTSTAMP:20260425T203228Z
UID:1a47373a-9e71-424a-99fa-4e3745fda1dc
DTSTART:20260428T143000
DTEND:20260428T153000
DESCRIPTION:
LOCATION:
SUMMARY:Crafting Club - A Team
END:VEVENT
BEGIN:VEVENT
DTSTAMP:20260425T203228Z
UID:2c32a212-b1ad-4463-a016-41d2deb98d19
DTSTART:20260428T144500
DTEND:20260428T161500
DESCRIPTION:
LOCATION:
SUMMARY:Drama Club
END:VEVENT
BEGIN:VEVENT
DTSTAMP:20260425T203228Z
UID:3849a8d3-2de0-47cd-8228-85835e88d8f2
DTSTART:20260428T144500
DTEND:20260428T154500
DESCRIPTION:
LOCATION:
SUMMARY:E-Sports 
END:VEVENT
BEGIN:VEVENT
DTSTAMP:20260425T203228Z
UID:5c00530e-e477-4c4a-bd9c-a3abde5f8523
DTSTART:20260428T173000
DTEND:20260428T193000
DESCRIPTION:
LOCATION:Putnam City High School\, 5300 NW 50th St\, Oklahoma City\, OK 731
 22\, USA
SUMMARY:Soccer vs DOVE
END:VEVENT
BEGIN:VEVENT
DTSTAMP:20260425T203228Z
UID:26e501ec-3a97-4c09-b776-9e69493d7ed6
DTSTART:20260429T144500
DTEND:20260429T160000
DESCRIPTION:
LOCATION:
SUMMARY:Cheer Practice
END:VEVENT
BEGIN:VEVENT
DTSTAMP:20260425T203228Z
UID:acc1f5c0-ca0f-49af-8330-70e92e7de08e
DTSTART:20260429T144500
DTEND:20260429T154500
DESCRIPTION:
LOCATION:
SUMMARY:Guitar Club
END:VEVENT
BEGIN:VEVENT
DTSTAMP:20260425T203228Z
UID:0857dcfe-af23-489d-bdd5-36a797077110
DTSTART:20260430T143000
DTEND:20260430T153000
DESCRIPTION:
LOCATION:
SUMMARY:Crafting Club - B Team
END:VEVENT
BEGIN:VEVENT
DTSTAMP:20260425T203228Z
UID:4e5e3e69-1b62-4207-9219-79c95c450c03
DTSTART:20260430T144500
DTEND:20260430T161500
DESCRIPTION:
LOCATION:
SUMMARY:Drama Club
END:VEVENT
BEGIN:VEVENT
DTSTAMP:20260425T203228Z
UID:9c17aa21-49cf-4bfa-8bea-ca9a2b67f0ee
DTSTART:20260430T144500
DTEND:20260430T154500
DESCRIPTION:
LOCATION:
SUMMARY:E-Sports 
END:VEVENT
BEGIN:VEVENT
DTSTAMP:20260425T203228Z
UID:92d42827-a63a-4508-a927-e2cfb2f66d18
DTSTART:20260430T144500
DTEND:20260430T163000
DESCRIPTION:
LOCATION:
SUMMARY:Golf Practice
END:VEVENT
BEGIN:VEVENT
DTSTAMP:20260425T203228Z
UID:74df370b-6dbc-48d9-b1c9-83fa7e4214c5
DTSTART:20260430T144500
DTEND:20260430T155500
DESCRIPTION:
LOCATION:
SUMMARY:Science Olympiad
END:VEVENT
BEGIN:VEVENT
DTSTAMP:20260425T203228Z
UID:acc8d9d4-cda4-4276-901e-13c2b0695921
DTSTART:20260501T144500
DTEND:20260501T160000
DESCRIPTION:
LOCATION:
SUMMARY:Cheer Practice
END:VEVENT
BEGIN:VEVENT
DTSTAMP:20260425T203228Z
UID:fef5f871-c33e-46f9-9329-7c4a1126e8b3
DTSTART:20260501T144500
DTEND:20260501T154500
DESCRIPTION:
LOCATION:
SUMMARY:Tabletop Game Club
END:VEVENT
BEGIN:VEVENT
DTSTAMP:20260425T203228Z
UID:46e91586-495c-4b7e-8fb7-ccf450e8526a
DTSTART:20260504T143000
DTEND:20260504T153000
DESCRIPTION:
LOCATION:
SUMMARY:Bible Club
END:VEVENT
BEGIN:VEVENT
DTSTAMP:20260425T203228Z
UID:21618b4d-d504-4c7c-835f-897f4b5f5b32
DTSTART:20260504T173000
DTEND:20260504T193000
DESCRIPTION:
LOCATION:Putnam City High School\, 5300 NW 50th St\, Oklahoma City\, OK 731
 22\, USA
SUMMARY:Soccer vs MWC
END:VEVENT
BEGIN:VEVENT
DTSTAMP:20260425T203228Z
UID:bf6b69c9-0430-46df-88c1-1eae4aef1ea6
DTSTART:20260505T143000
DTEND:20260505T153000
DESCRIPTION:
LOCATION:
SUMMARY:Crafting Club - A Team
END:VEVENT
BEGIN:VEVENT
DTSTAMP:20260425T203228Z
UID:6e7a6641-5d55-46f3-82c3-b420f6b6fab4
DTSTART:20260505T144500
DTEND:20260505T154500
DESCRIPTION:
LOCATION:
SUMMARY:E-Sports 
END:VEVENT
BEGIN:VEVENT
DTSTAMP:20260425T203228Z
UID:d28d5c8a-7d13-44da-9b5d-a0a4ee081e85
DTSTART:20260505T144500
DTEND:20260505T160000
DESCRIPTION:Meeting every other week
LOCATION:James L. Capps Middle School\, 6400 NW 63rd St\, Warr Acres\, OK 7
 3132\, USA
SUMMARY:K-Pop
END:VEVENT
BEGIN:VEVENT
DTSTAMP:20260425T203228Z
UID:60e84216-9a60-4cee-baa5-2cd57fe74556
DTSTART:20260506T144500
DTEND:20260506T160000
DESCRIPTION:
LOCATION:
SUMMARY:Cheer Practice
END:VEVENT
BEGIN:VEVENT
DTSTAMP:20260425T203228Z
UID:935ce5df-9646-4255-b3b8-ff25bab5f799
DTSTART:20260506T144500
DTEND:20260506T154500
DESCRIPTION:
LOCATION:
SUMMARY:Guitar Club
END:VEVENT
BEGIN:VEVENT
DTSTAMP:20260425T203228Z
UID:b33e6716-2028-40ac-90b3-8d879938e41a
DTSTART:20260507T144500
DTEND:20260507T154500
DESCRIPTION:
LOCATION:
SUMMARY:E-Sports 
END:VEVENT
BEGIN:VEVENT
DTSTAMP:20260425T203228Z
UID:3e0f62f5-fff6-47b8-b80c-038045094439
DTSTART:20260507T144500
DTEND:20260507T155500
DESCRIPTION:
LOCATION:
SUMMARY:Science Olympiad
END:VEVENT
BEGIN:VEVENT
DTSTAMP:20260425T203228Z
UID:320b3aec-a6f3-4ef2-a139-d24daf315a9a
DTSTART:20260508T144500
DTEND:20260508T160000
DESCRIPTION:
LOCATION:
SUMMARY:Cheer Practice
END:VEVENT
BEGIN:VEVENT
DTSTAMP:20260425T203228Z
UID:d9f9b818-c01b-429e-906d-ae0028c41892
DTSTART:20260508T144500
DTEND:20260508T154500
DESCRIPTION:
LOCATION:
SUMMARY:Tabletop Game Club
END:VEVENT
BEGIN:VEVENT
DTSTAMP:20260425T203228Z
UID:71d00d4e-3e7d-4e7e-a2d2-31927699e788
DTSTART:20260512T183000
DTEND:20260512T190000
DESCRIPTION:
LOCATION:
SUMMARY:Choir Concert
END:VEVENT
BEGIN:VEVENT
DTSTAMP:20260425T203228Z
UID:5071810e-07da-4837-9d58-09e1635108ef
DTSTART:20260513T144500
DTEND:20260513T160000
DESCRIPTION:
LOCATION:
SUMMARY:Cheer Practice
END:VEVENT
BEGIN:VEVENT
DTSTAMP:20260425T203228Z
UID:24a762f1-83ec-4870-bf5d-482a2d6cab0a
DTSTART:20260513T144500
DTEND:20260513T154500
DESCRIPTION:
LOCATION:
SUMMARY:Guitar Club
END:VEVENT
BEGIN:VEVENT
DTSTAMP:20260425T203228Z
UID:150d85b5-f490-421c-92a5-2879746c4270
DTSTART:20260515T144500
DTEND:20260515T160000
DESCRIPTION:
LOCATION:
SUMMARY:Cheer Practice
END:VEVENT
BEGIN:VEVENT
DTSTAMP:20260425T203228Z
UID:a571a770-b796-4872-ac71-b8c00842ea20
DTSTART:20260515T144500
DTEND:20260515T154500
DESCRIPTION:
LOCATION:
SUMMARY:Tabletop Game Club
END:VEVENT
BEGIN:VEVENT
DTSTAMP:20260425T203228Z
UID:4c294c6e-fe58-46e9-a333-2e9192cc10ae
DTSTART;VALUE=DATE:20260521
DTEND;VALUE=DATE:20260522
DESCRIPTION:
LOCATION:
SUMMARY:Last Day of School
END:VEVENT
END:VCALENDAR
